﻿BEGIN:VCALENDAR
VERSION:2.0
PRODID:-//Kwan Um School Of Zen Europe - ECPv6.15.17.1//NONSGML v1.0//EN
CALSCALE:GREGORIAN
METHOD:PUBLISH
X-WR-CALNAME:Kwan Um School Of Zen Europe
X-ORIGINAL-URL:https://www.kwanumeurope.org
X-WR-CALDESC:Events for Kwan Um School Of Zen Europe
REFRESH-INTERVAL;VALUE=DURATION:PT1H
X-Robots-Tag:noindex
X-PUBLISHED-TTL:PT1H
BEGIN:VTIMEZONE
TZID:Europe/London
BEGIN:DAYLIGHT
TZOFFSETFROM:+0000
TZOFFSETTO:+0100
TZNAME:BST
DTSTART:20170326T010000
END:DAYLIGHT
BEGIN:STANDARD
TZOFFSETFROM:+0100
TZOFFSETTO:+0000
TZNAME:GMT
DTSTART:20171029T010000
END:STANDARD
BEGIN:DAYLIGHT
TZOFFSETFROM:+0000
TZOFFSETTO:+0100
TZNAME:BST
DTSTART:20180325T010000
END:DAYLIGHT
BEGIN:STANDARD
TZOFFSETFROM:+0100
TZOFFSETTO:+0000
TZNAME:GMT
DTSTART:20181028T010000
END:STANDARD
BEGIN:DAYLIGHT
TZOFFSETFROM:+0000
TZOFFSETTO:+0100
TZNAME:BST
DTSTART:20190331T010000
END:DAYLIGHT
BEGIN:STANDARD
TZOFFSETFROM:+0100
TZOFFSETTO:+0000
TZNAME:GMT
DTSTART:20191027T010000
END:STANDARD
END:VTIMEZONE
BEGIN:VEVENT
DTSTART;TZID=Europe/London:20180106T183000
DTEND;TZID=Europe/London:20180324T090000
DTSTAMP:20260419T213638
CREATED:20170926T160917Z
LAST-MODIFIED:20170926T160917Z
UID:10114-1515263400-1521882000@www.kwanumeurope.org
SUMMARY:Winter Kyol Che 2018
DESCRIPTION:Winter Kyol Che 2018 at Wu Bong Sa temple\, Warsaw Zen Center \n\nLed by  Kwan Um School of Zen teachers.\nRuns from 06 January to 24 March 2018\nDharma talks once a week and kong-an interviews twice a week\nEnter Kyol Che each week on Saturday between 17:30 and 18:30 and exit on consecutive Saturday before 17:00.\n\n>REGISTER HERE< \nThe following teachers will lead the retreat: \n1.  06.01 – 13.01 Arne Schaefer JDPSN\n2.  13.01 – 20.01 Yuval Gill JDPSN (II entry for beginners: 18.01\, 18:30)\n3.  20.01 – 27.01 Koen Vermeulen JDPSN\n4.  27.01 – 03.02 Ji Kwang SSN (II entry: 01.02\, 18:30)\n5.  03.02 – 10.02 Knud Rosenmayr JDPSN\n6.  10.02 – 17.02 Ja An JDPSN\n7.   17.02 – 24.02 Gu Ja SSN (II entry: 22.02\, 18:30)\n8.   24.02 – 03.03 Olek Suk JDPSN\n9.   03.03 – 10.03 Alma Potter JDPSN\n10.  10.03 – 17.03 Joeng Hye SSN\n11.   17.03 – 24.03 Bon Shim SSN (II entry: 22.03\, 18:30) \n24.03 Precepts Ceremony with Zen Master Jeong Hye \nWe wish to draw your attention to the fact we have four second entries this Kyolche happening in the middle of the week – for those of you who can come only for shorter periods. We would like to ensure everyone that Kyolche atmosphere will be focused and we ask for your help by not applying for other dates and hours than the listed above. If you must arrive on a different day\, the only exception can be your flight connection. In such case\, contact the Wu Bong Sa office before booking your flight to confirm. Also\, if you need to arrive after 22:00 (lights out)\, we can assist you with finding a suitable hotel nearby. Thank you for your understanding. \nKyol Che fees (Dharma Teachers/members/non-members): \nKyol Che 2 days 170/200/230 zł       (40/45/55 Euro)\nKyol Che 1 week 500/570/680 zł        (125/145/170 Euro)\nKyol Che 2 weeks 950/1100/1300 zł     (240/275/325 Euro)\nKyol Che 3 weeks 1450/1600/1900 zł     (365/400/475 Euro)\nKyol Che 4 weeks 1900/2100/2500 zł      (475/525/625 Euro)\nEach additional week 475/525/625 zł      (120/130/160 Euro)\nTotal  5250/5700/6900 zł           (1320/1450/1760 Euro) \nWe encourage everyone to participate in Kyol Che not only through sitting practice but also through the practice of Danaparamita and funding scholarships. Thanks to your donations other people can join Kyol Che at reduced costs. Each 20 euro you pay is a one-day scholarship for other participants. If you are facing financial challenges\, contact us at kwanum@zen.pl and if you would like to support our Kyol Che Discount Fund\, here are the bank details. We also encourage you to pay more than the regular price. Thank you!\nStudents\, retirees\, temporarily unemployed seeking for work\, disabled people and school children if they are assisted by parents sitting the same retreat in a difficult financial situation and wishing to sit at least two weeks of retreat during Kyolche can also apply for a scholarship funded by KUSZ/E Council. Please provide your Guiding Teacher’s recommendation to comms@kwanumeurope.org and if you are our School’s member you can receive up to 50% discount. \nAddress: ul. Małowiejska 24\, 04-962 Warszawa-Falenica\, Poland. More info on how to get here on our webpage \nPlease bring your sleeping bags\, towels (you can rent them for an extra fee in Wu Bong Sa Temple) warm socks\, which we use in the Dharma Room\, loose trousers reaching your ankles for sitting meditation and personal medicine set in case you catch a cold. All participants are obliged to arrive with valid medical insurance. \nWatch on YouTube invitation for Kyolche from Bon Shim SSN and TAKE A CHANCE! \nRules: \nRetreat participants will be asked to give away and deposit their mobile phones and all electronic device in a safe place. For important reasons it’s possible to send text messages do participants using temple phone numbers: +48 537845487 and +48 607454208. \nDuring retreats we provide mostly vegan meals. Eggs and diary products (yoghurt\, cheese) are served separately. Kitchen can only follow (with an extra payment for preparing special meals) restrictions regarding diets prescribed by medical doctors for people with celiac disease and/or lactose intolerance. All other dietary habits or decisions should be suspended for the duration of the retreat. There is no possibility to use kitchen by retreat participants. \nThank you for your understanding and help in creating harmonious and dictraction free atmosphere during the retreat. \nPlease make sure you read all Kyol Che rules on our webpage \n>REGISTER HERE< \nKITCHEN MASTER AND DHARMA TEACHER WANTED!\nWe are looking Kitchen Master for chosen weeks of Winter Kyol Che 2018. Job description for Kitchen Master includes – an ability to cock for groups and speak basic English. Kitchen Master participates in the retreat for free. Contact:  kwanum@zen.pl. \nFor more information please contact:\nTel. +48(22) 872 05 52\, +48 537845487\, or email kwanum@zen.pl.
URL:https://www.kwanumeurope.org/event/4643-2/
LOCATION:Wu Bong Sa\, Warsaw\, Małowiejska 24\, Warszawa\, Poland
CATEGORIES:Kyol Che,Major Events
ATTACH;FMTTYPE=image/jpeg:https://www.kwanumeurope.org/wp-content/uploads/2017/09/Winter-Kyol-Che-FB-socialmedia-Horizontal-04-1.jpg
ORGANIZER;CN="Hae In":MAILTO:kwanum@zen.pl
GEO:52.162307;21.19754
X-APPLE-STRUCTURED-LOCATION;VALUE=URI;X-ADDRESS=Wu Bong Sa Warsaw Małowiejska 24 Warszawa Poland;X-APPLE-RADIUS=500;X-TITLE=Małowiejska 24:geo:21.19754,52.162307
END:VEVENT
END:VCALENDAR