﻿BEGIN:VCALENDAR
VERSION:2.0
PRODID:-//Kwan Um School Of Zen Europe - ECPv6.15.17.1//NONSGML v1.0//EN
CALSCALE:GREGORIAN
METHOD:PUBLISH
X-WR-CALNAME:Kwan Um School Of Zen Europe
X-ORIGINAL-URL:https://www.kwanumeurope.org
X-WR-CALDESC:Events for Kwan Um School Of Zen Europe
REFRESH-INTERVAL;VALUE=DURATION:PT1H
X-Robots-Tag:noindex
X-PUBLISHED-TTL:PT1H
BEGIN:VTIMEZONE
TZID:Europe/Madrid
BEGIN:DAYLIGHT
TZOFFSETFROM:+0100
TZOFFSETTO:+0200
TZNAME:CEST
DTSTART:20240331T010000
END:DAYLIGHT
BEGIN:STANDARD
TZOFFSETFROM:+0200
TZOFFSETTO:+0100
TZNAME:CET
DTSTART:20241027T010000
END:STANDARD
BEGIN:DAYLIGHT
TZOFFSETFROM:+0100
TZOFFSETTO:+0200
TZNAME:CEST
DTSTART:20250330T010000
END:DAYLIGHT
BEGIN:STANDARD
TZOFFSETFROM:+0200
TZOFFSETTO:+0100
TZNAME:CET
DTSTART:20251026T010000
END:STANDARD
BEGIN:DAYLIGHT
TZOFFSETFROM:+0100
TZOFFSETTO:+0200
TZNAME:CEST
DTSTART:20260329T010000
END:DAYLIGHT
BEGIN:STANDARD
TZOFFSETFROM:+0200
TZOFFSETTO:+0100
TZNAME:CET
DTSTART:20261025T010000
END:STANDARD
END:VTIMEZONE
BEGIN:VEVENT
DTSTART;TZID=Europe/Madrid:20250920T200000
DTEND;TZID=Europe/Madrid:20250927T170000
DTSTAMP:20260421T010934
CREATED:20250227T144246Z
LAST-MODIFIED:20250227T144413Z
UID:14074-1758398400-1758992400@www.kwanumeurope.org
SUMMARY:7 days Kwan Se Um Bosal kido\, led by Won Bo Sunim
DESCRIPTION:Kido: energy path (Chanting retreat) \n7 days Kwan Se Um Bosal kido\, led by Won Bo Sunim \nSeptember 21 to 27\, arrival Saturday 20 evening (7 days\, possibility to attend odd days). \nTraditional Korean-style kido for seven days\, day and night\, non-stop (possibility to attend odd days). \nThe main instruments will be our voices and one moktak. We will rotate the moktak among participants and try to join the kido as much as we can. Outside of the kido we will maintain complete silence. There will be formal meals (breakfast and lunch) and a short work period. Anyone can join any time\, from one week to only few hours. \nThe retreat is in our Mountain Zen Center located in the middle of nature\, in the Alta Garrotxa Natural Park (Spain). \nMore information and registration:\n \nhttps://boricentro.kwanumzen.es/event/7-days-kwan-se-um-bosal-kido-possibility-to-attend-odd-days/?lang=en \nWon Bo Sunim\, started practicing in 1997 at the Vilnius Zen Center in Lithuania. Moved to Korea and joined the Hwa Gye Sa temple in 2000\, becoming a novice nun in 2002. Attended a traditional Sutra school from 2003 to 2007 and was fully ordained in the Jogye Order in 2007. Participated in Kyolches in traditional Korean Zen halls and at Mu Sang Sa temple. Completed three years of kido at Poep Ryon Sa temple.
URL:https://www.kwanumeurope.org/event/7-days-kwan-se-um-bosal-kido-led-by-won-bo-sunim/
LOCATION:Bori Sa\, (Mas Puli) Sales de Llierca \, Alta Garrotxa\, Girona\, 17853\, Spain
CATEGORIES:Kido chanting retreat
ATTACH;FMTTYPE=image/jpeg:https://www.kwanumeurope.org/wp-content/uploads/2025/02/WON_BO_SN.jpg
GEO:42.2484479;2.6291242
X-APPLE-STRUCTURED-LOCATION;VALUE=URI;X-ADDRESS=Bori Sa (Mas Puli) Sales de Llierca  Alta Garrotxa Girona 17853 Spain;X-APPLE-RADIUS=500;X-TITLE=(Mas Puli) Sales de Llierca:geo:2.6291242,42.2484479
END:VEVENT
END:VCALENDAR