﻿BEGIN:VCALENDAR
VERSION:2.0
PRODID:-//Kwan Um School Of Zen Europe - ECPv6.15.17.1//NONSGML v1.0//EN
CALSCALE:GREGORIAN
METHOD:PUBLISH
X-WR-CALNAME:Kwan Um School Of Zen Europe
X-ORIGINAL-URL:https://www.kwanumeurope.org
X-WR-CALDESC:Events for Kwan Um School Of Zen Europe
REFRESH-INTERVAL;VALUE=DURATION:PT1H
X-Robots-Tag:noindex
X-PUBLISHED-TTL:PT1H
BEGIN:VTIMEZONE
TZID:Europe/London
BEGIN:DAYLIGHT
TZOFFSETFROM:+0000
TZOFFSETTO:+0100
TZNAME:BST
DTSTART:20170326T010000
END:DAYLIGHT
BEGIN:STANDARD
TZOFFSETFROM:+0100
TZOFFSETTO:+0000
TZNAME:GMT
DTSTART:20171029T010000
END:STANDARD
BEGIN:DAYLIGHT
TZOFFSETFROM:+0000
TZOFFSETTO:+0100
TZNAME:BST
DTSTART:20180325T010000
END:DAYLIGHT
BEGIN:STANDARD
TZOFFSETFROM:+0100
TZOFFSETTO:+0000
TZNAME:GMT
DTSTART:20181028T010000
END:STANDARD
BEGIN:DAYLIGHT
TZOFFSETFROM:+0000
TZOFFSETTO:+0100
TZNAME:BST
DTSTART:20190331T010000
END:DAYLIGHT
BEGIN:STANDARD
TZOFFSETFROM:+0100
TZOFFSETTO:+0000
TZNAME:GMT
DTSTART:20191027T010000
END:STANDARD
END:VTIMEZONE
BEGIN:VEVENT
DTSTART;TZID=Europe/London:20181109T180000
DTEND;TZID=Europe/London:20181109T200000
DTSTAMP:20260420T035632
CREATED:20181001T090741Z
LAST-MODIFIED:20181001T090741Z
UID:5026-1541786400-1541793600@www.kwanumeurope.org
SUMMARY:Dharma Talk in London with Zen Master Ji Kwang
DESCRIPTION:Dharma talk by Zen MASTER Ji Kwang organised by London Zen Centre  will tak place in North London in local avenue on Friday 9th November at 6pm.The avenue will be either updated or\n please contact for more details and updating about even sending email to zen.london@hotmail.co.uk or call(+44)7742979050
URL:https://www.kwanumeurope.org/event/dharma-talk-london-zen-master-ji-kwang/
LOCATION:London Zen Centre\, Ilex House Crouch Hill\, London\, N44BY\, United Kingdom
ORGANIZER;CN="London Zen Centre":MAILTO:london.zen.kwanum@gmail.com
END:VEVENT
END:VCALENDAR