﻿BEGIN:VCALENDAR
VERSION:2.0
PRODID:-//Kwan Um School Of Zen Europe - ECPv6.15.17.1//NONSGML v1.0//EN
CALSCALE:GREGORIAN
METHOD:PUBLISH
X-WR-CALNAME:Kwan Um School Of Zen Europe
X-ORIGINAL-URL:https://www.kwanumeurope.org
X-WR-CALDESC:Events for Kwan Um School Of Zen Europe
REFRESH-INTERVAL;VALUE=DURATION:PT1H
X-Robots-Tag:noindex
X-PUBLISHED-TTL:PT1H
BEGIN:VTIMEZONE
TZID:Europe/London
BEGIN:DAYLIGHT
TZOFFSETFROM:+0000
TZOFFSETTO:+0100
TZNAME:BST
DTSTART:20200329T010000
END:DAYLIGHT
BEGIN:STANDARD
TZOFFSETFROM:+0100
TZOFFSETTO:+0000
TZNAME:GMT
DTSTART:20201025T010000
END:STANDARD
BEGIN:DAYLIGHT
TZOFFSETFROM:+0000
TZOFFSETTO:+0100
TZNAME:BST
DTSTART:20210328T010000
END:DAYLIGHT
BEGIN:STANDARD
TZOFFSETFROM:+0100
TZOFFSETTO:+0000
TZNAME:GMT
DTSTART:20211031T010000
END:STANDARD
BEGIN:DAYLIGHT
TZOFFSETFROM:+0000
TZOFFSETTO:+0100
TZNAME:BST
DTSTART:20220327T010000
END:DAYLIGHT
BEGIN:STANDARD
TZOFFSETFROM:+0100
TZOFFSETTO:+0000
TZNAME:GMT
DTSTART:20221030T010000
END:STANDARD
END:VTIMEZONE
BEGIN:VEVENT
DTSTART;TZID=Europe/London:20210828T140000
DTEND;TZID=Europe/London:20210904T110000
DTSTAMP:20260421T194743
CREATED:20210601T071518Z
LAST-MODIFIED:20210601T071518Z
UID:11886-1630159200-1630753200@www.kwanumeurope.org
SUMMARY:Kyol Che Week 13 London Zen Centre and York Zen Group
DESCRIPTION:28.8-4.9\n\n\nLondon Zen Centre and York Zen Group \n \nDharma Master Lizzie Coombs \nLong Description\nDharma Master Bogumila Malinowska \n \nFees: £15/day in person\, £10/day or £50/week online. \nContact:\nkuszyork@gmail.com\nlondon.zen.kwanum@gmail.com \nMore info about Summer Retreat Program 2021: https://www.kwanumeurope.org/srp2021/
URL:https://www.kwanumeurope.org/event/kyol-che-week-13-london-zen-centre-and-york-zen-group-3/
LOCATION:York Zen Group\, United Kingdom
CATEGORIES:Kyol Che,Summer Retreat Program
ORGANIZER;CN="London Zen Centre":MAILTO:london.zen.kwanum@gmail.com
END:VEVENT
END:VCALENDAR