﻿BEGIN:VCALENDAR
VERSION:2.0
PRODID:-//Kwan Um School Of Zen Europe - ECPv6.15.17.1//NONSGML v1.0//EN
CALSCALE:GREGORIAN
METHOD:PUBLISH
X-WR-CALNAME:Kwan Um School Of Zen Europe
X-ORIGINAL-URL:https://www.kwanumeurope.org
X-WR-CALDESC:Events for Kwan Um School Of Zen Europe
REFRESH-INTERVAL;VALUE=DURATION:PT1H
X-Robots-Tag:noindex
X-PUBLISHED-TTL:PT1H
BEGIN:VTIMEZONE
TZID:Europe/London
BEGIN:DAYLIGHT
TZOFFSETFROM:+0000
TZOFFSETTO:+0100
TZNAME:BST
DTSTART:20200329T010000
END:DAYLIGHT
BEGIN:STANDARD
TZOFFSETFROM:+0100
TZOFFSETTO:+0000
TZNAME:GMT
DTSTART:20201025T010000
END:STANDARD
BEGIN:DAYLIGHT
TZOFFSETFROM:+0000
TZOFFSETTO:+0100
TZNAME:BST
DTSTART:20210328T010000
END:DAYLIGHT
BEGIN:STANDARD
TZOFFSETFROM:+0100
TZOFFSETTO:+0000
TZNAME:GMT
DTSTART:20211031T010000
END:STANDARD
BEGIN:DAYLIGHT
TZOFFSETFROM:+0000
TZOFFSETTO:+0100
TZNAME:BST
DTSTART:20220327T010000
END:DAYLIGHT
BEGIN:STANDARD
TZOFFSETFROM:+0100
TZOFFSETTO:+0000
TZNAME:GMT
DTSTART:20221030T010000
END:STANDARD
END:VTIMEZONE
BEGIN:VEVENT
DTSTART;TZID=Europe/London:20211219T080000
DTEND;TZID=Europe/London:20211219T110000
DTSTAMP:20260422T052936
CREATED:20211115T120951Z
LAST-MODIFIED:20211115T120951Z
UID:11901-1639900800-1639911600@www.kwanumeurope.org
SUMMARY:Maha Sangha - Online event
DESCRIPTION:Dear friends in the Dharma\, The month of December is the month of love and compassion. It is a really special time for us to come together — especially now when the Corona Virus is affecting everyone’s health and lockdowns are making it impossible to come together face to face as it is traditionally done. \n\n\n\n\n\n\nThe Teachers of the Kwan Um School of Zen Europe invite all practitioners\, not only in the European Sangha but also from around the world\, to join a special online Zoom Zen Practice. \n\nThe schedule\n\nWe start 08:00 CET time \n\n\n\n\n\n8:00 Start \n8:05 108 Bows \n8:30 Dedicated chanting Kwan Seum Bosal \n8:55 2 x 30 minutes Zen meditation (with 5 minutes break in between) \n10:00 Dharma talk \n10:20 Open space for questions and answers. \n11:00 Four Great Vows and End.  
URL:https://www.kwanumeurope.org/event/maha-sangha-online-event-4/
ATTACH;FMTTYPE=image/png:https://www.kwanumeurope.org/wp-content/uploads/2021/11/Maha-December-1.png
END:VEVENT
END:VCALENDAR