﻿BEGIN:VCALENDAR
VERSION:2.0
PRODID:-//Kwan Um School Of Zen Europe - ECPv6.15.17.1//NONSGML v1.0//EN
CALSCALE:GREGORIAN
METHOD:PUBLISH
X-WR-CALNAME:Kwan Um School Of Zen Europe
X-ORIGINAL-URL:https://www.kwanumeurope.org
X-WR-CALDESC:Events for Kwan Um School Of Zen Europe
REFRESH-INTERVAL;VALUE=DURATION:PT1H
X-Robots-Tag:noindex
X-PUBLISHED-TTL:PT1H
BEGIN:VTIMEZONE
TZID:Europe/London
BEGIN:DAYLIGHT
TZOFFSETFROM:+0000
TZOFFSETTO:+0100
TZNAME:BST
DTSTART:20190331T010000
END:DAYLIGHT
BEGIN:STANDARD
TZOFFSETFROM:+0100
TZOFFSETTO:+0000
TZNAME:GMT
DTSTART:20191027T010000
END:STANDARD
BEGIN:DAYLIGHT
TZOFFSETFROM:+0000
TZOFFSETTO:+0100
TZNAME:BST
DTSTART:20200329T010000
END:DAYLIGHT
BEGIN:STANDARD
TZOFFSETFROM:+0100
TZOFFSETTO:+0000
TZNAME:GMT
DTSTART:20201025T010000
END:STANDARD
BEGIN:DAYLIGHT
TZOFFSETFROM:+0000
TZOFFSETTO:+0100
TZNAME:BST
DTSTART:20210328T010000
END:DAYLIGHT
BEGIN:STANDARD
TZOFFSETFROM:+0100
TZOFFSETTO:+0000
TZNAME:GMT
DTSTART:20211031T010000
END:STANDARD
END:VTIMEZONE
BEGIN:VEVENT
DTSTART;TZID=Europe/London:20201219T080000
DTEND;TZID=Europe/London:20201219T230000
DTSTAMP:20260419T182203
CREATED:20201118T101643Z
LAST-MODIFIED:20201118T101643Z
UID:11866-1608364800-1608418800@www.kwanumeurope.org
SUMMARY:Maha Sangha Saturdays in December
DESCRIPTION:Dear friends in the Dharma\, \n  \nThe month of December is the month of love and compassion.  It is a really special time for us to come together — especially now when the Corona Virus is affecting everyone’s health and lockdowns are making it impossible to come together face to face as it is traditionally done.  \n  \nThe teachers of the Kwan Um School of Zen Europe invite all practitioners\, not only in the European Sangha but also from around the world\, to join a special online Zoom Zen Practice on the following Saturday mornings: \nDec. 5th with Opening speech: ZM Bon Shim with Dharma talk:  ZM Hyon Ja \nDec. 12th with Dharma talk:  ZM Ji Kwang \nDec. 19th with Dharma talk:  ZM Gu Ja with Closing speech: ZM Bon Shim \n  \nOur schedule for each of these Saturday mornings in CET time: \n8:00  Start \n8:05  108 Bows \n8:30  Dedicated chanting Kwan Seum Bosal \n8:55  2 x 30 minutes Zen meditation (with 5 minutes break in between) \n10:00  Dharma talk \n10:20  Open space for questions and answers. \n11:00  Four Great Vows and End. \n  \nLet us practice together and bring the light of our clear minds into the lives of all around us!   \nIn the Dharma with much love \n  \nBon Shim\, Ji Kwang\, Gu Ja \, Hyon Ja\, Bogumila JDPS\, Arne JDPS\, Koen JDPS\, Yuval JDPS\, Knud JDPS\, Tolo JDPS \n  \nJoin Zoom Meeting: https://us02web.zoom.us/j/84813555138?pwd=UEJlSTdTUE56MFN0S1lUK2tZUlhkZz09 \nMeeting ID: 848 1355 5138\nPasscode: Zen108 \nFees for attending:  In the spirit of the month of giving\, please donate either to your favorite non-profit charity or you can also choose to donate to the European Kwan Um School of Zen\, which actively supports students to attend retreats or Zen events. Kwan Um School of Zen / IBAN: DE59 100500 000 190502142/ SWIFT: BELADEBEXXX \n 
URL:https://www.kwanumeurope.org/event/maha-sangha-saturdays-in-december-3-3/
LOCATION:online
END:VEVENT
END:VCALENDAR