﻿BEGIN:VCALENDAR
VERSION:2.0
PRODID:-//Kwan Um School Of Zen Europe - ECPv6.15.17.1//NONSGML v1.0//EN
CALSCALE:GREGORIAN
METHOD:PUBLISH
X-WR-CALNAME:Kwan Um School Of Zen Europe
X-ORIGINAL-URL:https://www.kwanumeurope.org
X-WR-CALDESC:Events for Kwan Um School Of Zen Europe
REFRESH-INTERVAL;VALUE=DURATION:PT1H
X-Robots-Tag:noindex
X-PUBLISHED-TTL:PT1H
BEGIN:VTIMEZONE
TZID:Europe/London
BEGIN:DAYLIGHT
TZOFFSETFROM:+0000
TZOFFSETTO:+0100
TZNAME:BST
DTSTART:20180325T010000
END:DAYLIGHT
BEGIN:STANDARD
TZOFFSETFROM:+0100
TZOFFSETTO:+0000
TZNAME:GMT
DTSTART:20181028T010000
END:STANDARD
BEGIN:DAYLIGHT
TZOFFSETFROM:+0000
TZOFFSETTO:+0100
TZNAME:BST
DTSTART:20190331T010000
END:DAYLIGHT
BEGIN:STANDARD
TZOFFSETFROM:+0100
TZOFFSETTO:+0000
TZNAME:GMT
DTSTART:20191027T010000
END:STANDARD
BEGIN:DAYLIGHT
TZOFFSETFROM:+0000
TZOFFSETTO:+0100
TZNAME:BST
DTSTART:20200329T010000
END:DAYLIGHT
BEGIN:STANDARD
TZOFFSETFROM:+0100
TZOFFSETTO:+0000
TZNAME:GMT
DTSTART:20201025T010000
END:STANDARD
END:VTIMEZONE
BEGIN:VEVENT
DTSTART;VALUE=DATE:20190831
DTEND;VALUE=DATE:20190902
DTSTAMP:20260419T181140
CREATED:20190208T093509Z
LAST-MODIFIED:20190208T093509Z
UID:11788-1567209600-1567382399@www.kwanumeurope.org
SUMMARY:Meeting of Members 2019
DESCRIPTION:Dear Sangha\, \nWe’re happy to invite you to our Annual Meeting of Members and European Sangha Weekend\, which will take place from 31 August to 1 September 2019 in Borisa\, Spain. \nMeeting of Members: Sunday\, 01.09.2019 11:00. \nLEARN MORE AND APPLY FOR SANGHA WEEKEND HERE \n\nSee the MoM agenda and Reports UPDATED!  \n \nWe invite all Zen Centers and Groups to join the Meeting of Members (MoM) by choosing their representatives.  Let your abbess/abbot/group director know if you want to add more topics to the Agenda and they will let us know. \n\nBefore 1st of July: Council’s and European Office’s action report and Financial Report (UPDATED HERE!) will be published here\nBefore 15th of July: Abbesses/abbots/group directors can add subjects to the agenda by sending them to European Office (comms@kwanumeurope.org)\n\nBefore 25th of August: Please organize your local Sangha meetings and choose a representative to vote and speak up for your Sangha during the MoM at your local Sangha meetings and send the information to comms@kwanumeurope.org:\n\n(1) name of the representative and which local Sangha do you represent\n(2) how many members you currently have. \n Teachers (JDPSN\, SSN) can serve as representatives in case no student is attending. The teachers can choose a representative but this representative can represent one teacher only. According to our bylaws\, you can choose your representative in any way you wish (discussion\, vote\, etc.)\, but the representative has to be approved by your guiding teacher. You are entitled to choose your guiding teacher or a person from another Zen Center or Group\, in case no one from your Sangha will attend the event. Representatives can represent up to 5 center and groups. \n  \nIMPORTANT – TRANSPORTATION \nThis year Sangha Weekend takes place in the mountains of Spain\, therfore it might be difficult to get there. Organizers are asking to think about transportation ahead of time and to group yourselves to rent and share cars. There is a facebook post here and car sharing file here\, where you can publish your transportation plans for others. \n  \nYours in the Dharma\,\nCouncil KUSZ/E\nEuropean Office
URL:https://www.kwanumeurope.org/event/mom2019-3/
LOCATION:Bori Sa\, (Mas Puli) Sales de Llierca \, Alta Garrotxa\, Girona\, 17853\, Spain
ATTACH;FMTTYPE=image/jpeg:https://www.kwanumeurope.org/wp-content/uploads/2019/02/sangha_weekend_2-1030x687-1.jpg
GEO:42.2484479;2.6291242
X-APPLE-STRUCTURED-LOCATION;VALUE=URI;X-ADDRESS=Bori Sa (Mas Puli) Sales de Llierca  Alta Garrotxa Girona 17853 Spain;X-APPLE-RADIUS=500;X-TITLE=(Mas Puli) Sales de Llierca:geo:2.6291242,42.2484479
END:VEVENT
END:VCALENDAR