﻿BEGIN:VCALENDAR
VERSION:2.0
PRODID:-//Kwan Um School Of Zen Europe - ECPv6.15.17.1//NONSGML v1.0//EN
CALSCALE:GREGORIAN
METHOD:PUBLISH
X-WR-CALNAME:Kwan Um School Of Zen Europe
X-ORIGINAL-URL:https://www.kwanumeurope.org
X-WR-CALDESC:Events for Kwan Um School Of Zen Europe
REFRESH-INTERVAL;VALUE=DURATION:PT1H
X-Robots-Tag:noindex
X-PUBLISHED-TTL:PT1H
BEGIN:VTIMEZONE
TZID:Europe/London
BEGIN:DAYLIGHT
TZOFFSETFROM:+0000
TZOFFSETTO:+0100
TZNAME:BST
DTSTART:20200329T010000
END:DAYLIGHT
BEGIN:STANDARD
TZOFFSETFROM:+0100
TZOFFSETTO:+0000
TZNAME:GMT
DTSTART:20201025T010000
END:STANDARD
BEGIN:DAYLIGHT
TZOFFSETFROM:+0000
TZOFFSETTO:+0100
TZNAME:BST
DTSTART:20210328T010000
END:DAYLIGHT
BEGIN:STANDARD
TZOFFSETFROM:+0100
TZOFFSETTO:+0000
TZNAME:GMT
DTSTART:20211031T010000
END:STANDARD
BEGIN:DAYLIGHT
TZOFFSETFROM:+0000
TZOFFSETTO:+0100
TZNAME:BST
DTSTART:20220327T010000
END:DAYLIGHT
BEGIN:STANDARD
TZOFFSETFROM:+0100
TZOFFSETTO:+0000
TZNAME:GMT
DTSTART:20221030T010000
END:STANDARD
END:VTIMEZONE
BEGIN:VEVENT
DTSTART;TZID=Europe/London:20211016T093000
DTEND;TZID=Europe/London:20211016T180000
DTSTAMP:20260419T181125
CREATED:20210911T141505Z
LAST-MODIFIED:20210911T141505Z
UID:11895-1634376600-1634407200@www.kwanumeurope.org
SUMMARY:One day retreat in person and online in London with Kongan interviews
DESCRIPTION:One day retreat in person and online in London N7 with Kongan interviews will happen in October 16th in new location (still North London ) \nRetreat will be lead by Bogumila Malinowska JDPS. \nPlease register using an email below until October 13th  : \nPlease send an email for more information and to register to london.zen.kwanum@gmail.com
URL:https://www.kwanumeurope.org/event/one-day-retreat-in-person-and-online-in-london-with-kongan-interviews-3/
LOCATION:9 Manor GardensLondon N7 6LA\, 9 Manor Gardens N7 6la\, London\, County (optional)\, N7 6LA\, United Kingdom
CATEGORIES:One Day Retreat
ATTACH;FMTTYPE=image/jpeg:https://www.kwanumeurope.org/wp-content/uploads/2020/05/slide1-1.jpg
ORGANIZER;CN="London Zen Centre":MAILTO:london.zen.kwanum@gmail.com
END:VEVENT
END:VCALENDAR