﻿BEGIN:VCALENDAR
VERSION:2.0
PRODID:-//Kwan Um School Of Zen Europe - ECPv6.15.17.1//NONSGML v1.0//EN
CALSCALE:GREGORIAN
METHOD:PUBLISH
X-WR-CALNAME:Kwan Um School Of Zen Europe
X-ORIGINAL-URL:https://www.kwanumeurope.org
X-WR-CALDESC:Events for Kwan Um School Of Zen Europe
REFRESH-INTERVAL;VALUE=DURATION:PT1H
X-Robots-Tag:noindex
X-PUBLISHED-TTL:PT1H
BEGIN:VTIMEZONE
TZID:Europe/London
BEGIN:DAYLIGHT
TZOFFSETFROM:+0000
TZOFFSETTO:+0100
TZNAME:BST
DTSTART:20200329T010000
END:DAYLIGHT
BEGIN:STANDARD
TZOFFSETFROM:+0100
TZOFFSETTO:+0000
TZNAME:GMT
DTSTART:20201025T010000
END:STANDARD
BEGIN:DAYLIGHT
TZOFFSETFROM:+0000
TZOFFSETTO:+0100
TZNAME:BST
DTSTART:20210328T010000
END:DAYLIGHT
BEGIN:STANDARD
TZOFFSETFROM:+0100
TZOFFSETTO:+0000
TZNAME:GMT
DTSTART:20211031T010000
END:STANDARD
BEGIN:DAYLIGHT
TZOFFSETFROM:+0000
TZOFFSETTO:+0100
TZNAME:BST
DTSTART:20220327T010000
END:DAYLIGHT
BEGIN:STANDARD
TZOFFSETFROM:+0100
TZOFFSETTO:+0000
TZNAME:GMT
DTSTART:20221030T010000
END:STANDARD
END:VTIMEZONE
BEGIN:VEVENT
DTSTART;TZID=Europe/London:20211104T080000
DTEND;TZID=Europe/London:20211104T170000
DTSTAMP:20260419T135158
CREATED:20211104T075549Z
LAST-MODIFIED:20211104T075549Z
UID:8156-1636012800-1636045200@www.kwanumeurope.org
SUMMARY:One Day-Retreat/Zen-Day and Kong-an Interview: Nov. 13\, 2021 (Vienna Zen Center via Zoom)
DESCRIPTION:  \nTeacher: Guiding Teacher Knud Rosenmayr JDPSN. \nBeginning: 7 a.m. \nEnd: 4:10 p.m.  \nRegistration: Please register and pay no later than 3 days before the start of the retreat! \nFee: €15.- KUSZ-member\, €25.- non-member/guest\, €10.- students/financially challenged. \n  \n➾ See the schedule and further information \n 
URL:https://www.kwanumeurope.org/event/one-day-retreat-zen-day-and-kong-an-interview-nov-13-2021-vienna-zen-center-via-zoom/
CATEGORIES:One Day Retreat
ATTACH;FMTTYPE=image/jpeg:https://www.kwanumeurope.org/wp-content/uploads/2021/11/Knud-Rosenmayr-JDPSN-gros-©-C.-Zintzen-1.jpg
END:VEVENT
END:VCALENDAR