﻿BEGIN:VCALENDAR
VERSION:2.0
PRODID:-//Kwan Um School Of Zen Europe - ECPv6.15.17.1//NONSGML v1.0//EN
CALSCALE:GREGORIAN
METHOD:PUBLISH
X-WR-CALNAME:Kwan Um School Of Zen Europe
X-ORIGINAL-URL:https://www.kwanumeurope.org
X-WR-CALDESC:Events for Kwan Um School Of Zen Europe
REFRESH-INTERVAL;VALUE=DURATION:PT1H
X-Robots-Tag:noindex
X-PUBLISHED-TTL:PT1H
BEGIN:VTIMEZONE
TZID:Europe/London
BEGIN:DAYLIGHT
TZOFFSETFROM:+0000
TZOFFSETTO:+0100
TZNAME:BST
DTSTART:20180325T010000
END:DAYLIGHT
BEGIN:STANDARD
TZOFFSETFROM:+0100
TZOFFSETTO:+0000
TZNAME:GMT
DTSTART:20181028T010000
END:STANDARD
BEGIN:DAYLIGHT
TZOFFSETFROM:+0000
TZOFFSETTO:+0100
TZNAME:BST
DTSTART:20190331T010000
END:DAYLIGHT
BEGIN:STANDARD
TZOFFSETFROM:+0100
TZOFFSETTO:+0000
TZNAME:GMT
DTSTART:20191027T010000
END:STANDARD
BEGIN:DAYLIGHT
TZOFFSETFROM:+0000
TZOFFSETTO:+0100
TZNAME:BST
DTSTART:20200329T010000
END:DAYLIGHT
BEGIN:STANDARD
TZOFFSETFROM:+0100
TZOFFSETTO:+0000
TZNAME:GMT
DTSTART:20201025T010000
END:STANDARD
END:VTIMEZONE
BEGIN:VEVENT
DTSTART;TZID=Europe/London:20190907T080000
DTEND;TZID=Europe/London:20190914T170000
DTSTAMP:20260419T215001
CREATED:20190420T134507Z
LAST-MODIFIED:20190420T134507Z
UID:5729-1567843200-1568480400@www.kwanumeurope.org
SUMMARY:One-Week Mountain Retreat with J. Potter and K. Rosenmayr
DESCRIPTION:This activity requires previous registration.\nThe name “Yong Maeng Jong Jin” is Korean which literally means “valorous or intrepid concentration”\, paraphrased “to leap like a tiger while sitting”. In the west\, it is a short silent retreat of two to seven days involving thirteen hours of formal meditation practice a day. Participants follow a schedule of bowing\, sitting\, chanting\, eating\, and working\, with an emphasis on sitting meditation. Beginners must have been completed the introductory course before attending to this activity.\nApply here: info@kwanumzen.at
URL:https://www.kwanumeurope.org/event/one-week-mountain-retreat-with-j-potter-and-k-rosenmayr-2/
LOCATION:Buddhistisches Zentrum Scheibbs\, Ginselberg 12 3270 Scheibbs\, Scheibbs\, Lower Austria\, Austria
ORGANIZER;CN="Zen Zentrum Wien/Vienna Zen Center":MAILTO:vienna.zen.center@gmail.com
END:VEVENT
END:VCALENDAR