﻿BEGIN:VCALENDAR
VERSION:2.0
PRODID:-//Kwan Um School Of Zen Europe - ECPv6.15.17.1//NONSGML v1.0//EN
CALSCALE:GREGORIAN
METHOD:PUBLISH
X-WR-CALNAME:Kwan Um School Of Zen Europe
X-ORIGINAL-URL:https://www.kwanumeurope.org
X-WR-CALDESC:Events for Kwan Um School Of Zen Europe
REFRESH-INTERVAL;VALUE=DURATION:PT1H
X-Robots-Tag:noindex
X-PUBLISHED-TTL:PT1H
BEGIN:VTIMEZONE
TZID:Europe/London
BEGIN:DAYLIGHT
TZOFFSETFROM:+0000
TZOFFSETTO:+0100
TZNAME:BST
DTSTART:20210328T010000
END:DAYLIGHT
BEGIN:STANDARD
TZOFFSETFROM:+0100
TZOFFSETTO:+0000
TZNAME:GMT
DTSTART:20211031T010000
END:STANDARD
BEGIN:DAYLIGHT
TZOFFSETFROM:+0000
TZOFFSETTO:+0100
TZNAME:BST
DTSTART:20220327T010000
END:DAYLIGHT
BEGIN:STANDARD
TZOFFSETFROM:+0100
TZOFFSETTO:+0000
TZNAME:GMT
DTSTART:20221030T010000
END:STANDARD
BEGIN:DAYLIGHT
TZOFFSETFROM:+0000
TZOFFSETTO:+0100
TZNAME:BST
DTSTART:20230326T010000
END:DAYLIGHT
BEGIN:STANDARD
TZOFFSETFROM:+0100
TZOFFSETTO:+0000
TZNAME:GMT
DTSTART:20231029T010000
END:STANDARD
END:VTIMEZONE
BEGIN:VEVENT
DTSTART;TZID=Europe/London:20220611T070000
DTEND;TZID=Europe/London:20220611T160000
DTSTAMP:20260420T083653
CREATED:20220520T072955Z
LAST-MODIFIED:20220520T072955Z
UID:8621-1654930800-1654963200@www.kwanumeurope.org
SUMMARY:(Online) Zen Day with Knud Rosenmayr JDPSN in Vienna – Saturday\, June 11\, 2022
DESCRIPTION:This joint Zen Day of the Kwan Um Zen Centers of Bratislava and Vienna will take place online and for the first time after the Corona break also in the Vienna Zen Center! \nBesides several periods of sitting and walking meditation\, there will be an opportunity for a personal teaching talk (Kong-an interview). At the Zen Center\, we also cook and eat together – in silence. \nZen Days are short retreats that help us to pause the busyness of everyday life and come back to our breath. – Beginners are welcome. – We look forward to your registration! \n➾ See more for the schedule and further information! \n  \n  \n 
URL:https://www.kwanumeurope.org/event/online-zen-day-with-knud-rosenmayr-jdpsn-in-vienna-saturday-june-11-2022/
CATEGORIES:One Day Retreat
ATTACH;FMTTYPE=image/jpeg:https://www.kwanumeurope.org/wp-content/uploads/2021/11/Knud-Rosenmayr-JDPSN-gros-©-C.-Zintzen-1.jpg
ORGANIZER;CN="Zen Zentrum Wien/Vienna Zen Center":MAILTO:vienna.zen.center@gmail.com
END:VEVENT
END:VCALENDAR