﻿BEGIN:VCALENDAR
VERSION:2.0
PRODID:-//Kwan Um School Of Zen Europe - ECPv6.15.17.1//NONSGML v1.0//EN
CALSCALE:GREGORIAN
METHOD:PUBLISH
X-WR-CALNAME:Kwan Um School Of Zen Europe
X-ORIGINAL-URL:https://www.kwanumeurope.org
X-WR-CALDESC:Events for Kwan Um School Of Zen Europe
REFRESH-INTERVAL;VALUE=DURATION:PT1H
X-Robots-Tag:noindex
X-PUBLISHED-TTL:PT1H
BEGIN:VTIMEZONE
TZID:Europe/London
BEGIN:DAYLIGHT
TZOFFSETFROM:+0000
TZOFFSETTO:+0100
TZNAME:BST
DTSTART:20200329T010000
END:DAYLIGHT
BEGIN:STANDARD
TZOFFSETFROM:+0100
TZOFFSETTO:+0000
TZNAME:GMT
DTSTART:20201025T010000
END:STANDARD
BEGIN:DAYLIGHT
TZOFFSETFROM:+0000
TZOFFSETTO:+0100
TZNAME:BST
DTSTART:20210328T010000
END:DAYLIGHT
BEGIN:STANDARD
TZOFFSETFROM:+0100
TZOFFSETTO:+0000
TZNAME:GMT
DTSTART:20211031T010000
END:STANDARD
BEGIN:DAYLIGHT
TZOFFSETFROM:+0000
TZOFFSETTO:+0100
TZNAME:BST
DTSTART:20220327T010000
END:DAYLIGHT
BEGIN:STANDARD
TZOFFSETFROM:+0100
TZOFFSETTO:+0000
TZNAME:GMT
DTSTART:20221030T010000
END:STANDARD
END:VTIMEZONE
BEGIN:VEVENT
DTSTART;TZID=Europe/London:20210510T080000
DTEND;TZID=Europe/London:20210510T170000
DTSTAMP:20260419T153413
CREATED:20210510T092559Z
LAST-MODIFIED:20210510T092559Z
UID:7754-1620633600-1620666000@www.kwanumeurope.org
SUMMARY:Outdoor Zen in London with teacher
DESCRIPTION:The London Zen Centre invites you to a special outdoor nature 🦋  meditation practice  🧘‍♀️🧘🧘‍♂️\n* with Dharma Master Bogumiła Malinowska. \nAfter practicing exclusively on zoom for so long\, we are very excited to be able to offer in-person practice once again. 🙂 \nJoin us in nature to reconnect and discover the practice of Zen. 🥀 \nYOU WOULD LIKE TO START A MEDITATION?\nThis meeting is precisely the occasion to experience what meditation is. We will also have time to answer questions that bother you.\nThe special guest of the meeting will be Dharma Master (Zen teacher) Bogumiła Malinowska. \nWE WILL BE MEETING:\n🌳    in  the Parkland Walk next to Finsbury Park\n⏰    at 10:30am (BST) on the 15th of May. \nTO JOIN:\n👉 please email: v.zen.kwanum@gmail.com \nVincent’s number: 07746321016 \n❗️ EQUIPMENT:\nIf possible\, please bring equipment suitable for outdoor practice: meditation mat\, cushion\, yoga mat\, small tarpaulin or sleeping bag.
URL:https://www.kwanumeurope.org/event/outdoor-zen-in-london-with-teacher/
END:VEVENT
END:VCALENDAR