﻿BEGIN:VCALENDAR
VERSION:2.0
PRODID:-//Kwan Um School Of Zen Europe - ECPv6.15.17.1//NONSGML v1.0//EN
CALSCALE:GREGORIAN
METHOD:PUBLISH
X-WR-CALNAME:Kwan Um School Of Zen Europe
X-ORIGINAL-URL:https://www.kwanumeurope.org
X-WR-CALDESC:Events for Kwan Um School Of Zen Europe
REFRESH-INTERVAL;VALUE=DURATION:PT1H
X-Robots-Tag:noindex
X-PUBLISHED-TTL:PT1H
BEGIN:VTIMEZONE
TZID:Europe/London
BEGIN:DAYLIGHT
TZOFFSETFROM:+0000
TZOFFSETTO:+0100
TZNAME:BST
DTSTART:20160327T010000
END:DAYLIGHT
BEGIN:STANDARD
TZOFFSETFROM:+0100
TZOFFSETTO:+0000
TZNAME:GMT
DTSTART:20161030T010000
END:STANDARD
BEGIN:DAYLIGHT
TZOFFSETFROM:+0000
TZOFFSETTO:+0100
TZNAME:BST
DTSTART:20170326T010000
END:DAYLIGHT
BEGIN:STANDARD
TZOFFSETFROM:+0100
TZOFFSETTO:+0000
TZNAME:GMT
DTSTART:20171029T010000
END:STANDARD
BEGIN:DAYLIGHT
TZOFFSETFROM:+0000
TZOFFSETTO:+0100
TZNAME:BST
DTSTART:20180325T010000
END:DAYLIGHT
BEGIN:STANDARD
TZOFFSETFROM:+0100
TZOFFSETTO:+0000
TZNAME:GMT
DTSTART:20181028T010000
END:STANDARD
END:VTIMEZONE
BEGIN:VEVENT
DTSTART;TZID=Europe/London:20170408T100000
DTEND;TZID=Europe/London:20170408T123000
DTSTAMP:20260420T072626
CREATED:20170309T101232Z
LAST-MODIFIED:20170309T101232Z
UID:10077-1491645600-1491654600@www.kwanumeurope.org
SUMMARY:Precepts Ceremony
DESCRIPTION:We invite everyone to receive precepts with Kwan Um School of Zen. The Precepts Ceremony will take place on Saturday\, 8th of April at 11:00 with Bon Shim Soen Sa Nim as the Precepts Master. At 10:00\, after you register in our Office\, you should attend an orientation and introduction for precepts applicants in our Dharma Room. \n>HERE< you will find Dharma Teacher’s Compact and Training Guidelines\, which should be read and signed upon receiving precepts. \nPlease arrive on Saturday morning. Due to organisational reasons\, it is possible to arrive on Friday after 7:30 PM the earliest only for those whose travel arrangements make it impossible to arrive on Saturday (from abroad or distant parts of Poland – 25zl/extra night\, 10zl/breakfast). Please bear in mind that due to the large number of participants accomodation will be in the Dharma Room in your own sleeping bag\, in your own tent or arranged individually hotel. \nAfter submiting your application you will receive a confirmation from our Office. In case you did not receive it or had any questions\, please contact us at: kwanum@zen.pl. \nThe application deadline is 1st of April 2017 and the precepts application fee is 10 euro paid in our Office during registration plus small (20 euro) or large (30 euro) kasa. \nPlease apply for the ceremony together with your application for Sangha Weekend – the application form will redirect you to another Precepts Ceremony page:\nhttps://docs.google.com/forms/d/1xjtQtvDJe0tzyhF3wSmI1-6pJR37saP8Vpl4692zxps/edit
URL:https://www.kwanumeurope.org/event/precepts-ceremony-2/
LOCATION:Wu Bong Sa\, Warsaw\, Małowiejska 24\, Warszawa\, Poland
CATEGORIES:Major Events,Sangha Weekend
ATTACH;FMTTYPE=image/jpeg:https://www.kwanumeurope.org/wp-content/uploads/2017/03/sangha_weekend_048-1.jpg
ORGANIZER;CN="Wu Bong Sa":MAILTO:kwanum@zen.pl 
GEO:52.162307;21.19754
X-APPLE-STRUCTURED-LOCATION;VALUE=URI;X-ADDRESS=Wu Bong Sa Warsaw Małowiejska 24 Warszawa Poland;X-APPLE-RADIUS=500;X-TITLE=Małowiejska 24:geo:21.19754,52.162307
END:VEVENT
END:VCALENDAR