﻿BEGIN:VCALENDAR
VERSION:2.0
PRODID:-//Kwan Um School Of Zen Europe - ECPv6.15.17.1//NONSGML v1.0//EN
CALSCALE:GREGORIAN
METHOD:PUBLISH
X-WR-CALNAME:Kwan Um School Of Zen Europe
X-ORIGINAL-URL:https://www.kwanumeurope.org
X-WR-CALDESC:Events for Kwan Um School Of Zen Europe
REFRESH-INTERVAL;VALUE=DURATION:PT1H
X-Robots-Tag:noindex
X-PUBLISHED-TTL:PT1H
BEGIN:VTIMEZONE
TZID:Asia/Jerusalem
BEGIN:DAYLIGHT
TZOFFSETFROM:+0200
TZOFFSETTO:+0300
TZNAME:IDT
DTSTART:20180323T000000
END:DAYLIGHT
BEGIN:STANDARD
TZOFFSETFROM:+0300
TZOFFSETTO:+0200
TZNAME:IST
DTSTART:20181027T230000
END:STANDARD
BEGIN:DAYLIGHT
TZOFFSETFROM:+0200
TZOFFSETTO:+0300
TZNAME:IDT
DTSTART:20190329T000000
END:DAYLIGHT
BEGIN:STANDARD
TZOFFSETFROM:+0300
TZOFFSETTO:+0200
TZNAME:IST
DTSTART:20191026T230000
END:STANDARD
BEGIN:DAYLIGHT
TZOFFSETFROM:+0200
TZOFFSETTO:+0300
TZNAME:IDT
DTSTART:20200327T000000
END:DAYLIGHT
BEGIN:STANDARD
TZOFFSETFROM:+0300
TZOFFSETTO:+0200
TZNAME:IST
DTSTART:20201024T230000
END:STANDARD
END:VTIMEZONE
BEGIN:VEVENT
DTSTART;TZID=Asia/Jerusalem:20190707T080000
DTEND;TZID=Asia/Jerusalem:20190713T170000
DTSTAMP:20260419T233002
CREATED:20190324T225144Z
LAST-MODIFIED:20190324T225144Z
UID:10184-1562486400-1563037200@www.kwanumeurope.org
SUMMARY:Retreat (SRP 2019) at Hod HaSharon Zen Center\, Israel
DESCRIPTION:We are pleased to invite you for the 3rd week of our Summer Retreat Program 2019 at Hod HaSharon Zen Center\, Israel\, led by Dharma Master Yuval Gill JDPSN.\nThe retreat will run from 07 July to 13 July 2019. Join us for together action practice\, meditation\, bowing\, chanting\, walking and Kong-an interviews. \nFor further inquiries please contact the organizer. \nRetreat price: TBA
URL:https://www.kwanumeurope.org/event/retreat-2019-israel-2/
LOCATION:HaSharon\, 16A HaThelet\, Hod HaSharon\, Israel
CATEGORIES:Major Events,Summer Retreat Program,Yong Maeng Jong Jin
ATTACH;FMTTYPE=image/jpeg:https://www.kwanumeurope.org/wp-content/uploads/2019/03/SRP19-header-1.jpg
GEO:32.1499949;34.8855163
X-APPLE-STRUCTURED-LOCATION;VALUE=URI;X-ADDRESS=HaSharon 16A HaThelet Hod HaSharon Israel;X-APPLE-RADIUS=500;X-TITLE=16A HaThelet:geo:34.8855163,32.1499949
END:VEVENT
END:VCALENDAR