﻿BEGIN:VCALENDAR
VERSION:2.0
PRODID:-//Kwan Um School Of Zen Europe - ECPv6.15.17.1//NONSGML v1.0//EN
CALSCALE:GREGORIAN
METHOD:PUBLISH
X-WR-CALNAME:Kwan Um School Of Zen Europe
X-ORIGINAL-URL:https://www.kwanumeurope.org
X-WR-CALDESC:Events for Kwan Um School Of Zen Europe
REFRESH-INTERVAL;VALUE=DURATION:PT1H
X-Robots-Tag:noindex
X-PUBLISHED-TTL:PT1H
BEGIN:VTIMEZONE
TZID:Europe/London
BEGIN:DAYLIGHT
TZOFFSETFROM:+0000
TZOFFSETTO:+0100
TZNAME:BST
DTSTART:20180325T010000
END:DAYLIGHT
BEGIN:STANDARD
TZOFFSETFROM:+0100
TZOFFSETTO:+0000
TZNAME:GMT
DTSTART:20181028T010000
END:STANDARD
BEGIN:DAYLIGHT
TZOFFSETFROM:+0000
TZOFFSETTO:+0100
TZNAME:BST
DTSTART:20190331T010000
END:DAYLIGHT
BEGIN:STANDARD
TZOFFSETFROM:+0100
TZOFFSETTO:+0000
TZNAME:GMT
DTSTART:20191027T010000
END:STANDARD
BEGIN:DAYLIGHT
TZOFFSETFROM:+0000
TZOFFSETTO:+0100
TZNAME:BST
DTSTART:20200329T010000
END:DAYLIGHT
BEGIN:STANDARD
TZOFFSETFROM:+0100
TZOFFSETTO:+0000
TZNAME:GMT
DTSTART:20201025T010000
END:STANDARD
END:VTIMEZONE
BEGIN:VEVENT
DTSTART;TZID=Europe/London:20190701T080000
DTEND;TZID=Europe/London:20190707T170000
DTSTAMP:20260419T174937
CREATED:20190324T223741Z
LAST-MODIFIED:20190324T223741Z
UID:10183-1561968000-1562518800@www.kwanumeurope.org
SUMMARY:Retreat (SRP 2019) The Peak Zen\, England
DESCRIPTION:We are pleased to invite our Zen friends for the 2nd week of our Summer Retreat Program 2019 run by The Peak Zen\, England. The week from 1 – 7 July 2019 will be led by Dharma Master Elisabeth Coombs JDPSN. Friends are invited for the entire week or any part\, and join us for practice\, kong-an interviews\, walking in The Peak District\, and together action. \nContact jibul@kwanumzen.org.uk to inquire or
URL:https://www.kwanumeurope.org/event/retreat-2019-uk-2/
LOCATION:The Peak Zen
CATEGORIES:Major Events,Summer Retreat Program,Yong Maeng Jong Jin
ATTACH;FMTTYPE=image/jpeg:https://www.kwanumeurope.org/wp-content/uploads/2019/03/SRP19-header-1.jpg
ORGANIZER;CN="Jibul%2C The Peak":MAILTO:jibul@kwanumzen.org.uk
GEO:53.1268768;-1.5532013
END:VEVENT
END:VCALENDAR