﻿BEGIN:VCALENDAR
VERSION:2.0
PRODID:-//Kwan Um School Of Zen Europe - ECPv6.15.17.1//NONSGML v1.0//EN
CALSCALE:GREGORIAN
METHOD:PUBLISH
X-WR-CALNAME:Kwan Um School Of Zen Europe
X-ORIGINAL-URL:https://www.kwanumeurope.org
X-WR-CALDESC:Events for Kwan Um School Of Zen Europe
REFRESH-INTERVAL;VALUE=DURATION:PT1H
X-Robots-Tag:noindex
X-PUBLISHED-TTL:PT1H
BEGIN:VTIMEZONE
TZID:Europe/Paris
BEGIN:DAYLIGHT
TZOFFSETFROM:+0100
TZOFFSETTO:+0200
TZNAME:CEST
DTSTART:20190331T010000
END:DAYLIGHT
BEGIN:STANDARD
TZOFFSETFROM:+0200
TZOFFSETTO:+0100
TZNAME:CET
DTSTART:20191027T010000
END:STANDARD
BEGIN:DAYLIGHT
TZOFFSETFROM:+0100
TZOFFSETTO:+0200
TZNAME:CEST
DTSTART:20200329T010000
END:DAYLIGHT
BEGIN:STANDARD
TZOFFSETFROM:+0200
TZOFFSETTO:+0100
TZNAME:CET
DTSTART:20201025T010000
END:STANDARD
BEGIN:DAYLIGHT
TZOFFSETFROM:+0100
TZOFFSETTO:+0200
TZNAME:CEST
DTSTART:20210328T010000
END:DAYLIGHT
BEGIN:STANDARD
TZOFFSETFROM:+0200
TZOFFSETTO:+0100
TZNAME:CET
DTSTART:20211031T010000
END:STANDARD
END:VTIMEZONE
BEGIN:VEVENT
DTSTART;VALUE=DATE:20200802
DTEND;VALUE=DATE:20200809
DTSTAMP:20260419T200425
CREATED:20180320T152042Z
LAST-MODIFIED:20180320T152042Z
UID:10144-1596326400-1596931199@www.kwanumeurope.org
SUMMARY:Retreat (SRP 2020) at Mottereau\, France
DESCRIPTION:We are pleased to invite you for the 11th week of our Summer Retreat Program 2020 at Mottereau\, France\, led by Dharma Master Koen Vermeulen JDPSN.\nThe retreat will run from August 2nd to August 8th 2019. Join us for together action practice\, meditation\, bowing\, chanting\, walking and Kong-an interviews. \n  \n     \nParticipants will gather in Paris\, 35 rue de Lyon on Saturday. A car will bring them to Mottereau (price included). \nRetreat price: TBA
URL:https://www.kwanumeurope.org/event/retreat-2020-france-2/
LOCATION:Mottereau\, Faillière\, 28160 Mottereau\, France
CATEGORIES:Major Events,Summer Retreat Program,Yong Maeng Jong Jin
ATTACH;FMTTYPE=image/jpeg:https://www.kwanumeurope.org/wp-content/uploads/2019/03/SRP19-header-1.jpg
ORGANIZER;CN="Centre Parisien de Zen - Brussels Zen Center":MAILTO:carinenottin@free.fr
END:VEVENT
END:VCALENDAR