﻿BEGIN:VCALENDAR
VERSION:2.0
PRODID:-//Kwan Um School Of Zen Europe - ECPv6.15.17.1//NONSGML v1.0//EN
CALSCALE:GREGORIAN
METHOD:PUBLISH
X-WR-CALNAME:Kwan Um School Of Zen Europe
X-ORIGINAL-URL:https://www.kwanumeurope.org
X-WR-CALDESC:Events for Kwan Um School Of Zen Europe
REFRESH-INTERVAL;VALUE=DURATION:PT1H
X-Robots-Tag:noindex
X-PUBLISHED-TTL:PT1H
BEGIN:VTIMEZONE
TZID:Europe/Brussels
BEGIN:DAYLIGHT
TZOFFSETFROM:+0100
TZOFFSETTO:+0200
TZNAME:CEST
DTSTART:20150329T010000
END:DAYLIGHT
BEGIN:STANDARD
TZOFFSETFROM:+0200
TZOFFSETTO:+0100
TZNAME:CET
DTSTART:20151025T010000
END:STANDARD
BEGIN:DAYLIGHT
TZOFFSETFROM:+0100
TZOFFSETTO:+0200
TZNAME:CEST
DTSTART:20160327T010000
END:DAYLIGHT
BEGIN:STANDARD
TZOFFSETFROM:+0200
TZOFFSETTO:+0100
TZNAME:CET
DTSTART:20161030T010000
END:STANDARD
BEGIN:DAYLIGHT
TZOFFSETFROM:+0100
TZOFFSETTO:+0200
TZNAME:CEST
DTSTART:20170326T010000
END:DAYLIGHT
BEGIN:STANDARD
TZOFFSETFROM:+0200
TZOFFSETTO:+0100
TZNAME:CET
DTSTART:20171029T010000
END:STANDARD
END:VTIMEZONE
BEGIN:VEVENT
DTSTART;TZID=Europe/Brussels:20160709T130000
DTEND;TZID=Europe/Brussels:20160723T150000
DTSTAMP:20260421T103729
CREATED:20160517T100642Z
LAST-MODIFIED:20160517T100642Z
UID:11683-1468069200-1469286000@www.kwanumeurope.org
SUMMARY:Two-Week Retreat\, Lithuania
DESCRIPTION:A retreat with Joeng Hye SSN and Koen Vermeulen JDPSN is to be held in Lithuania\, starting at 13:00 on Saturday 9 July 2016 and ending at 15:00 on Saturday 23 July 2016.  Retreat location: Sufi Kanka near Vepriai\, Lithuania.  There will be a second entry at 18:00 on Saturday 16 July 2016. \nThese weeks are the seventh and eighth weeks of the Summer Retreat Program 2016 of KUSZ Europe. \nFor further inquiries please contact the organiser.
URL:https://www.kwanumeurope.org/event/retreat-lithuania-3/
LOCATION:Sufi Kanka\, Vepriai\, Lithuania
CATEGORIES:Summer Retreat Program
ATTACH;FMTTYPE=image/jpeg:https://www.kwanumeurope.org/wp-content/uploads/2016/04/JeongHye230b.jpg
ORGANIZER;CN="Alvydas":MAILTO:alvydas.turskis@gmail.com
GEO:55.1511709;24.574845
END:VEVENT
END:VCALENDAR