﻿BEGIN:VCALENDAR
VERSION:2.0
PRODID:-//Kwan Um School Of Zen Europe - ECPv6.15.17.1//NONSGML v1.0//EN
CALSCALE:GREGORIAN
METHOD:PUBLISH
X-WR-CALNAME:Kwan Um School Of Zen Europe
X-ORIGINAL-URL:https://www.kwanumeurope.org
X-WR-CALDESC:Events for Kwan Um School Of Zen Europe
REFRESH-INTERVAL;VALUE=DURATION:PT1H
X-Robots-Tag:noindex
X-PUBLISHED-TTL:PT1H
BEGIN:VTIMEZONE
TZID:Europe/Paris
BEGIN:DAYLIGHT
TZOFFSETFROM:+0100
TZOFFSETTO:+0200
TZNAME:CEST
DTSTART:20150329T010000
END:DAYLIGHT
BEGIN:STANDARD
TZOFFSETFROM:+0200
TZOFFSETTO:+0100
TZNAME:CET
DTSTART:20151025T010000
END:STANDARD
BEGIN:DAYLIGHT
TZOFFSETFROM:+0100
TZOFFSETTO:+0200
TZNAME:CEST
DTSTART:20160327T010000
END:DAYLIGHT
BEGIN:STANDARD
TZOFFSETFROM:+0200
TZOFFSETTO:+0100
TZNAME:CET
DTSTART:20161030T010000
END:STANDARD
BEGIN:DAYLIGHT
TZOFFSETFROM:+0100
TZOFFSETTO:+0200
TZNAME:CEST
DTSTART:20170326T010000
END:DAYLIGHT
BEGIN:STANDARD
TZOFFSETFROM:+0200
TZOFFSETTO:+0100
TZNAME:CET
DTSTART:20171029T010000
END:STANDARD
END:VTIMEZONE
BEGIN:VEVENT
DTSTART;TZID=Europe/Paris:20160807T050000
DTEND;TZID=Europe/Paris:20160813T130000
DTSTAMP:20260419T164753
CREATED:20160517T102604Z
LAST-MODIFIED:20160517T102604Z
UID:10068-1470546000-1471093200@www.kwanumeurope.org
SUMMARY:Retreat with Jo Potter JDPSN\, Bori Sa
DESCRIPTION:A retreat with Jo Potter JDPSN is to be held in Girona\, starting at 5:00 on Sunday 7 August 2016 and ending at 13:00 on Saturday 13 August 2016.  This is the eleventh week of the Summer Retreat Program of KUSZ Europe. Retreat location: Bori Sa\, Mas Puli\, Sales de Llierca\, 17853 Alta Garrotxa\, Girona\, Catalunya\, Spain.   For further inquiries please contact the organiser.
URL:https://www.kwanumeurope.org/event/retreat-with-jo-potter-jdpsn-bori-sa-2/
LOCATION:Bori Sa\, (Mas Puli) Sales de Llierca \, Alta Garrotxa\, Girona\, 17853\, Spain
CATEGORIES:Summer Retreat Program
ATTACH;FMTTYPE=image/jpeg:https://www.kwanumeurope.org/wp-content/uploads/2016/04/JoPotter230.jpg
ORGANIZER;CN="EKUZ Barcelona":MAILTO:boricentrozen@hotmail.com
GEO:42.2484479;2.6291242
X-APPLE-STRUCTURED-LOCATION;VALUE=URI;X-ADDRESS=Bori Sa (Mas Puli) Sales de Llierca  Alta Garrotxa Girona 17853 Spain;X-APPLE-RADIUS=500;X-TITLE=(Mas Puli) Sales de Llierca:geo:2.6291242,42.2484479
END:VEVENT
END:VCALENDAR