﻿BEGIN:VCALENDAR
VERSION:2.0
PRODID:-//Kwan Um School Of Zen Europe - ECPv6.15.17.1//NONSGML v1.0//EN
CALSCALE:GREGORIAN
METHOD:PUBLISH
X-WR-CALNAME:Kwan Um School Of Zen Europe
X-ORIGINAL-URL:https://www.kwanumeurope.org
X-WR-CALDESC:Events for Kwan Um School Of Zen Europe
REFRESH-INTERVAL;VALUE=DURATION:PT1H
X-Robots-Tag:noindex
X-PUBLISHED-TTL:PT1H
BEGIN:VTIMEZONE
TZID:Europe/London
BEGIN:DAYLIGHT
TZOFFSETFROM:+0000
TZOFFSETTO:+0100
TZNAME:BST
DTSTART:20190331T010000
END:DAYLIGHT
BEGIN:STANDARD
TZOFFSETFROM:+0100
TZOFFSETTO:+0000
TZNAME:GMT
DTSTART:20191027T010000
END:STANDARD
BEGIN:DAYLIGHT
TZOFFSETFROM:+0000
TZOFFSETTO:+0100
TZNAME:BST
DTSTART:20200329T010000
END:DAYLIGHT
BEGIN:STANDARD
TZOFFSETFROM:+0100
TZOFFSETTO:+0000
TZNAME:GMT
DTSTART:20201025T010000
END:STANDARD
BEGIN:DAYLIGHT
TZOFFSETFROM:+0000
TZOFFSETTO:+0100
TZNAME:BST
DTSTART:20210328T010000
END:DAYLIGHT
BEGIN:STANDARD
TZOFFSETFROM:+0100
TZOFFSETTO:+0000
TZNAME:GMT
DTSTART:20211031T010000
END:STANDARD
END:VTIMEZONE
BEGIN:VEVENT
DTSTART;TZID=Europe/London:20200731T180000
DTEND;TZID=Europe/London:20200815T180000
DTSTAMP:20260425T202534
CREATED:20200630T154720Z
LAST-MODIFIED:20200630T154720Z
UID:11856-1596218400-1597514400@www.kwanumeurope.org
SUMMARY:Summer retreat in Wu Bong Sa ONLINE
DESCRIPTION:HELLO\, \nBy completing and sending the form to us\, you apply for your participation in the Kyol Che meditation retreat in ONLINE mode\, organized by the Wu Bong Sa temple\, Kwan Um School of Zen. Livestreaming will take place throughout the day\, directly from the Dharma Hall using the ZOOM application. \nThe retreat will begin on July 31 and will last for 2 weeks. There are two entries\, both on Friday (July 31 and August 7). Retreat begins at 18:30. The ZOOM link along with the day schedule and other information will be sent the day before to the e-mail address provided in the form. You can sign up for one week or two days – from Friday to Sunday. With 2 days participation you’ll have one kongan interview\, with one week – two. Please join! \nTEACHING PROGRAM\n1st week – 31.07 – 07.08 | Bon Shim SSN\n2nd week – 07.08 – 15.08 | Joeng Hye SSN \nNOTE – The limit of places is 15 people\nParticipation in the retreat is determined by the order of applications\, making an advance payment of 50% and sending confirmation of payment to the temple’s office (kwanum108@gmail.com) \nFEES\nNauczyciel Dharmy / Member / Non-member \n2 days 12/15/20 EUR\n1 week 35/40/50 EUR\n2 weeks 60/70/90 EUR \nIf you have any questions\, please write to wubongsa@gmail.com / kwanum108@gmail.com \nREGISTRATION: https://forms.gle/rufLMfcnssQRsZ3J9
URL:https://www.kwanumeurope.org/event/summer-retreat-in-wu-bong-sa-online-3/
ATTACH;FMTTYPE=image/jpeg:https://www.kwanumeurope.org/wp-content/uploads/2018/06/1382799_895939813778557_6478742651181343778_n-2.jpg
END:VEVENT
END:VCALENDAR