﻿BEGIN:VCALENDAR
VERSION:2.0
PRODID:-//Kwan Um School Of Zen Europe - ECPv6.15.17.1//NONSGML v1.0//EN
CALSCALE:GREGORIAN
METHOD:PUBLISH
X-WR-CALNAME:Kwan Um School Of Zen Europe
X-ORIGINAL-URL:https://www.kwanumeurope.org
X-WR-CALDESC:Events for Kwan Um School Of Zen Europe
REFRESH-INTERVAL;VALUE=DURATION:PT1H
X-Robots-Tag:noindex
X-PUBLISHED-TTL:PT1H
BEGIN:VTIMEZONE
TZID:Europe/Vienna
BEGIN:DAYLIGHT
TZOFFSETFROM:+0100
TZOFFSETTO:+0200
TZNAME:CEST
DTSTART:20180325T010000
END:DAYLIGHT
BEGIN:STANDARD
TZOFFSETFROM:+0200
TZOFFSETTO:+0100
TZNAME:CET
DTSTART:20181028T010000
END:STANDARD
BEGIN:DAYLIGHT
TZOFFSETFROM:+0100
TZOFFSETTO:+0200
TZNAME:CEST
DTSTART:20190331T010000
END:DAYLIGHT
BEGIN:STANDARD
TZOFFSETFROM:+0200
TZOFFSETTO:+0100
TZNAME:CET
DTSTART:20191027T010000
END:STANDARD
BEGIN:DAYLIGHT
TZOFFSETFROM:+0100
TZOFFSETTO:+0200
TZNAME:CEST
DTSTART:20200329T010000
END:DAYLIGHT
BEGIN:STANDARD
TZOFFSETFROM:+0200
TZOFFSETTO:+0100
TZNAME:CET
DTSTART:20201025T010000
END:STANDARD
END:VTIMEZONE
BEGIN:VEVENT
DTSTART;TZID=Europe/Vienna:20190330T090000
DTEND;TZID=Europe/Vienna:20190331T160000
DTSTAMP:20260420T052245
CREATED:20190226T145826Z
LAST-MODIFIED:20190226T145826Z
UID:11789-1553936400-1554048000@www.kwanumeurope.org
SUMMARY:Two-Days Retreat with Precepts Ceremony
DESCRIPTION:Two-Day Retreat with Jo-Alma Potter JDPSN and Knud Rosenmayr JDPSN\nThis activity requires previous registration\, at least two days before the event.\nApply here: info@kwanumzen.at \nPlace: Zen Center\, Kolingasse 11 / 4 1090 Vienna (Ring at Potter/Sendzimir)\nTime: Starting at 9:00 on the first day until 16:00 on the last day (subject to change).\nThe name “Yong Maeng Jong Jin” is Korean which literally means “valorous or intrepid concentration”\, paraphrased “to leap like a tiger while sitting”. In the west\, it is a short silent retreat of two to seven days involving thirteen hours of formal meditation practice a day. Participants follow a schedule of bowing\, sitting\, chanting\, eating\, and working\, with an emphasis on sitting meditation. Beginners must have been completed the introductory course before attending to this activity.
URL:https://www.kwanumeurope.org/event/two-days-retreat-with-precepts-ceremony-3/
LOCATION:Vienna Zen Center\, Bernardgasse 16/9\, Vienna\, 1070\, Austria
ORGANIZER;CN="Zen Zentrum Wien/Vienna Zen Center":MAILTO:vienna.zen.center@gmail.com
GEO:48.2162658;16.3630181
X-APPLE-STRUCTURED-LOCATION;VALUE=URI;X-ADDRESS=Vienna Zen Center Bernardgasse 16/9 Vienna 1070 Austria;X-APPLE-RADIUS=500;X-TITLE=Bernardgasse 16/9:geo:16.3630181,48.2162658
END:VEVENT
END:VCALENDAR