﻿BEGIN:VCALENDAR
VERSION:2.0
PRODID:-//Kwan Um School Of Zen Europe - ECPv6.15.17.1//NONSGML v1.0//EN
CALSCALE:GREGORIAN
METHOD:PUBLISH
X-WR-CALNAME:Kwan Um School Of Zen Europe
X-ORIGINAL-URL:https://www.kwanumeurope.org
X-WR-CALDESC:Events for Kwan Um School Of Zen Europe
REFRESH-INTERVAL;VALUE=DURATION:PT1H
X-Robots-Tag:noindex
X-PUBLISHED-TTL:PT1H
BEGIN:VTIMEZONE
TZID:Europe/London
BEGIN:DAYLIGHT
TZOFFSETFROM:+0000
TZOFFSETTO:+0100
TZNAME:BST
DTSTART:20220327T010000
END:DAYLIGHT
BEGIN:STANDARD
TZOFFSETFROM:+0100
TZOFFSETTO:+0000
TZNAME:GMT
DTSTART:20221030T010000
END:STANDARD
BEGIN:DAYLIGHT
TZOFFSETFROM:+0000
TZOFFSETTO:+0100
TZNAME:BST
DTSTART:20230326T010000
END:DAYLIGHT
BEGIN:STANDARD
TZOFFSETFROM:+0100
TZOFFSETTO:+0000
TZNAME:GMT
DTSTART:20231029T010000
END:STANDARD
BEGIN:DAYLIGHT
TZOFFSETFROM:+0000
TZOFFSETTO:+0100
TZNAME:BST
DTSTART:20240331T010000
END:DAYLIGHT
BEGIN:STANDARD
TZOFFSETFROM:+0100
TZOFFSETTO:+0000
TZNAME:GMT
DTSTART:20241027T010000
END:STANDARD
END:VTIMEZONE
BEGIN:VEVENT
DTSTART;TZID=Europe/London:20230318T070000
DTEND;TZID=Europe/London:20230318T160000
DTSTAMP:20260419T160424
CREATED:20230223T135429Z
LAST-MODIFIED:20230223T135429Z
UID:11955-1679122800-1679155200@www.kwanumeurope.org
SUMMARY:Vienna Zen Center: One-Day Retreat (hybrid) with Barry Briggs JDPSN on Saturday\, March 18\, 2023
DESCRIPTION:Retreats allow us to deepen our practice and come back to our breath. We look through our habitual thought patterns and find the source of our deepest wisdom and goodness.  \nThis time we welcome Barry Briggs\, JDPSN (Cochise Zen Center\, Arizona) as the teacher of this short retreat at the Vienna Zen Center: We are looking forward to your coming in person\, but of course\, it will also be possible to participate via Zoom. Please register soon so that we can plan!  \nBy the way\, beginners are most welcome! \n➾ Detailed Information \n  \n  \n 
URL:https://www.kwanumeurope.org/event/vienna-zen-center-one-day-retreat-hybrid-with-barry-briggs-jdpsn-on-saturday-march-18-2023/
LOCATION:Vienna Zen Center/Zoom
CATEGORIES:One Day Retreat
ATTACH;FMTTYPE=image/png:https://www.kwanumeurope.org/wp-content/uploads/2023/02/Flyer-schmal-One-Day-Retreat-w-Barry-Briggs-Vienna-Zen-Center.png
ORGANIZER;CN="Zen Zentrum Wien/Vienna Zen Center":MAILTO:vienna.zen.center@gmail.com
END:VEVENT
END:VCALENDAR