﻿BEGIN:VCALENDAR
VERSION:2.0
PRODID:-//Kwan Um School Of Zen Europe - ECPv6.15.17.1//NONSGML v1.0//EN
CALSCALE:GREGORIAN
METHOD:PUBLISH
X-WR-CALNAME:Kwan Um School Of Zen Europe
X-ORIGINAL-URL:https://www.kwanumeurope.org
X-WR-CALDESC:Events for Kwan Um School Of Zen Europe
REFRESH-INTERVAL;VALUE=DURATION:PT1H
X-Robots-Tag:noindex
X-PUBLISHED-TTL:PT1H
BEGIN:VTIMEZONE
TZID:Europe/London
BEGIN:DAYLIGHT
TZOFFSETFROM:+0000
TZOFFSETTO:+0100
TZNAME:BST
DTSTART:20160327T010000
END:DAYLIGHT
BEGIN:STANDARD
TZOFFSETFROM:+0100
TZOFFSETTO:+0000
TZNAME:GMT
DTSTART:20161030T010000
END:STANDARD
BEGIN:DAYLIGHT
TZOFFSETFROM:+0000
TZOFFSETTO:+0100
TZNAME:BST
DTSTART:20170326T010000
END:DAYLIGHT
BEGIN:STANDARD
TZOFFSETFROM:+0100
TZOFFSETTO:+0000
TZNAME:GMT
DTSTART:20171029T010000
END:STANDARD
BEGIN:DAYLIGHT
TZOFFSETFROM:+0000
TZOFFSETTO:+0100
TZNAME:BST
DTSTART:20180325T010000
END:DAYLIGHT
BEGIN:STANDARD
TZOFFSETFROM:+0100
TZOFFSETTO:+0000
TZNAME:GMT
DTSTART:20181028T010000
END:STANDARD
END:VTIMEZONE
BEGIN:VEVENT
DTSTART;TZID=Europe/London:20171202T180000
DTEND;TZID=Europe/London:20171210T210000
DTSTAMP:20260420T092322
CREATED:20170924T104830Z
LAST-MODIFIED:20170924T104830Z
UID:4637-1512237600-1512939600@www.kwanumeurope.org
SUMMARY:Week Retreat with Bon Shim SSN
DESCRIPTION:A one-week retreat with Zen Master Bon Shim organised by The Peak Zen Group is to be held at Kubong-Sa\, The Peak District\, England\, U.K.  The retreat starts at 18:00 on Saturday 2nd December 2017 and ends at 9:00 on Sunday 10th December 2017\, with kongan interviews with the Zen master alternate days\, and outside walking meditation. There will be a Buddha’s Enlightenment Ceremony on Sunday 3rd December at 11:00 and a precepts ceremony at 11:00 on Sunday 10th December\, plus a dharma talk on Wednesday  6th December at 14:30.  Entry is flexible\, by arrangement\, but should normally take place please before 10:00 on the entry day.
URL:https://www.kwanumeurope.org/event/week-retreat-bon-shim-ssn/
LOCATION:The Peak Zen
CATEGORIES:Yong Maeng Jong Jin
ATTACH;FMTTYPE=image/jpeg:https://www.kwanumeurope.org/wp-content/uploads/2017/09/Dec2017pic-1.jpg
ORGANIZER;CN="Jibul%2C The Peak":MAILTO:jibul@kwanumzen.org.uk
GEO:53.1268768;-1.5532013
END:VEVENT
END:VCALENDAR