﻿BEGIN:VCALENDAR
VERSION:2.0
PRODID:-//Kwan Um School Of Zen Europe - ECPv6.15.17.1//NONSGML v1.0//EN
CALSCALE:GREGORIAN
METHOD:PUBLISH
X-WR-CALNAME:Kwan Um School Of Zen Europe
X-ORIGINAL-URL:https://www.kwanumeurope.org
X-WR-CALDESC:Events for Kwan Um School Of Zen Europe
REFRESH-INTERVAL;VALUE=DURATION:PT1H
X-Robots-Tag:noindex
X-PUBLISHED-TTL:PT1H
BEGIN:VTIMEZONE
TZID:Europe/London
BEGIN:DAYLIGHT
TZOFFSETFROM:+0000
TZOFFSETTO:+0100
TZNAME:BST
DTSTART:20200329T010000
END:DAYLIGHT
BEGIN:STANDARD
TZOFFSETFROM:+0100
TZOFFSETTO:+0000
TZNAME:GMT
DTSTART:20201025T010000
END:STANDARD
BEGIN:DAYLIGHT
TZOFFSETFROM:+0000
TZOFFSETTO:+0100
TZNAME:BST
DTSTART:20210328T010000
END:DAYLIGHT
BEGIN:STANDARD
TZOFFSETFROM:+0100
TZOFFSETTO:+0000
TZNAME:GMT
DTSTART:20211031T010000
END:STANDARD
BEGIN:DAYLIGHT
TZOFFSETFROM:+0000
TZOFFSETTO:+0100
TZNAME:BST
DTSTART:20220327T010000
END:DAYLIGHT
BEGIN:STANDARD
TZOFFSETFROM:+0100
TZOFFSETTO:+0000
TZNAME:GMT
DTSTART:20221030T010000
END:STANDARD
END:VTIMEZONE
BEGIN:VEVENT
DTSTART;VALUE=DATE:20210228
DTEND;VALUE=DATE:20210308
DTSTAMP:20260421T232347
CREATED:20191001T153343Z
LAST-MODIFIED:20191001T153343Z
UID:11832-1614470400-1615161599@www.kwanumeurope.org
SUMMARY:Winter Retreat in Wubongsa\, Warsaw\, Poland
DESCRIPTION:Wubongsa Temple in Warsaw\, Poland invites you to participate in our Winter Retreat\, online or offline\, depending on the current pandemic situation in the country. We have more than 30 years of experience of running traditional long Winter retreats in a beautiful renovated Dharma Hall\, with adequate facilities\, dedicated staff and easy transportation options. Since we always have participants from around Europe and Israel\, all instruction is both in Polish and English. See you soon! \nJoeng Hye SSN will lead the retreat from 28.02 to 07.03.2021. \nMore: wubongsa@gmail.com.
URL:https://www.kwanumeurope.org/event/winter-retreat-in-wubongsa-warsaw-poland-2021-3/
LOCATION:Wu Bong Sa\, Warsaw\, Małowiejska 24\, Warszawa\, Poland
CATEGORIES:Kyol Che
ATTACH;FMTTYPE=image/jpeg:https://www.kwanumeurope.org/wp-content/uploads/2016/09/0b6d5c6c59.jpg
ORGANIZER;CN="Wu Bong Sa":MAILTO:kwanum@zen.pl 
GEO:52.162307;21.19754
X-APPLE-STRUCTURED-LOCATION;VALUE=URI;X-ADDRESS=Wu Bong Sa Warsaw Małowiejska 24 Warszawa Poland;X-APPLE-RADIUS=500;X-TITLE=Małowiejska 24:geo:21.19754,52.162307
END:VEVENT
END:VCALENDAR