﻿BEGIN:VCALENDAR
VERSION:2.0
PRODID:-//Kwan Um School Of Zen Europe - ECPv6.15.17.1//NONSGML v1.0//EN
CALSCALE:GREGORIAN
METHOD:PUBLISH
X-WR-CALNAME:Kwan Um School Of Zen Europe
X-ORIGINAL-URL:https://www.kwanumeurope.org
X-WR-CALDESC:Events for Kwan Um School Of Zen Europe
REFRESH-INTERVAL;VALUE=DURATION:PT1H
X-Robots-Tag:noindex
X-PUBLISHED-TTL:PT1H
BEGIN:VTIMEZONE
TZID:Europe/Vilnius
BEGIN:DAYLIGHT
TZOFFSETFROM:+0200
TZOFFSETTO:+0300
TZNAME:EEST
DTSTART:20160327T010000
END:DAYLIGHT
BEGIN:STANDARD
TZOFFSETFROM:+0300
TZOFFSETTO:+0200
TZNAME:EET
DTSTART:20161030T010000
END:STANDARD
BEGIN:DAYLIGHT
TZOFFSETFROM:+0200
TZOFFSETTO:+0300
TZNAME:EEST
DTSTART:20170326T010000
END:DAYLIGHT
BEGIN:STANDARD
TZOFFSETFROM:+0300
TZOFFSETTO:+0200
TZNAME:EET
DTSTART:20171029T010000
END:STANDARD
BEGIN:DAYLIGHT
TZOFFSETFROM:+0200
TZOFFSETTO:+0300
TZNAME:EEST
DTSTART:20180325T010000
END:DAYLIGHT
BEGIN:STANDARD
TZOFFSETFROM:+0300
TZOFFSETTO:+0200
TZNAME:EET
DTSTART:20181028T010000
END:STANDARD
END:VTIMEZONE
BEGIN:VEVENT
DTSTART;TZID=Europe/Vilnius:20171125T060000
DTEND;TZID=Europe/Vilnius:20171126T160000
DTSTAMP:20260418T172215
CREATED:20171112T203017Z
LAST-MODIFIED:20171112T203017Z
UID:4679-1511589600-1511712000@www.kwanumeurope.org
SUMMARY:YMJJ with Joeng Hye SSN in Vilnius ZC\, Lithuania\, November 25-26\, 2017
DESCRIPTION:A two days retreat (Yong Meng Jong Jin)\, with Jeong Hye SSN and Lithuanian Sangha\, is to be held in Vilnius Zen Center\, Mokyklos str. 21A\, Vilnius\, Lithuania starting at 6:00 on 25 November 2017 and ending at 16:00 on 26 November 2017.  For further inquiries please contact the organiser. Public Dharma talk is planned on Friday\, November 24 at 18:00 in Martynas Mažvydas National Library of Lithuania\, Gedimino ave. 51\, LT-01504 Vilnius \n  \n  \n  \n  \n 
URL:https://www.kwanumeurope.org/event/ymjj-joeng-hye-ssn-vilnius-zc-lithuania-november-25-26-2017/
LOCATION:Vilnius Zen Center\, Mokyklos str. 21 A\, Vilnius\, Lithuania
CATEGORIES:Yong Maeng Jong Jin
ORGANIZER;CN="Lithuanian Sangha":MAILTO:alvydas.turskisATgmailDOTcom
GEO:54.745986;25.264749
X-APPLE-STRUCTURED-LOCATION;VALUE=URI;X-ADDRESS=Vilnius Zen Center Mokyklos str. 21 A Vilnius Lithuania;X-APPLE-RADIUS=500;X-TITLE=Mokyklos str. 21 A:geo:25.264749,54.745986
END:VEVENT
END:VCALENDAR