﻿BEGIN:VCALENDAR
VERSION:2.0
PRODID:-//Kwan Um School Of Zen Europe - ECPv6.15.17.1//NONSGML v1.0//EN
CALSCALE:GREGORIAN
METHOD:PUBLISH
X-WR-CALNAME:Kwan Um School Of Zen Europe
X-ORIGINAL-URL:https://www.kwanumeurope.org
X-WR-CALDESC:Events for Kwan Um School Of Zen Europe
REFRESH-INTERVAL;VALUE=DURATION:PT1H
X-Robots-Tag:noindex
X-PUBLISHED-TTL:PT1H
BEGIN:VTIMEZONE
TZID:Europe/London
BEGIN:DAYLIGHT
TZOFFSETFROM:+0000
TZOFFSETTO:+0100
TZNAME:BST
DTSTART:20160327T010000
END:DAYLIGHT
BEGIN:STANDARD
TZOFFSETFROM:+0100
TZOFFSETTO:+0000
TZNAME:GMT
DTSTART:20161030T010000
END:STANDARD
BEGIN:DAYLIGHT
TZOFFSETFROM:+0000
TZOFFSETTO:+0100
TZNAME:BST
DTSTART:20170326T010000
END:DAYLIGHT
BEGIN:STANDARD
TZOFFSETFROM:+0100
TZOFFSETTO:+0000
TZNAME:GMT
DTSTART:20171029T010000
END:STANDARD
BEGIN:DAYLIGHT
TZOFFSETFROM:+0000
TZOFFSETTO:+0100
TZNAME:BST
DTSTART:20180325T010000
END:DAYLIGHT
BEGIN:STANDARD
TZOFFSETFROM:+0100
TZOFFSETTO:+0000
TZNAME:GMT
DTSTART:20181028T010000
END:STANDARD
END:VTIMEZONE
BEGIN:VEVENT
DTSTART;TZID=Europe/London:20170625T180000
DTEND;TZID=Europe/London:20170709T170000
DTSTAMP:20260419T065117
CREATED:20170412T151534Z
LAST-MODIFIED:20170412T151534Z
UID:4240-1498413600-1499619600@www.kwanumeurope.org
SUMMARY:YMJJ (SRP) at Seon Mun Sa\, Czech Republic
DESCRIPTION:Come and join us for the second and third week of our Summer Retreat Program\, to be held at Seon Mun Sa\, Vrážné\, Czech Republic. \nThe following teachers will lead the retreat: \n1. 25.June-02.July Dae Kwang SSN at Seon Mun Sa\, Czech Republic\n2. 02-09.July Jiří Hazlbauer JDPSN at Seon Mun Sa\, Czech Republic \nStudents\, retirees\, temporarily unemployed seeking for work\, disabled people and school children if they are assisted by parents sitting the same retreat in a difficult financial situation and wishing to sit at least two weeks of retreat in any Summer Retreat Program can also apply for scholarship funded by KUSZ/E Council. Please provide your Guiding Teacher’s recommendation to comms@kwanumeurope.org and if you are our School’s member you can receive up to 50% discount.
URL:https://www.kwanumeurope.org/event/ymjj-srp-jiri-hazlbauer-jdpsn/
LOCATION:Seon Mun Sa\, Vrážné 3\, Jevičko \, 56943\, Czech Republic
CATEGORIES:Summer Retreat Program
ATTACH;FMTTYPE=image/jpeg:https://www.kwanumeurope.org/wp-content/uploads/2017/04/banner-4-1.jpg
ORGANIZER;CN="George Hazlbauer":MAILTO:chongkwan@gmail.com
GEO:49.6752413;16.7791996
X-APPLE-STRUCTURED-LOCATION;VALUE=URI;X-ADDRESS=Seon Mun Sa Vrážné 3 Jevičko  56943 Czech Republic;X-APPLE-RADIUS=500;X-TITLE=Vrážné 3:geo:16.7791996,49.6752413
END:VEVENT
END:VCALENDAR