﻿BEGIN:VCALENDAR
VERSION:2.0
PRODID:-//Kwan Um School Of Zen Europe - ECPv6.15.17.1//NONSGML v1.0//EN
CALSCALE:GREGORIAN
METHOD:PUBLISH
X-WR-CALNAME:Kwan Um School Of Zen Europe
X-ORIGINAL-URL:https://www.kwanumeurope.org
X-WR-CALDESC:Events for Kwan Um School Of Zen Europe
REFRESH-INTERVAL;VALUE=DURATION:PT1H
X-Robots-Tag:noindex
X-PUBLISHED-TTL:PT1H
BEGIN:VTIMEZONE
TZID:Europe/Bratislava
BEGIN:DAYLIGHT
TZOFFSETFROM:+0100
TZOFFSETTO:+0200
TZNAME:CEST
DTSTART:20160327T010000
END:DAYLIGHT
BEGIN:STANDARD
TZOFFSETFROM:+0200
TZOFFSETTO:+0100
TZNAME:CET
DTSTART:20161030T010000
END:STANDARD
BEGIN:DAYLIGHT
TZOFFSETFROM:+0100
TZOFFSETTO:+0200
TZNAME:CEST
DTSTART:20170326T010000
END:DAYLIGHT
BEGIN:STANDARD
TZOFFSETFROM:+0200
TZOFFSETTO:+0100
TZNAME:CET
DTSTART:20171029T010000
END:STANDARD
BEGIN:DAYLIGHT
TZOFFSETFROM:+0100
TZOFFSETTO:+0200
TZNAME:CEST
DTSTART:20180325T010000
END:DAYLIGHT
BEGIN:STANDARD
TZOFFSETFROM:+0200
TZOFFSETTO:+0100
TZNAME:CET
DTSTART:20181028T010000
END:STANDARD
END:VTIMEZONE
BEGIN:VEVENT
DTSTART;TZID=Europe/Bratislava:20170420T180000
DTEND;TZID=Europe/Bratislava:20170423T140000
DTSTAMP:20260420T052349
CREATED:20170412T160020Z
LAST-MODIFIED:20170412T160020Z
UID:11701-1492711200-1492956000@www.kwanumeurope.org
SUMMARY:YMJJ\, Surya Centrum
DESCRIPTION:Bratislava Zen Center YMJJ with Oleg Suk JDPSN is to be held in Surya Centrum\, starting at 18:00 on Thursday 20 April 2017 and ending at 14:00 on Sunday 23 April 2017\, followed by the Ceremony of Buddha Birthday. Retreat location: Sura Centrum\, Moravske Lieskove – Brestove 1282. There will be a second entry at 18:00 on Friday 7 April 2017.
URL:https://www.kwanumeurope.org/event/ymjj-surya-centrum-3/
LOCATION:Surya Centrum\, Brestové 1282\, Moravské Lieskové\,  916 42\, Slovakia (Slovak Republic)
CATEGORIES:Yong Maeng Jong Jin
ATTACH;FMTTYPE=image/jpeg:https://www.kwanumeurope.org/wp-content/uploads/2016/02/oleg_lubor.jpg
ORGANIZER;CN="Bratislava Zen Center":MAILTO:bzc108@gmail.com
GEO:48.83728;17.77171
X-APPLE-STRUCTURED-LOCATION;VALUE=URI;X-ADDRESS=Surya Centrum Brestové 1282 Moravské Lieskové  916 42 Slovakia (Slovak Republic);X-APPLE-RADIUS=500;X-TITLE=Brestové 1282:geo:17.77171,48.83728
END:VEVENT
END:VCALENDAR