﻿BEGIN:VCALENDAR
VERSION:2.0
PRODID:-//Kwan Um School Of Zen Europe - ECPv6.15.17.1//NONSGML v1.0//EN
CALSCALE:GREGORIAN
METHOD:PUBLISH
X-WR-CALNAME:Kwan Um School Of Zen Europe
X-ORIGINAL-URL:https://www.kwanumeurope.org
X-WR-CALDESC:Events for Kwan Um School Of Zen Europe
REFRESH-INTERVAL;VALUE=DURATION:PT1H
X-Robots-Tag:noindex
X-PUBLISHED-TTL:PT1H
BEGIN:VTIMEZONE
TZID:America/New_York
BEGIN:DAYLIGHT
TZOFFSETFROM:-0500
TZOFFSETTO:-0400
TZNAME:EDT
DTSTART:20160313T070000
END:DAYLIGHT
BEGIN:STANDARD
TZOFFSETFROM:-0400
TZOFFSETTO:-0500
TZNAME:EST
DTSTART:20161106T060000
END:STANDARD
BEGIN:DAYLIGHT
TZOFFSETFROM:-0500
TZOFFSETTO:-0400
TZNAME:EDT
DTSTART:20170312T070000
END:DAYLIGHT
BEGIN:STANDARD
TZOFFSETFROM:-0400
TZOFFSETTO:-0500
TZNAME:EST
DTSTART:20171105T060000
END:STANDARD
BEGIN:DAYLIGHT
TZOFFSETFROM:-0500
TZOFFSETTO:-0400
TZNAME:EDT
DTSTART:20180311T070000
END:DAYLIGHT
BEGIN:STANDARD
TZOFFSETFROM:-0400
TZOFFSETTO:-0500
TZNAME:EST
DTSTART:20181104T060000
END:STANDARD
END:VTIMEZONE
BEGIN:VEVENT
DTSTART;TZID=America/New_York:20171008T080000
DTEND;TZID=America/New_York:20171015T170000
DTSTAMP:20260420T060326
CREATED:20160212T133001Z
LAST-MODIFIED:20160212T133001Z
UID:11662-1507449600-1508086800@www.kwanumeurope.org
SUMMARY:The Whole World is a Single Flower Conference\, Providence
DESCRIPTION:[av_heading heading=’The triennial conference of the Kwan Um School of Zen The Whole World is a Single Flower Conference will be held the week of October 8 to 15\, 2017\, at the Providence Zen Center in Cumberland\, Rhode Island\, USA.’ tag=’h3′ style=” size=” subheading_active=” subheading_size=’15’ padding=’10’ color=” custom_font=”][/av_heading] \nAs practicing Zen Buddhists\, we directly perceive that everything changes. Without doing anything\, myriads of changes incessantly come and go in our daily lives. But in the last 10 years we have increasingly awakened to immense changes happening on our planet: climate changes\, decreasing biodiversity\, increased pollution among many others. We will look very closely at these changes in our Whole World is a Single Flower Event in 2017. The Kwan Um School of Zen Sanghas and communities as well as other participants will share with each other concerns\, ideas\, and solutions regarding these changes. We will take part in lively discussions and role-playing forums leading to possible solutions and to what we can do. \nEveryone is warmly invited to come and greet old friends and make new friends in beautiful Providence Zen Center\, the original temple-home for the Kwan Um School of Zen Sanghas. Let’s exchange concerns and solutions\, see the New England nature\, share news around bonfires and great food\, practice and sing Kido together with participants from Hong Kong\, USA\, Mexico\, Malaysia\, Singapore\, Korea\, Spain\, Lithuania\, Germany\, Israel\, Austria\, Poland\, France\, Russia\, Belgium\, Hungary and Czech Republic\, all petals of One Single Flower. \nFor further inquiries please visit the conference website or contact our regional representative Barbara Pardo. \n 
URL:https://www.kwanumeurope.org/event/zen-conference-3/
LOCATION:Providence\, 99 Pound Rd\, Cumberland\, RI\, RI 02864\, United States
CATEGORIES:Major Events
ATTACH;FMTTYPE=image/jpeg:https://www.kwanumeurope.org/wp-content/uploads/2016/02/Zen-Conerence-WWSF.jpg
GEO:41.969544;-71.434952
X-APPLE-STRUCTURED-LOCATION;VALUE=URI;X-ADDRESS=Providence 99 Pound Rd Cumberland RI RI 02864 United States;X-APPLE-RADIUS=500;X-TITLE=99 Pound Rd:geo:-71.434952,41.969544
END:VEVENT
END:VCALENDAR