﻿BEGIN:VCALENDAR
VERSION:2.0
PRODID:-//Kwan Um School Of Zen Europe - ECPv6.15.17.1//NONSGML v1.0//EN
CALSCALE:GREGORIAN
METHOD:PUBLISH
X-WR-CALNAME:Kwan Um School Of Zen Europe
X-ORIGINAL-URL:https://www.kwanumeurope.org
X-WR-CALDESC:Events for Kwan Um School Of Zen Europe
REFRESH-INTERVAL;VALUE=DURATION:PT1H
X-Robots-Tag:noindex
X-PUBLISHED-TTL:PT1H
BEGIN:VTIMEZONE
TZID:Europe/London
BEGIN:DAYLIGHT
TZOFFSETFROM:+0000
TZOFFSETTO:+0100
TZNAME:BST
DTSTART:20180325T010000
END:DAYLIGHT
BEGIN:STANDARD
TZOFFSETFROM:+0100
TZOFFSETTO:+0000
TZNAME:GMT
DTSTART:20181028T010000
END:STANDARD
BEGIN:DAYLIGHT
TZOFFSETFROM:+0000
TZOFFSETTO:+0100
TZNAME:BST
DTSTART:20190331T010000
END:DAYLIGHT
BEGIN:STANDARD
TZOFFSETFROM:+0100
TZOFFSETTO:+0000
TZNAME:GMT
DTSTART:20191027T010000
END:STANDARD
BEGIN:DAYLIGHT
TZOFFSETFROM:+0000
TZOFFSETTO:+0100
TZNAME:BST
DTSTART:20200329T010000
END:DAYLIGHT
BEGIN:STANDARD
TZOFFSETFROM:+0100
TZOFFSETTO:+0000
TZNAME:GMT
DTSTART:20201025T010000
END:STANDARD
END:VTIMEZONE
BEGIN:VEVENT
DTSTART;TZID=Europe/London:20191207T080000
DTEND;TZID=Europe/London:20191207T170000
DTSTAMP:20260419T164746
CREATED:20190714T104652Z
LAST-MODIFIED:20190714T104652Z
UID:6035-1575705600-1575738000@www.kwanumeurope.org
SUMMARY:Zen Day with Zen Master Ji Kwang
DESCRIPTION:This Zen Day with Zen Master Ji Kwang is meant as an intense period of practicing Zen\, it is filled with different kinds of meditation as well as bowing\, chanting and interviews with the Master. Please contact the Zen Group Hamburg for details.
URL:https://www.kwanumeurope.org/event/zen-day-with-zen-master-ji-kwang-2/
LOCATION:Hamburg Meditation Center\, Rothestraße 62\, Hamburg-Ottensen\, Hamburg\, 22765\, Germany
END:VEVENT
END:VCALENDAR