﻿BEGIN:VCALENDAR
VERSION:2.0
PRODID:-//Kwan Um School Of Zen Europe - ECPv6.15.17.1//NONSGML v1.0//EN
CALSCALE:GREGORIAN
METHOD:PUBLISH
X-WR-CALNAME:Kwan Um School Of Zen Europe
X-ORIGINAL-URL:https://www.kwanumeurope.org
X-WR-CALDESC:Events for Kwan Um School Of Zen Europe
REFRESH-INTERVAL;VALUE=DURATION:PT1H
X-Robots-Tag:noindex
X-PUBLISHED-TTL:PT1H
BEGIN:VTIMEZONE
TZID:Europe/London
BEGIN:DAYLIGHT
TZOFFSETFROM:+0000
TZOFFSETTO:+0100
TZNAME:BST
DTSTART:20210328T010000
END:DAYLIGHT
BEGIN:STANDARD
TZOFFSETFROM:+0100
TZOFFSETTO:+0000
TZNAME:GMT
DTSTART:20211031T010000
END:STANDARD
BEGIN:DAYLIGHT
TZOFFSETFROM:+0000
TZOFFSETTO:+0100
TZNAME:BST
DTSTART:20220327T010000
END:DAYLIGHT
BEGIN:STANDARD
TZOFFSETFROM:+0100
TZOFFSETTO:+0000
TZNAME:GMT
DTSTART:20221030T010000
END:STANDARD
BEGIN:DAYLIGHT
TZOFFSETFROM:+0000
TZOFFSETTO:+0100
TZNAME:BST
DTSTART:20230326T010000
END:DAYLIGHT
BEGIN:STANDARD
TZOFFSETFROM:+0100
TZOFFSETTO:+0000
TZNAME:GMT
DTSTART:20231029T010000
END:STANDARD
END:VTIMEZONE
BEGIN:VEVENT
DTSTART;TZID=Europe/London:20220813T090000
DTEND;TZID=Europe/London:20220813T170000
DTSTAMP:20260420T234518
CREATED:20220728T084024Z
LAST-MODIFIED:20220728T084024Z
UID:11924-1660381200-1660410000@www.kwanumeurope.org
SUMMARY:ZEN DAY WITH ZEN MASTER JI KWANG
DESCRIPTION:ZEN DAY WITH ZEN MASTER JI KWANG\non Saturday\, August 13 2022 in the Zen Center Berlin \n9:00 to 17:00 at the Zen Center Berlin: Gottschedstr. 4\, Aufgang 5\, 13088 Berlin \nplease bring your own lunch \nCosts: 30€ \nPlease register as early as possible\, latest by 5 August: berlin@kwanumzen.de or +49-30-46605090
URL:https://www.kwanumeurope.org/event/zen-day-with-zen-master-ji-kwang-3-3/
CATEGORIES:One Day Retreat
ATTACH;FMTTYPE=image/jpeg:https://www.kwanumeurope.org/wp-content/uploads/2022/07/IMG_0207-845x321-1-1.jpg
END:VEVENT
END:VCALENDAR