﻿BEGIN:VCALENDAR
VERSION:2.0
PRODID:-//Kwan Um School Of Zen Europe - ECPv6.15.17.1//NONSGML v1.0//EN
CALSCALE:GREGORIAN
METHOD:PUBLISH
X-WR-CALNAME:Kwan Um School Of Zen Europe
X-ORIGINAL-URL:https://www.kwanumeurope.org
X-WR-CALDESC:Events for Kwan Um School Of Zen Europe
REFRESH-INTERVAL;VALUE=DURATION:PT1H
X-Robots-Tag:noindex
X-PUBLISHED-TTL:PT1H
BEGIN:VTIMEZONE
TZID:UTC
BEGIN:STANDARD
TZOFFSETFROM:+0000
TZOFFSETTO:+0000
TZNAME:UTC
DTSTART:20230101T000000
END:STANDARD
END:VTIMEZONE
BEGIN:VEVENT
DTSTART;TZID=UTC:20240616T080000
DTEND;TZID=UTC:20240623T170000
DTSTAMP:20260419T235016
CREATED:20240526T171235Z
LAST-MODIFIED:20240603T152623Z
UID:12974-1718524800-1719162000@www.kwanumeurope.org
SUMMARY:Zen Forest\, Lithuania
DESCRIPTION:Zen Forest\, Lithuania \nZen Master Joeng Hye \nWebsite: https://www.zen.lt/ \nContact: ryskus1@gmail.com or alvydas.turskis@gmail.com
URL:https://www.kwanumeurope.org/event/zen-forest-lithuania/
LOCATION:Zen Forest\, Lithuania\, Lithuania
CATEGORIES:Kyol Che,Summer Retreat Program
ATTACH;FMTTYPE=image/jpeg:https://www.kwanumeurope.org/wp-content/uploads/2022/01/ZM.jpg
END:VEVENT
END:VCALENDAR