﻿BEGIN:VCALENDAR
VERSION:2.0
PRODID:-//Kwan Um School Of Zen Europe - ECPv6.15.17.1//NONSGML v1.0//EN
CALSCALE:GREGORIAN
METHOD:PUBLISH
X-WR-CALNAME:Kwan Um School Of Zen Europe
X-ORIGINAL-URL:https://www.kwanumeurope.org
X-WR-CALDESC:Events for Kwan Um School Of Zen Europe
REFRESH-INTERVAL;VALUE=DURATION:PT1H
X-Robots-Tag:noindex
X-PUBLISHED-TTL:PT1H
BEGIN:VTIMEZONE
TZID:Europe/Berlin
BEGIN:DAYLIGHT
TZOFFSETFROM:+0100
TZOFFSETTO:+0200
TZNAME:CEST
DTSTART:20170326T010000
END:DAYLIGHT
BEGIN:STANDARD
TZOFFSETFROM:+0200
TZOFFSETTO:+0100
TZNAME:CET
DTSTART:20171029T010000
END:STANDARD
BEGIN:DAYLIGHT
TZOFFSETFROM:+0100
TZOFFSETTO:+0200
TZNAME:CEST
DTSTART:20180325T010000
END:DAYLIGHT
BEGIN:STANDARD
TZOFFSETFROM:+0200
TZOFFSETTO:+0100
TZNAME:CET
DTSTART:20181028T010000
END:STANDARD
BEGIN:DAYLIGHT
TZOFFSETFROM:+0100
TZOFFSETTO:+0200
TZNAME:CEST
DTSTART:20190331T010000
END:DAYLIGHT
BEGIN:STANDARD
TZOFFSETFROM:+0200
TZOFFSETTO:+0100
TZNAME:CET
DTSTART:20191027T010000
END:STANDARD
END:VTIMEZONE
BEGIN:VEVENT
DTSTART;TZID=Europe/Berlin:20181020T083000
DTEND;TZID=Europe/Berlin:20181021T160000
DTSTAMP:20260420T105456
CREATED:20180608T121814Z
LAST-MODIFIED:20180608T121814Z
UID:10152-1540024200-1540137600@www.kwanumeurope.org
SUMMARY:Zen Retreat with Arne Schaefer JDPSN in Hamburg\, Germany
DESCRIPTION:Zen Retreat with Dharma Master Arne Schaefer in Hamburg Zen Group. \nFor more information and registration please write to hamburg@kwanumzen.de
URL:https://www.kwanumeurope.org/event/zen-retreat-arne-schaefer-jdpsn-hamburg-germany-2/
LOCATION:Hamburg Meditation Center\, Rothestraße 62\, Hamburg-Ottensen\, Hamburg\, 22765\, Germany
CATEGORIES:Yong Maeng Jong Jin
ATTACH;FMTTYPE=image/jpeg:https://www.kwanumeurope.org/wp-content/uploads/2018/06/Arne-Schaefer-1-scaled.jpg
END:VEVENT
END:VCALENDAR