﻿BEGIN:VCALENDAR
VERSION:2.0
PRODID:-//Kwan Um School Of Zen Europe - ECPv6.15.17.1//NONSGML v1.0//EN
CALSCALE:GREGORIAN
METHOD:PUBLISH
X-WR-CALNAME:Kwan Um School Of Zen Europe
X-ORIGINAL-URL:https://www.kwanumeurope.org
X-WR-CALDESC:Events for Kwan Um School Of Zen Europe
REFRESH-INTERVAL;VALUE=DURATION:PT1H
X-Robots-Tag:noindex
X-PUBLISHED-TTL:PT1H
BEGIN:VTIMEZONE
TZID:UTC
BEGIN:STANDARD
TZOFFSETFROM:+0000
TZOFFSETTO:+0000
TZNAME:UTC
DTSTART:20230101T000000
END:STANDARD
END:VTIMEZONE
BEGIN:VEVENT
DTSTART;TZID=UTC:20240721T080000
DTEND;TZID=UTC:20240811T170000
DTSTAMP:20260418T230803
CREATED:20240603T154602Z
LAST-MODIFIED:20240603T154602Z
UID:13019-1721548800-1723395600@www.kwanumeurope.org
SUMMARY:Zen Retreat at Wu Bong Sa\, Warsaw\, Poland
DESCRIPTION:Join us for a 3 week meditation retreat in our beautiful Polish Zen center Wu Bong Sa\, located in Warsaw. \nWe’ll practice sitting\, bowing\, chanting\, working and eating together in complete silence. \nPossibility of sitting the retreat for weeks\, entrances and exits on Sundays. \nTeachers: \n21.07 – 28.07 \nAgata Hae In JDPSN \n \n  \n  \n28.07 – 04.08 \nBon Shim SSN \n \n  \n04.08 – 11.08 \nJoeng Hye SSN \n \n  \nContact: wubongsa@gmail.com | Check our website for more details…
URL:https://www.kwanumeurope.org/event/zen-retreat-at-wu-bong-sa-warsaw-poland/
LOCATION:Wu Bong Sa\, Warsaw\, Małowiejska 24\, Warszawa\, Poland
CATEGORIES:Kyol Che,Summer Retreat Program
ATTACH;FMTTYPE=image/jpeg:https://www.kwanumeurope.org/wp-content/uploads/2024/06/images-2.jpg
ORGANIZER;CN="Wu Bong Sa":MAILTO:kwanum@zen.pl 
GEO:52.162307;21.19754
X-APPLE-STRUCTURED-LOCATION;VALUE=URI;X-ADDRESS=Wu Bong Sa Warsaw Małowiejska 24 Warszawa Poland;X-APPLE-RADIUS=500;X-TITLE=Małowiejska 24:geo:21.19754,52.162307
END:VEVENT
END:VCALENDAR