﻿BEGIN:VCALENDAR
VERSION:2.0
PRODID:-//Kwan Um School Of Zen Europe - ECPv6.15.17.1//NONSGML v1.0//EN
CALSCALE:GREGORIAN
METHOD:PUBLISH
X-WR-CALNAME:Kwan Um School Of Zen Europe
X-ORIGINAL-URL:https://www.kwanumeurope.org
X-WR-CALDESC:Events for Kwan Um School Of Zen Europe
REFRESH-INTERVAL;VALUE=DURATION:PT1H
X-Robots-Tag:noindex
X-PUBLISHED-TTL:PT1H
BEGIN:VTIMEZONE
TZID:Europe/London
BEGIN:DAYLIGHT
TZOFFSETFROM:+0000
TZOFFSETTO:+0100
TZNAME:BST
DTSTART:20170326T010000
END:DAYLIGHT
BEGIN:STANDARD
TZOFFSETFROM:+0100
TZOFFSETTO:+0000
TZNAME:GMT
DTSTART:20171029T010000
END:STANDARD
BEGIN:DAYLIGHT
TZOFFSETFROM:+0000
TZOFFSETTO:+0100
TZNAME:BST
DTSTART:20180325T010000
END:DAYLIGHT
BEGIN:STANDARD
TZOFFSETFROM:+0100
TZOFFSETTO:+0000
TZNAME:GMT
DTSTART:20181028T010000
END:STANDARD
BEGIN:DAYLIGHT
TZOFFSETFROM:+0000
TZOFFSETTO:+0100
TZNAME:BST
DTSTART:20190331T010000
END:DAYLIGHT
BEGIN:STANDARD
TZOFFSETFROM:+0100
TZOFFSETTO:+0000
TZNAME:GMT
DTSTART:20191027T010000
END:STANDARD
END:VTIMEZONE
BEGIN:VEVENT
DTSTART;TZID=Europe/London:20180208T180000
DTEND;TZID=Europe/London:20180211T150000
DTSTAMP:20260420T060413
CREATED:20171122T134155Z
LAST-MODIFIED:20171122T134155Z
UID:10118-1518112800-1518361200@www.kwanumeurope.org
SUMMARY:Zen-Retreat with Dharma-Master Arne Schaefer
DESCRIPTION:This workshop with Dharma Master Arne Schaefer is meant as an intense period of practicing Zen\, it is filled with different kinds of meditation as well as bowing\, chanting and interviews with the Master. Please contact the Zen Center Berlin for details.
URL:https://www.kwanumeurope.org/event/zen-retreat-dharma-master-arne-schaefer-2-2/
LOCATION:Zen Zentrum Berlin\,  Gottschedstr. 4\, Berlin\, 13357\, Germany
CATEGORIES:Major Events
ATTACH;FMTTYPE=image/jpeg:https://www.kwanumeurope.org/wp-content/uploads/2017/08/IMG_0017-1-scaled.jpg
ORGANIZER;CN="Zen Zentrum Berlin":MAILTO:berlin@kwanumzen.de
GEO:52.5500676;13.3700523
X-APPLE-STRUCTURED-LOCATION;VALUE=URI;X-ADDRESS=Zen Zentrum Berlin  Gottschedstr. 4 Berlin 13357 Germany;X-APPLE-RADIUS=500;X-TITLE=Gottschedstr. 4:geo:13.3700523,52.5500676
END:VEVENT
END:VCALENDAR