﻿BEGIN:VCALENDAR
VERSION:2.0
PRODID:-//Kwan Um School Of Zen Europe - ECPv6.15.17.1//NONSGML v1.0//EN
CALSCALE:GREGORIAN
METHOD:PUBLISH
X-WR-CALNAME:Kwan Um School Of Zen Europe
X-ORIGINAL-URL:https://www.kwanumeurope.org
X-WR-CALDESC:Events for Kwan Um School Of Zen Europe
REFRESH-INTERVAL;VALUE=DURATION:PT1H
X-Robots-Tag:noindex
X-PUBLISHED-TTL:PT1H
BEGIN:VTIMEZONE
TZID:Europe/London
BEGIN:DAYLIGHT
TZOFFSETFROM:+0000
TZOFFSETTO:+0100
TZNAME:BST
DTSTART:20170326T010000
END:DAYLIGHT
BEGIN:STANDARD
TZOFFSETFROM:+0100
TZOFFSETTO:+0000
TZNAME:GMT
DTSTART:20171029T010000
END:STANDARD
BEGIN:DAYLIGHT
TZOFFSETFROM:+0000
TZOFFSETTO:+0100
TZNAME:BST
DTSTART:20180325T010000
END:DAYLIGHT
BEGIN:STANDARD
TZOFFSETFROM:+0100
TZOFFSETTO:+0000
TZNAME:GMT
DTSTART:20181028T010000
END:STANDARD
BEGIN:DAYLIGHT
TZOFFSETFROM:+0000
TZOFFSETTO:+0100
TZNAME:BST
DTSTART:20190331T010000
END:DAYLIGHT
BEGIN:STANDARD
TZOFFSETFROM:+0100
TZOFFSETTO:+0000
TZNAME:GMT
DTSTART:20191027T010000
END:STANDARD
END:VTIMEZONE
BEGIN:VEVENT
DTSTART;TZID=Europe/London:20180210T060000
DTEND;TZID=Europe/London:20180211T170000
DTSTAMP:20260420T075006
CREATED:20180126T132233Z
LAST-MODIFIED:20180126T132233Z
UID:11749-1518242400-1518368400@www.kwanumeurope.org
SUMMARY:Zen Retreat with Zen Master Jeong Hye in Kaunas\, Lithuania
DESCRIPTION:A two days retreat (Yong Meng Jong Jin – YMJJ) with Zen Master Jeong Hye is to be held in Kaunas Zen Centre\, Lithuania. Typical YMJJ schedule includes bowing\, chanting sitting\, walking\, formal meals\, personal interviews with the Master. Dharma Talk in Kauna ZC is scheduled for 11 February 2018 at 14:00. For further inquiries please contact the organizer.
URL:https://www.kwanumeurope.org/event/zen-retreat-zen-master-jeong-hye-kaunas-lithuania-3/
LOCATION:Kaunas Zen Center\, Verkių str. 25B\, Kaunas\, 45145\, Lithuania
CATEGORIES:Dharma Speech,Yong Maeng Jong Jin
ATTACH;FMTTYPE=image/jpeg:https://www.kwanumeurope.org/wp-content/uploads/2016/06/p1-10.jpg
ORGANIZER;CN="Lithuanian Sangha":MAILTO:alvydas.turskisATgmailDOTcom
END:VEVENT
END:VCALENDAR