﻿BEGIN:VCALENDAR
VERSION:2.0
PRODID:-//Kwan Um School Of Zen Europe - ECPv6.15.17.1//NONSGML v1.0//EN
CALSCALE:GREGORIAN
METHOD:PUBLISH
X-ORIGINAL-URL:https://www.kwanumeurope.org
X-WR-CALDESC:Events for Kwan Um School Of Zen Europe
REFRESH-INTERVAL;VALUE=DURATION:PT1H
X-Robots-Tag:noindex
X-PUBLISHED-TTL:PT1H
BEGIN:VTIMEZONE
TZID:Europe/Berlin
BEGIN:DAYLIGHT
TZOFFSETFROM:+0100
TZOFFSETTO:+0200
TZNAME:CEST
DTSTART:20250330T010000
END:DAYLIGHT
BEGIN:STANDARD
TZOFFSETFROM:+0200
TZOFFSETTO:+0100
TZNAME:CET
DTSTART:20251026T010000
END:STANDARD
BEGIN:DAYLIGHT
TZOFFSETFROM:+0100
TZOFFSETTO:+0200
TZNAME:CEST
DTSTART:20260329T010000
END:DAYLIGHT
BEGIN:STANDARD
TZOFFSETFROM:+0200
TZOFFSETTO:+0100
TZNAME:CET
DTSTART:20261025T010000
END:STANDARD
BEGIN:DAYLIGHT
TZOFFSETFROM:+0100
TZOFFSETTO:+0200
TZNAME:CEST
DTSTART:20270328T010000
END:DAYLIGHT
BEGIN:STANDARD
TZOFFSETFROM:+0200
TZOFFSETTO:+0100
TZNAME:CET
DTSTART:20271031T010000
END:STANDARD
END:VTIMEZONE
BEGIN:VEVENT
DTSTART;TZID=Europe/Berlin:20260517T103000
DTEND;TZID=Europe/Berlin:20260517T123000
DTSTAMP:20260419T151447
CREATED:20251125T114438Z
LAST-MODIFIED:20260317T125703Z
UID:10000916-1779013800-1779021000@www.kwanumeurope.org
SUMMARY:Transmission Ceremony for Arne Schaefer JDPSN\, May 17th 2026 in Warsaw\, Poland
DESCRIPTION:Zen Master Bon Shim will give transmission to her dharma successor Arne Schaefer JDPSN to become Zen Master. \nThe transmission Ceremony will take place on Sunday\, May 17th 2026 in Zen Center Warsaw (Wu Bong Sa)\, Poland\, at 10:30 a.m. and will take about 2 hours. \nFor further information and registration (until April 12th 2026) to the Ceremony please follow this link: \nTransmission & Inka Ceremonies 2026 \n \n 
URL:https://www.kwanumeurope.org/event/transmission-ceremony-arne-schaefer/
LOCATION:Wu Bong Sa\, Warsaw\, Małowiejska 24\, Warszawa\, Poland
CATEGORIES:Major Events
ATTACH;FMTTYPE=image/jpeg:https://www.kwanumeurope.org/wp-content/uploads/2024/11/YMJJ-Arne-2015-13-1-768x1024-1.jpg
ORGANIZER;CN="Wu Bong Sa":MAILTO:kwanum@zen.pl 
GEO:52.162307;21.19754
X-APPLE-STRUCTURED-LOCATION;VALUE=URI;X-ADDRESS=Wu Bong Sa Warsaw Małowiejska 24 Warszawa Poland;X-APPLE-RADIUS=500;X-TITLE=Małowiejska 24:geo:21.19754,52.162307
END:VEVENT
END:VCALENDAR