﻿BEGIN:VCALENDAR
VERSION:2.0
PRODID:-//Kwan Um School Of Zen Europe - ECPv6.15.17.1//NONSGML v1.0//EN
CALSCALE:GREGORIAN
METHOD:PUBLISH
X-WR-CALNAME:Kwan Um School Of Zen Europe
X-ORIGINAL-URL:https://www.kwanumeurope.org
X-WR-CALDESC:Events for Kwan Um School Of Zen Europe
REFRESH-INTERVAL;VALUE=DURATION:PT1H
X-Robots-Tag:noindex
X-PUBLISHED-TTL:PT1H
BEGIN:VTIMEZONE
TZID:Europe/Berlin
BEGIN:DAYLIGHT
TZOFFSETFROM:+0100
TZOFFSETTO:+0200
TZNAME:CEST
DTSTART:20250330T010000
END:DAYLIGHT
BEGIN:STANDARD
TZOFFSETFROM:+0200
TZOFFSETTO:+0100
TZNAME:CET
DTSTART:20251026T010000
END:STANDARD
BEGIN:DAYLIGHT
TZOFFSETFROM:+0100
TZOFFSETTO:+0200
TZNAME:CEST
DTSTART:20260329T010000
END:DAYLIGHT
BEGIN:STANDARD
TZOFFSETFROM:+0200
TZOFFSETTO:+0100
TZNAME:CET
DTSTART:20261025T010000
END:STANDARD
BEGIN:DAYLIGHT
TZOFFSETFROM:+0100
TZOFFSETTO:+0200
TZNAME:CEST
DTSTART:20270328T010000
END:DAYLIGHT
BEGIN:STANDARD
TZOFFSETFROM:+0200
TZOFFSETTO:+0100
TZNAME:CET
DTSTART:20271031T010000
END:STANDARD
END:VTIMEZONE
BEGIN:VTIMEZONE
TZID:Europe/London
BEGIN:DAYLIGHT
TZOFFSETFROM:+0000
TZOFFSETTO:+0100
TZNAME:BST
DTSTART:20250330T010000
END:DAYLIGHT
BEGIN:STANDARD
TZOFFSETFROM:+0100
TZOFFSETTO:+0000
TZNAME:GMT
DTSTART:20251026T010000
END:STANDARD
BEGIN:DAYLIGHT
TZOFFSETFROM:+0000
TZOFFSETTO:+0100
TZNAME:BST
DTSTART:20260329T010000
END:DAYLIGHT
BEGIN:STANDARD
TZOFFSETFROM:+0100
TZOFFSETTO:+0000
TZNAME:GMT
DTSTART:20261025T010000
END:STANDARD
BEGIN:DAYLIGHT
TZOFFSETFROM:+0000
TZOFFSETTO:+0100
TZNAME:BST
DTSTART:20270328T010000
END:DAYLIGHT
BEGIN:STANDARD
TZOFFSETFROM:+0100
TZOFFSETTO:+0000
TZNAME:GMT
DTSTART:20271031T010000
END:STANDARD
END:VTIMEZONE
BEGIN:VEVENT
DTSTART;TZID=Europe/Berlin:20260527T180000
DTEND;TZID=Europe/Berlin:20260530T120000
DTSTAMP:20260421T233441
CREATED:20260316T104011Z
LAST-MODIFIED:20260421T204120Z
UID:10000920-1779904800-1780142400@www.kwanumeurope.org
SUMMARY:Spring YMJJ in Israel
DESCRIPTION:We invite you to our YMJJ Zen Retreat with (Barbara Pardo) in Kibutz Neot Smadar Israel\nIf you would like to join us\, please register via the registration formular on our website which will be online starting in February 2026  https://kwanumzen.de/en/events/ \nWe will practice meditation in sitting\, walking\, chanting\, eating\, and working.\nIf you have any questions please write us to kwanumisrael.org \nAbout the teachers:\n \nBarbara Pardo \n \n(Barbara Pardo)\nwas born in …. blah-blah \n 
URL:https://www.kwanumeurope.org/event/spring-ymjj-in-israel/
LOCATION:Naot Smadar\, Israel\, Israel
CATEGORIES:Weekend Retreat,Zen Workshop
ATTACH;FMTTYPE=image/jpeg:https://www.kwanumeurope.org/wp-content/uploads/2026/03/Avital-Retreat-May-2026-Replacement-Poster.jpg
ORGANIZER;CN="Avital Sebbag":MAILTO:avitality@gmail.com
END:VEVENT
BEGIN:VEVENT
DTSTART;TZID=Europe/Berlin:20260527T180000
DTEND;TZID=Europe/Berlin:20260530T120000
DTSTAMP:20260421T233441
CREATED:20260421T205133Z
LAST-MODIFIED:20260421T205310Z
UID:10000925-1779904800-1780142400@www.kwanumeurope.org
SUMMARY:Spring YMJJ in Israel
DESCRIPTION:We invite you to our YMJJ Zen Retreat with (Barbara Pardo) in Kibutz Neot Smadar Israel\nIf you would like to join us\, please register via the registration formular on our website which will be online starting in February 2026  https://kwanumzen.de/en/events/ \nWe will practice meditation in sitting\, walking\, chanting\, eating\, and working.\nIf you have any questions please write us to kwanumisrael.org \nAbout the teacher:\n \nBarbara Pardo \n 
URL:https://www.kwanumeurope.org/event/spring-ymjj-in-israel-2/
LOCATION:Naot Smadar\, Israel\, Israel
CATEGORIES:Weekend Retreat,Zen Workshop
ATTACH;FMTTYPE=image/jpeg:https://www.kwanumeurope.org/wp-content/uploads/2026/03/Avital-Retreat-May-2026-Replacement-Poster.jpg
ORGANIZER;CN="Avital Sebbag":MAILTO:avitality@gmail.com
END:VEVENT
BEGIN:VEVENT
DTSTART;TZID=Europe/London:20260704T100000
DTEND;TZID=Europe/London:20260704T180000
DTSTAMP:20260421T233441
CREATED:20260418T121946Z
LAST-MODIFIED:20260418T121946Z
UID:10000924-1783159200-1783188000@www.kwanumeurope.org
SUMMARY:Retreat in London with Dae An Zen Master
DESCRIPTION:Retreat in London with Dae An Zen Master will be in July 04 /2026.It is in person and online retreat includes  kongan interviews .
URL:https://www.kwanumeurope.org/event/retreat-in-london-with-dae-an-zen-master/
LOCATION:9 Manor Gardens London N7 6LA
CATEGORIES:One Day Retreat
ATTACH;FMTTYPE=image/jpeg:https://www.kwanumeurope.org/wp-content/uploads/2025/11/zm-dae-an.jpg
END:VEVENT
END:VCALENDAR