﻿BEGIN:VCALENDAR
VERSION:2.0
PRODID:-//Kwan Um School Of Zen Europe - ECPv6.15.17.1//NONSGML v1.0//EN
CALSCALE:GREGORIAN
METHOD:PUBLISH
X-WR-CALNAME:Kwan Um School Of Zen Europe
X-ORIGINAL-URL:https://www.kwanumeurope.org
X-WR-CALDESC:Events for Kwan Um School Of Zen Europe
REFRESH-INTERVAL;VALUE=DURATION:PT1H
X-Robots-Tag:noindex
X-PUBLISHED-TTL:PT1H
BEGIN:VTIMEZONE
TZID:Europe/London
BEGIN:DAYLIGHT
TZOFFSETFROM:+0000
TZOFFSETTO:+0100
TZNAME:BST
DTSTART:20210328T010000
END:DAYLIGHT
BEGIN:STANDARD
TZOFFSETFROM:+0100
TZOFFSETTO:+0000
TZNAME:GMT
DTSTART:20211031T010000
END:STANDARD
BEGIN:DAYLIGHT
TZOFFSETFROM:+0000
TZOFFSETTO:+0100
TZNAME:BST
DTSTART:20220327T010000
END:DAYLIGHT
BEGIN:STANDARD
TZOFFSETFROM:+0100
TZOFFSETTO:+0000
TZNAME:GMT
DTSTART:20221030T010000
END:STANDARD
BEGIN:DAYLIGHT
TZOFFSETFROM:+0000
TZOFFSETTO:+0100
TZNAME:BST
DTSTART:20230326T010000
END:DAYLIGHT
BEGIN:STANDARD
TZOFFSETFROM:+0100
TZOFFSETTO:+0000
TZNAME:GMT
DTSTART:20231029T010000
END:STANDARD
END:VTIMEZONE
BEGIN:VEVENT
DTSTART;TZID=Europe/London:20221217T093000
DTEND;TZID=Europe/London:20221217T180000
DTSTAMP:20260420T095857
CREATED:20221016T105720Z
LAST-MODIFIED:20221016T105720Z
UID:10000810-1671269400-1671300000@www.kwanumeurope.org
SUMMARY:One day retreat in London with Bogumila Malinowska JDPS
DESCRIPTION:Monthly one day retreat with Kongan interviews with Bogumila Malinowska JDPS.The retreat will have hybrid form\, we will be in person but anyone can join on zoom. \nThe registration will end one day before retreat will start . \nPlease register using email london.zen.kwanum@gmail.com
URL:https://www.kwanumeurope.org/event/one-day-retreat-in-london-with-bogumila-malinowska-jdps-2-3/
LOCATION:9 Manor Gardens London N7 6LA
CATEGORIES:One Day Retreat
ATTACH;FMTTYPE=image/jpeg:https://www.kwanumeurope.org/wp-content/uploads/2022/05/20171217_125910-1.jpg
END:VEVENT
BEGIN:VEVENT
DTSTART;TZID=Europe/London:20221217T080000
DTEND;TZID=Europe/London:20221217T110000
DTSTAMP:20260420T095857
CREATED:20220629T172956Z
LAST-MODIFIED:20221213T152817Z
UID:10000255-1671264000-1671274800@www.kwanumeurope.org
SUMMARY:Maha Sangha - Online Event
DESCRIPTION:The Teachers of the Kwan Um School of Zen Europe invite all practitioners\, not only in the European Sangha but also from around the world\, to join a special online Zoom Zen Practice.
URL:https://www.kwanumeurope.org/event/maha-sangha-online-event-2/
LOCATION:England
CATEGORIES:Sangha Weekend
ATTACH;FMTTYPE=image/jpeg:https://www.kwanumeurope.org/wp-content/uploads/2022/11/kusz-contact.jpg
END:VEVENT
BEGIN:VEVENT
DTSTART;TZID=Europe/London:20221217T080000
DTEND;TZID=Europe/London:20221217T110000
DTSTAMP:20260420T095857
CREATED:20220629T172956Z
LAST-MODIFIED:20220629T172956Z
UID:10000515-1671264000-1671274800@www.kwanumeurope.org
SUMMARY:Maha Sangha - Online Event
DESCRIPTION:Dear friends in the Dharma\, The month of December is the month of love and compassion. It is a really special time for us to come together with everything that is going on in the world. \n\n\n\n\n\n\nThe Teachers of the Kwan Um School of Zen Europe invite all practitioners\, not only in the European Sangha but also from around the world\, to join a special online Zoom Zen Practice. \n \n\n\n\n\n\n\nWe start  at 8:00 CET time: \n8:00 Start \n8:05 108 Bows \n8:30 Dedicated chanting Kwan Seum Bosal \n8:55 2 x 30 minutes Zen meditation (with 5 minutes break in between) \n10:00 Dharma talk \n10:20 Open space for questions and answers. \n11:00 Four Great Vows and End.   \n\n\n\n 
URL:https://www.kwanumeurope.org/event/maha-sangha-online-event-2-2/
LOCATION:England
CATEGORIES:Major Events,Sangha Weekend
ATTACH;FMTTYPE=image/jpeg:https://www.kwanumeurope.org/wp-content/uploads/2022/04/Zen-Day-May-7-2022-1.jpg
END:VEVENT
BEGIN:VEVENT
DTSTART;TZID=Europe/London:20221211T090000
DTEND;TZID=Europe/London:20221211T110000
DTSTAMP:20260420T095857
CREATED:20221119T161803Z
LAST-MODIFIED:20221119T161803Z
UID:10000531-1670749200-1670756400@www.kwanumeurope.org
SUMMARY:Dharma talk\, practice online and in person /monthly
DESCRIPTION:Dharma talk and short practice with Bogumila Malinowska JDPS in London
URL:https://www.kwanumeurope.org/event/dharma-talk-practice-online-and-in-person-monthly/
LOCATION:Brickworks Community Centre\, 42 Crouch Hill\, London\, England\, N44BY\, United Kingdom
CATEGORIES:Dharma Speech
END:VEVENT
BEGIN:VEVENT
DTSTART;TZID=Europe/London:20221211T090000
DTEND;TZID=Europe/London:20221211T110000
DTSTAMP:20260420T095857
CREATED:20221119T161803Z
LAST-MODIFIED:20221119T161803Z
UID:10000815-1670749200-1670756400@www.kwanumeurope.org
SUMMARY:Dharma talk\, practice online and in person /monthly
DESCRIPTION:Dharma talk and short practice with Bogumila Malinowska JDPS in London
URL:https://www.kwanumeurope.org/event/dharma-talk-practice-online-and-in-person-monthly-2/
LOCATION:Brickworks Community Centre\, 42 Crouch Hill\, London\, England\, N44BY\, United Kingdom
CATEGORIES:Dharma Speech
END:VEVENT
BEGIN:VEVENT
DTSTART;TZID=Europe/London:20221210T070000
DTEND;TZID=Europe/London:20221210T160000
DTSTAMP:20260420T095857
CREATED:20221123T095947Z
LAST-MODIFIED:20221123T095947Z
UID:10000535-1670655600-1670688000@www.kwanumeurope.org
SUMMARY:Zen-Day with Knud Rosenmayr JDPSN\, December 10\, 2022 (hybrid)
DESCRIPTION:>>> Download Flyer \nTeacher: Knud Rosenmayr JDPSN.\nBeginning: 7 a.m.\nEnd: 4 p.m. \nZen Days are short retreats that give us the opportunity to pause briefly and intensively: We come back to our breath and concentrate on the immediate Now – beyond all appointments\, worries\, and obligations. Many people experience this as liberating and relieving\, they draw strength and orientation from this experience. \nWe welcome you to the Zen Center to practice together – you can also participate online via Zoom! – Please register by December 5: we politely reserve the right to hold the Zen Day as an “online only” event if the number of registrations is low. Those who register will be notified in due time! \nThere will be individual koan teachings: Beginners are also welcome. Practice and talks can be completed in German and English. \nMore information\, schedule\, and registration can be found >>> here… \n  \n  \n  \n  \n 
URL:https://www.kwanumeurope.org/event/zen-day-with-knud-rosenmayr-jdpsn-december-10-2022-hybrid/
LOCATION:Vienna Zen Center/Zoom
CATEGORIES:One Day Retreat
ATTACH;FMTTYPE=image/jpeg:https://www.kwanumeurope.org/wp-content/uploads/2016/02/4103504555-p51.jpg
ORGANIZER;CN="Zen Zentrum Wien/Vienna Zen Center":MAILTO:vienna.zen.center@gmail.com
END:VEVENT
BEGIN:VEVENT
DTSTART;TZID=Europe/London:20221210T070000
DTEND;TZID=Europe/London:20221210T160000
DTSTAMP:20260420T095857
CREATED:20221123T095947Z
LAST-MODIFIED:20221123T095947Z
UID:10000819-1670655600-1670688000@www.kwanumeurope.org
SUMMARY:Zen-Day with Knud Rosenmayr JDPSN\, December 10\, 2022 (hybrid)
DESCRIPTION:>>> Download Flyer \nTeacher: Knud Rosenmayr JDPSN.\nBeginning: 7 a.m.\nEnd: 4 p.m. \nZen Days are short retreats that give us the opportunity to pause briefly and intensively: We come back to our breath and concentrate on the immediate Now – beyond all appointments\, worries\, and obligations. Many people experience this as liberating and relieving\, they draw strength and orientation from this experience. \nWe welcome you to the Zen Center to practice together – you can also participate online via Zoom! – Please register by December 5: we politely reserve the right to hold the Zen Day as an “online only” event if the number of registrations is low. Those who register will be notified in due time! \nThere will be individual koan teachings: Beginners are also welcome. Practice and talks can be completed in German and English. \nMore information\, schedule\, and registration can be found >>> here… \n  \n  \n  \n  \n 
URL:https://www.kwanumeurope.org/event/zen-day-with-knud-rosenmayr-jdpsn-december-10-2022-hybrid-2/
LOCATION:Vienna Zen Center/Zoom
CATEGORIES:One Day Retreat
ATTACH;FMTTYPE=image/png:https://www.kwanumeurope.org/wp-content/uploads/2022/11/Knud-Rosenmayr-JDPSN-©-C.-Zintzen_edit.png
ORGANIZER;CN="Zen Zentrum Wien/Vienna Zen Center":MAILTO:vienna.zen.center@gmail.com
END:VEVENT
BEGIN:VEVENT
DTSTART;TZID=Europe/London:20221208T180000
DTEND;TZID=Europe/London:20221211T140000
DTSTAMP:20260420T095857
CREATED:20221122T062136Z
LAST-MODIFIED:20221122T062136Z
UID:10000534-1670522400-1670767200@www.kwanumeurope.org
SUMMARY:Bratislava ZC December YMJJ w. Joeng Hye SSN
DESCRIPTION:This event requires  at least 3 day before the retreat starts. \nOn-site (& on-line)  retreat (Yong Maeng Jong Jin) with Zen Master Joeng Hye (Andrzej Piotrowski) is organised by Bratislava Zen Center.  You can join us to experience 3 days of intensive period of the practice with meditation\, bowing\, chanting practice and kong-an interviews with acknowledged Zen Master\, from December 8 to 11\, 2022. \nThe Dharma Speech will be given by Joeng Hye SSN on Saturday\, December 10 at 14:30 (2:30pm) CET. \nFor further inquiries please contact the organiser.
URL:https://www.kwanumeurope.org/event/bzc-december-ymjj-joeng-hye-ssn/
LOCATION:Haluzice\, Haluzice 760\, Haluzice\, Slovakia (Slovak Republic)
ATTACH;FMTTYPE=image/jpeg:https://www.kwanumeurope.org/wp-content/uploads/2022/01/ZM-1.jpg
ORGANIZER;CN="Bratislava Zen Center":MAILTO:bzc108@gmail.com
END:VEVENT
BEGIN:VEVENT
DTSTART;TZID=Europe/London:20221208T180000
DTEND;TZID=Europe/London:20221211T140000
DTSTAMP:20260420T095857
CREATED:20221122T062136Z
LAST-MODIFIED:20221122T062136Z
UID:10000818-1670522400-1670767200@www.kwanumeurope.org
SUMMARY:Bratislava ZC December YMJJ w. Joeng Hye SSN
DESCRIPTION:This event requires  at least 3 day before the retreat starts. \nOn-site (& on-line)  retreat (Yong Maeng Jong Jin) with Zen Master Joeng Hye (Andrzej Piotrowski) is organised by Bratislava Zen Center.  You can join us to experience 3 days of intensive period of the practice with meditation\, bowing\, chanting practice and kong-an interviews with acknowledged Zen Master\, from December 8 to 11\, 2022. \nThe Dharma Speech will be given by Joeng Hye SSN on Saturday\, December 10 at 14:30 (2:30pm) CET. \nFor further inquiries please contact the organiser.
URL:https://www.kwanumeurope.org/event/bzc-december-ymjj-joeng-hye-ssn-2/
LOCATION:Haluzice\, Haluzice 760\, Haluzice\, Slovakia (Slovak Republic)
ATTACH;FMTTYPE=image/jpeg:https://www.kwanumeurope.org/wp-content/uploads/2022/01/ZM-1.jpg
ORGANIZER;CN="Bratislava Zen Center":MAILTO:bzc108@gmail.com
END:VEVENT
BEGIN:VEVENT
DTSTART;VALUE=DATE:20221202
DTEND;VALUE=DATE:20221205
DTSTAMP:20260420T095857
CREATED:20220728T084604Z
LAST-MODIFIED:20220728T084604Z
UID:10000257-1669939200-1670198399@www.kwanumeurope.org
SUMMARY:Zen Retreat with Zen Master Gu Ja
DESCRIPTION:Zen Retreat with Zen Master Gu Ja
URL:https://www.kwanumeurope.org/event/zen-retreat-with-zen-master-gu-ja-2/
LOCATION:England
CATEGORIES:Weekend Retreat
ATTACH;FMTTYPE=image/jpeg:https://www.kwanumeurope.org/wp-content/uploads/2016/02/Gu-Ja1.jpg
END:VEVENT
BEGIN:VEVENT
DTSTART;VALUE=DATE:20221202
DTEND;VALUE=DATE:20221205
DTSTAMP:20260420T095857
CREATED:20220728T084604Z
LAST-MODIFIED:20220728T084604Z
UID:10000517-1669939200-1670198399@www.kwanumeurope.org
SUMMARY:Zen Retreat with Zen Master Gu Ja
DESCRIPTION:Zen Retreat with Zen Master Gu Ja
URL:https://www.kwanumeurope.org/event/zen-retreat-with-zen-master-gu-ja-2-2/
LOCATION:England
CATEGORIES:Weekend Retreat
ATTACH;FMTTYPE=image/jpeg:https://www.kwanumeurope.org/wp-content/uploads/2016/02/Gu-Ja1.jpg
END:VEVENT
BEGIN:VEVENT
DTSTART;VALUE=DATE:20221202
DTEND;VALUE=DATE:20221205
DTSTAMP:20260420T095857
CREATED:20220728T084604Z
LAST-MODIFIED:20220728T084604Z
UID:10000801-1669939200-1670198399@www.kwanumeurope.org
SUMMARY:Zen Retreat with Zen Master Gu Ja
DESCRIPTION:Zen Retreat with Zen Master Gu Ja
URL:https://www.kwanumeurope.org/event/zen-retreat-with-zen-master-gu-ja-2-3/
LOCATION:England
CATEGORIES:Weekend Retreat
ATTACH;FMTTYPE=image/jpeg:https://www.kwanumeurope.org/wp-content/uploads/2016/02/Gu-Ja1.jpg
END:VEVENT
BEGIN:VEVENT
DTSTART;TZID=Europe/London:20221113T090000
DTEND;TZID=Europe/London:20221113T110000
DTSTAMP:20260420T095857
CREATED:20221016T111045Z
LAST-MODIFIED:20221016T111045Z
UID:10000529-1668330000-1668337200@www.kwanumeurope.org
SUMMARY:Dharma Talk and practice on Sunday /monthly with Bogumila Malinowska JDPS in London
DESCRIPTION:Dharma Talk and practice on Sunday /monthly with Bogumila Malinowska JDPS in London .Chance to have space for questions about zen and practicing together and tea together ./hybrid \nFor more information please send email :london.zen.kwanum@gmail.com
URL:https://www.kwanumeurope.org/event/dharma-talk-and-practice-on-sunday-monthly-with-bogumila-malinowska-jdps-in-london/
LOCATION:Brickworks Community Centre\, 42 Crouch Hill\, London\, England\, N44BY\, United Kingdom
CATEGORIES:Dharma Speech
ATTACH;FMTTYPE=image/jpeg:https://www.kwanumeurope.org/wp-content/uploads/2022/05/20171217_125910-1.jpg
END:VEVENT
BEGIN:VEVENT
DTSTART;TZID=Europe/London:20221113T090000
DTEND;TZID=Europe/London:20221113T110000
DTSTAMP:20260420T095857
CREATED:20221016T111045Z
LAST-MODIFIED:20221016T111045Z
UID:10000813-1668330000-1668337200@www.kwanumeurope.org
SUMMARY:Dharma Talk and practice on Sunday /monthly with Bogumila Malinowska JDPS in London
DESCRIPTION:Dharma Talk and practice on Sunday /monthly with Bogumila Malinowska JDPS in London .Chance to have space for questions about zen and practicing together and tea together ./hybrid \nFor more information please send email :london.zen.kwanum@gmail.com
URL:https://www.kwanumeurope.org/event/dharma-talk-and-practice-on-sunday-monthly-with-bogumila-malinowska-jdps-in-london-2/
LOCATION:Brickworks Community Centre\, 42 Crouch Hill\, London\, England\, N44BY\, United Kingdom
CATEGORIES:Dharma Speech
ATTACH;FMTTYPE=image/jpeg:https://www.kwanumeurope.org/wp-content/uploads/2022/05/20171217_125910-1.jpg
END:VEVENT
BEGIN:VEVENT
DTSTART;TZID=Europe/London:20221112T070000
DTEND;TZID=Europe/London:20221113T190000
DTSTAMP:20260420T095857
CREATED:20221006T183838Z
LAST-MODIFIED:20221006T183838Z
UID:10000524-1668236400-1668366000@www.kwanumeurope.org
SUMMARY:Palma de Mallorca ZC November YMJJ
DESCRIPTION:During Saturday and Sunday\, November 12 and 13\, 2022\, a meditation retreat led by Master Tolo Cantarellas\, Ji Do Poep Sa Nim will take place at Centro Zen Palma\, Carrer Rei Sanç 19. \nNovember 12th from 07:00 to 20:00\nNovember 13th from 07:00 to 19:00
URL:https://www.kwanumeurope.org/event/palma-de-mallorca-zc-november-ymjj/
LOCATION:Home
CATEGORIES:Weekend Retreat
ATTACH;FMTTYPE=image/jpeg:https://www.kwanumeurope.org/wp-content/uploads/2022/09/Image-Blockquote.jpg
END:VEVENT
BEGIN:VEVENT
DTSTART;TZID=Europe/London:20221112T070000
DTEND;TZID=Europe/London:20221113T190000
DTSTAMP:20260420T095857
CREATED:20221006T183838Z
LAST-MODIFIED:20221006T183838Z
UID:10000808-1668236400-1668366000@www.kwanumeurope.org
SUMMARY:Palma de Mallorca ZC November YMJJ
DESCRIPTION:During Saturday and Sunday\, November 12 and 13\, 2022\, a meditation retreat led by Master Tolo Cantarellas\, Ji Do Poep Sa Nim will take place at Centro Zen Palma\, Carrer Rei Sanç 19. \nNovember 12th from 07:00 to 20:00\nNovember 13th from 07:00 to 19:00
URL:https://www.kwanumeurope.org/event/palma-de-mallorca-zc-november-ymjj-2/
LOCATION:Home
CATEGORIES:Weekend Retreat
ATTACH;FMTTYPE=image/png:https://www.kwanumeurope.org/wp-content/uploads/2022/10/palma-zen-center-2-min.png
END:VEVENT
BEGIN:VEVENT
DTSTART;TZID=Europe/London:20221112T070000
DTEND;TZID=Europe/London:20221112T160000
DTSTAMP:20260420T095857
CREATED:20221105T201908Z
LAST-MODIFIED:20221105T201908Z
UID:10000530-1668236400-1668268800@www.kwanumeurope.org
SUMMARY:Hybrid Zen-Day with Knud Rosenmayr JDPSN an Lubor Kosut SDT: November 12\, 2022
DESCRIPTION:  \nThis Zen Day of the Vienna Zen Center together with the Bratislava Zen Center offers the opportunity to pause and come back to your breath. The event is designed for personal participation at the Zen Center as well as for participation via Zoom. (We politely reserve the right to hold it as an online-only event via Zoom at short notice and in dialogue with the participants!) \n➾ More information and registration:  \n  \n 
URL:https://www.kwanumeurope.org/event/hybrid-zen-day-with-knud-rosenmayr-jdpsn-an-lubor-kosut-sdt-november-12-2022/
LOCATION:Vienna Zen Center/Zoom
CATEGORIES:One Day Retreat
ATTACH;FMTTYPE=image/jpeg:https://www.kwanumeurope.org/wp-content/uploads/2015/05/bg-grass.jpg
ORGANIZER;CN="Zen Zentrum Wien/Vienna Zen Center":MAILTO:vienna.zen.center@gmail.com
END:VEVENT
BEGIN:VEVENT
DTSTART;TZID=Europe/London:20221112T070000
DTEND;TZID=Europe/London:20221112T160000
DTSTAMP:20260420T095857
CREATED:20221105T201908Z
LAST-MODIFIED:20221105T201908Z
UID:10000814-1668236400-1668268800@www.kwanumeurope.org
SUMMARY:Hybrid Zen-Day with Knud Rosenmayr JDPSN an Lubor Kosut SDT: November 12\, 2022
DESCRIPTION:  \nThis Zen Day of the Vienna Zen Center together with the Bratislava Zen Center offers the opportunity to pause and come back to your breath. The event is designed for personal participation at the Zen Center as well as for participation via Zoom. (We politely reserve the right to hold it as an online-only event via Zoom at short notice and in dialogue with the participants!) \n➾ More information and registration:  \n  \n 
URL:https://www.kwanumeurope.org/event/hybrid-zen-day-with-knud-rosenmayr-jdpsn-an-lubor-kosut-sdt-november-12-2022-2/
LOCATION:Vienna Zen Center/Zoom
CATEGORIES:One Day Retreat
ATTACH;FMTTYPE=image/jpeg:https://www.kwanumeurope.org/wp-content/uploads/2022/11/Augarten-Herbstmomente02-sm.jpg
ORGANIZER;CN="Zen Zentrum Wien/Vienna Zen Center":MAILTO:vienna.zen.center@gmail.com
END:VEVENT
BEGIN:VEVENT
DTSTART;TZID=Europe/London:20221105T093000
DTEND;TZID=Europe/London:20221105T180000
DTSTAMP:20260420T095857
CREATED:20221016T105450Z
LAST-MODIFIED:20221016T105450Z
UID:10000525-1667640600-1667671200@www.kwanumeurope.org
SUMMARY:One day retreat with Kongan interviews with Bogumila Malinowska JDPS
DESCRIPTION:Monthly one day retreat with Kongan interviews with Bogumila Malinowska JDPS.The retreat will have hybrid form\, we will be in person but anyone can join on zoom. \nThe registration will end one day before retreat will start . \nPlease register using email london.zen.kwanum@gmail.com
URL:https://www.kwanumeurope.org/event/one-day-retreat-with-kongan-interviews-with-bogumila-malinowska-jdps/
LOCATION:9 Manor Gardens London N7 6LA
CATEGORIES:One Day Retreat
ATTACH;FMTTYPE=image/jpeg:https://www.kwanumeurope.org/wp-content/uploads/2022/05/20171217_125910-1.jpg
END:VEVENT
BEGIN:VEVENT
DTSTART;TZID=Europe/London:20221105T093000
DTEND;TZID=Europe/London:20221105T180000
DTSTAMP:20260420T095857
CREATED:20221016T105450Z
LAST-MODIFIED:20221016T105450Z
UID:10000809-1667640600-1667671200@www.kwanumeurope.org
SUMMARY:One day retreat with Kongan interviews with Bogumila Malinowska JDPS
DESCRIPTION:Monthly one day retreat with Kongan interviews with Bogumila Malinowska JDPS.The retreat will have hybrid form\, we will be in person but anyone can join on zoom. \nThe registration will end one day before retreat will start . \nPlease register using email london.zen.kwanum@gmail.com
URL:https://www.kwanumeurope.org/event/one-day-retreat-with-kongan-interviews-with-bogumila-malinowska-jdps-2/
LOCATION:9 Manor Gardens London N7 6LA
CATEGORIES:One Day Retreat
ATTACH;FMTTYPE=image/jpeg:https://www.kwanumeurope.org/wp-content/uploads/2022/05/20171217_125910-1.jpg
END:VEVENT
BEGIN:VEVENT
DTSTART;VALUE=DATE:20221104
DTEND;VALUE=DATE:20221107
DTSTAMP:20260420T095857
CREATED:20171101T063106Z
LAST-MODIFIED:20171101T063106Z
UID:10000608-1667520000-1667779199@www.kwanumeurope.org
SUMMARY:Zen retreat in person in French countryside with Dharma Master Koen Vermeulen
DESCRIPTION:The retreat is meant as an intense period of practicing Zen\, it is filled with different kinds of meditation as well as bowing\, chanting and interviews with the Master. \nThe retreat will be in Mottereau (28160) in France. Please contact carinenottin@free.fr for details.
URL:https://www.kwanumeurope.org/event/zen-retreat-dharma-master-koen-vermeulen-3/
LOCATION:Mottereau\, Faillière\, 28160 Mottereau\, France
CATEGORIES:Yong Maeng Jong Jin
ATTACH;FMTTYPE=image/jpeg:https://www.kwanumeurope.org/wp-content/uploads/2016/06/KoenVermeuen230.jpg
ORGANIZER;CN="Centre Parisien de Zen - Brussels Zen Center":MAILTO:carinenottin@free.fr
END:VEVENT
BEGIN:VEVENT
DTSTART;VALUE=DATE:20221104
DTEND;VALUE=DATE:20221107
DTSTAMP:20260420T095857
CREATED:20171101T063106Z
LAST-MODIFIED:20171101T063106Z
UID:10000069-1667520000-1667779199@www.kwanumeurope.org
SUMMARY:Zen retreat in person in French countryside with Dharma Master Koen Vermeulen
DESCRIPTION:The retreat is meant as an intense period of practicing Zen\, it is filled with different kinds of meditation as well as bowing\, chanting and interviews with the Master. \nThe retreat will be in Mottereau (28160) in France. Please contact carinenottin@free.fr for details.
URL:https://www.kwanumeurope.org/event/zen-retreat-dharma-master-koen-vermeulen/
LOCATION:Mottereau\, Faillière\, 28160 Mottereau\, France
CATEGORIES:Yong Maeng Jong Jin
ATTACH;FMTTYPE=image/jpeg:https://www.kwanumeurope.org/wp-content/uploads/2016/06/KoenVermeuen230.jpg
ORGANIZER;CN="Centre Parisien de Zen - Brussels Zen Center":MAILTO:carinenottin@free.fr
END:VEVENT
BEGIN:VEVENT
DTSTART;VALUE=DATE:20221104
DTEND;VALUE=DATE:20221107
DTSTAMP:20260420T095857
CREATED:20171101T063106Z
LAST-MODIFIED:20171101T063106Z
UID:10000329-1667520000-1667779199@www.kwanumeurope.org
SUMMARY:Zen retreat in person in French countryside with Dharma Master Koen Vermeulen
DESCRIPTION:The retreat is meant as an intense period of practicing Zen\, it is filled with different kinds of meditation as well as bowing\, chanting and interviews with the Master. \nThe retreat will be in Mottereau (28160) in France. Please contact carinenottin@free.fr for details.
URL:https://www.kwanumeurope.org/event/zen-retreat-dharma-master-koen-vermeulen-2/
LOCATION:Mottereau\, Faillière\, 28160 Mottereau\, France
CATEGORIES:Yong Maeng Jong Jin
ATTACH;FMTTYPE=image/jpeg:https://www.kwanumeurope.org/wp-content/uploads/2016/06/KoenVermeuen230.jpg
ORGANIZER;CN="Centre Parisien de Zen - Brussels Zen Center":MAILTO:carinenottin@free.fr
END:VEVENT
BEGIN:VEVENT
DTSTART;TZID=Europe/London:20221009T090000
DTEND;TZID=Europe/London:20221009T110000
DTSTAMP:20260420T095857
CREATED:20220928T123732Z
LAST-MODIFIED:20220928T123732Z
UID:10000523-1665306000-1665313200@www.kwanumeurope.org
SUMMARY:Dharma talk\, questions and short practice London with Bogumila Malinowska JDPS
DESCRIPTION:Dharma talk\, questions an short practice London with Bogumila Malinowska JDPS
URL:https://www.kwanumeurope.org/event/dharma-talk-questions-an-short-practice-london-wit-bogumila-malinowska-jdps/
LOCATION:Brickworks Community Centre\, 42 Crouch Hill\, London\, England\, N44BY\, United Kingdom
CATEGORIES:Dharma Speech
ATTACH;FMTTYPE=image/jpeg:https://www.kwanumeurope.org/wp-content/uploads/2022/05/20171217_125910-1.jpg
END:VEVENT
BEGIN:VEVENT
DTSTART;TZID=Europe/London:20221009T090000
DTEND;TZID=Europe/London:20221009T110000
DTSTAMP:20260420T095857
CREATED:20220928T123732Z
LAST-MODIFIED:20220928T123732Z
UID:10000807-1665306000-1665313200@www.kwanumeurope.org
SUMMARY:Dharma talk\, questions and short practice London with Bogumila Malinowska JDPS
DESCRIPTION:Dharma talk\, questions an short practice London with Bogumila Malinowska JDPS
URL:https://www.kwanumeurope.org/event/dharma-talk-questions-an-short-practice-london-wit-bogumila-malinowska-jdps-2/
LOCATION:Brickworks Community Centre\, 42 Crouch Hill\, London\, England\, N44BY\, United Kingdom
CATEGORIES:Dharma Speech
ATTACH;FMTTYPE=image/jpeg:https://www.kwanumeurope.org/wp-content/uploads/2022/05/20171217_125910-1.jpg
END:VEVENT
BEGIN:VEVENT
DTSTART;TZID=Europe/London:20221008T100000
DTEND;TZID=Europe/London:20221008T180000
DTSTAMP:20260420T095857
CREATED:20220928T123300Z
LAST-MODIFIED:20220928T123300Z
UID:10000522-1665223200-1665252000@www.kwanumeurope.org
SUMMARY:One day retreat with kongan interviews with Bogumila Malinowska JDPS in London
DESCRIPTION:One day retreat with Bogumila Malinowska JDPS in person and on zoom .Registration until Friday 7th October
URL:https://www.kwanumeurope.org/event/one-day-retreat-with-kongan-interviews/
LOCATION:9 Manor Gardens London N7 6LA
CATEGORIES:One Day Retreat
ATTACH;FMTTYPE=image/jpeg:https://www.kwanumeurope.org/wp-content/uploads/2022/05/20171217_125910-1.jpg
END:VEVENT
BEGIN:VEVENT
DTSTART;TZID=Europe/London:20221008T100000
DTEND;TZID=Europe/London:20221008T180000
DTSTAMP:20260420T095857
CREATED:20220928T123300Z
LAST-MODIFIED:20220928T123300Z
UID:10000806-1665223200-1665252000@www.kwanumeurope.org
SUMMARY:One day retreat with kongan interviews with Bogumila Malinowska JDPS in London
DESCRIPTION:One day retreat with Bogumila Malinowska JDPS in person and on zoom .Registration until Friday 7th October
URL:https://www.kwanumeurope.org/event/one-day-retreat-with-kongan-interviews-3/
LOCATION:9 Manor Gardens London N7 6LA
CATEGORIES:One Day Retreat
ATTACH;FMTTYPE=image/jpeg:https://www.kwanumeurope.org/wp-content/uploads/2022/05/20171217_125910-1.jpg
END:VEVENT
BEGIN:VEVENT
DTSTART;TZID=Europe/London:20221007T060000
DTEND;TZID=Europe/London:20221009T160000
DTSTAMP:20260420T095857
CREATED:20220922T114455Z
LAST-MODIFIED:20220922T114455Z
UID:10000261-1665122400-1665331200@www.kwanumeurope.org
SUMMARY:Autumn Weekend Retreat of the Vienna Zen Center: Oct. 7-9\, 2022
DESCRIPTION:➾ Download Flyer \nWe cordially invite you to a \nWeekend Zen Retreat with Koan Practice:\nBack to “Don’t Know” \nThis short retreat with Zen Master Hyon Ja and Knud Rosenmayr JDPSN offers you an opportunity to deepen your personal practice together with the community! \nThe retreat can be attended both\, on-site and online!  \n➾ More information:
URL:https://www.kwanumeurope.org/event/autumn-weekend-retreat-of-the-vienna-zen-center-oct-7-9-2022/
LOCATION:Vienna Zen Center\, Bernardgasse 16/9\, Vienna\, 1070\, Austria
CATEGORIES:Weekend Retreat
ATTACH;FMTTYPE=:
ORGANIZER;CN="Zen Zentrum Wien/Vienna Zen Center":MAILTO:vienna.zen.center@gmail.com
GEO:48.2162658;16.3630181
X-APPLE-STRUCTURED-LOCATION;VALUE=URI;X-ADDRESS=Vienna Zen Center Bernardgasse 16/9 Vienna 1070 Austria;X-APPLE-RADIUS=500;X-TITLE=Bernardgasse 16/9:geo:16.3630181,48.2162658
END:VEVENT
BEGIN:VEVENT
DTSTART;TZID=Europe/London:20221007T060000
DTEND;TZID=Europe/London:20221009T160000
DTSTAMP:20260420T095857
CREATED:20220922T114455Z
LAST-MODIFIED:20220922T114455Z
UID:10000521-1665122400-1665331200@www.kwanumeurope.org
SUMMARY:Autumn Weekend Retreat of the Vienna Zen Center: Oct. 7-9\, 2022
DESCRIPTION:➾ Download Flyer \nWe cordially invite you to a \nWeekend Zen Retreat with Koan Practice:\nBack to “Don’t Know” \nThis short retreat with Zen Master Hyon Ja and Knud Rosenmayr JDPSN offers you an opportunity to deepen your personal practice together with the community! \nThe retreat can be attended both\, on-site and online!  \n➾ More information:
URL:https://www.kwanumeurope.org/event/autumn-weekend-retreat-of-the-vienna-zen-center-oct-7-9-2022-2/
LOCATION:Vienna Zen Center\, Bernardgasse 16/9\, Vienna\, 1070\, Austria
CATEGORIES:Weekend Retreat
ATTACH;FMTTYPE=:
ORGANIZER;CN="Zen Zentrum Wien/Vienna Zen Center":MAILTO:vienna.zen.center@gmail.com
GEO:48.2162658;16.3630181
X-APPLE-STRUCTURED-LOCATION;VALUE=URI;X-ADDRESS=Vienna Zen Center Bernardgasse 16/9 Vienna 1070 Austria;X-APPLE-RADIUS=500;X-TITLE=Bernardgasse 16/9:geo:16.3630181,48.2162658
END:VEVENT
BEGIN:VEVENT
DTSTART;TZID=Europe/London:20221007T060000
DTEND;TZID=Europe/London:20221009T160000
DTSTAMP:20260420T095857
CREATED:20220922T114455Z
LAST-MODIFIED:20220922T114455Z
UID:10000805-1665122400-1665331200@www.kwanumeurope.org
SUMMARY:Autumn Weekend Retreat of the Vienna Zen Center: Oct. 7-9\, 2022
DESCRIPTION:➾ Download Flyer \nWe cordially invite you to a \nWeekend Zen Retreat with Koan Practice:\nBack to “Don’t Know” \nThis short retreat with Zen Master Hyon Ja and Knud Rosenmayr JDPSN offers you an opportunity to deepen your personal practice together with the community! \nThe retreat can be attended both\, on-site and online!  \n➾ More information:
URL:https://www.kwanumeurope.org/event/autumn-weekend-retreat-of-the-vienna-zen-center-oct-7-9-2022-3/
LOCATION:Vienna Zen Center\, Bernardgasse 16/9\, Vienna\, 1070\, Austria
CATEGORIES:Weekend Retreat
ATTACH;FMTTYPE=image/jpeg:https://www.kwanumeurope.org/wp-content/uploads/2022/09/Autumn-Retreat-01sm-e1663851194654-1.jpg
ORGANIZER;CN="Zen Zentrum Wien/Vienna Zen Center":MAILTO:vienna.zen.center@gmail.com
GEO:48.2162658;16.3630181
X-APPLE-STRUCTURED-LOCATION;VALUE=URI;X-ADDRESS=Vienna Zen Center Bernardgasse 16/9 Vienna 1070 Austria;X-APPLE-RADIUS=500;X-TITLE=Bernardgasse 16/9:geo:16.3630181,48.2162658
END:VEVENT
END:VCALENDAR