﻿BEGIN:VCALENDAR
VERSION:2.0
PRODID:-//Kwan Um School Of Zen Europe - ECPv6.15.17.1//NONSGML v1.0//EN
CALSCALE:GREGORIAN
METHOD:PUBLISH
X-WR-CALNAME:Kwan Um School Of Zen Europe
X-ORIGINAL-URL:https://www.kwanumeurope.org
X-WR-CALDESC:Events for Kwan Um School Of Zen Europe
REFRESH-INTERVAL;VALUE=DURATION:PT1H
X-Robots-Tag:noindex
X-PUBLISHED-TTL:PT1H
BEGIN:VTIMEZONE
TZID:Europe/London
BEGIN:DAYLIGHT
TZOFFSETFROM:+0000
TZOFFSETTO:+0100
TZNAME:BST
DTSTART:20210328T010000
END:DAYLIGHT
BEGIN:STANDARD
TZOFFSETFROM:+0100
TZOFFSETTO:+0000
TZNAME:GMT
DTSTART:20211031T010000
END:STANDARD
BEGIN:DAYLIGHT
TZOFFSETFROM:+0000
TZOFFSETTO:+0100
TZNAME:BST
DTSTART:20220327T010000
END:DAYLIGHT
BEGIN:STANDARD
TZOFFSETFROM:+0100
TZOFFSETTO:+0000
TZNAME:GMT
DTSTART:20221030T010000
END:STANDARD
BEGIN:DAYLIGHT
TZOFFSETFROM:+0000
TZOFFSETTO:+0100
TZNAME:BST
DTSTART:20230326T010000
END:DAYLIGHT
BEGIN:STANDARD
TZOFFSETFROM:+0100
TZOFFSETTO:+0000
TZNAME:GMT
DTSTART:20231029T010000
END:STANDARD
END:VTIMEZONE
BEGIN:VTIMEZONE
TZID:Europe/Bratislava
BEGIN:DAYLIGHT
TZOFFSETFROM:+0100
TZOFFSETTO:+0200
TZNAME:CEST
DTSTART:20210328T010000
END:DAYLIGHT
BEGIN:STANDARD
TZOFFSETFROM:+0200
TZOFFSETTO:+0100
TZNAME:CET
DTSTART:20211031T010000
END:STANDARD
BEGIN:DAYLIGHT
TZOFFSETFROM:+0100
TZOFFSETTO:+0200
TZNAME:CEST
DTSTART:20220327T010000
END:DAYLIGHT
BEGIN:STANDARD
TZOFFSETFROM:+0200
TZOFFSETTO:+0100
TZNAME:CET
DTSTART:20221030T010000
END:STANDARD
BEGIN:DAYLIGHT
TZOFFSETFROM:+0100
TZOFFSETTO:+0200
TZNAME:CEST
DTSTART:20230326T010000
END:DAYLIGHT
BEGIN:STANDARD
TZOFFSETFROM:+0200
TZOFFSETTO:+0100
TZNAME:CET
DTSTART:20231029T010000
END:STANDARD
END:VTIMEZONE
BEGIN:VEVENT
DTSTART;TZID=Europe/London:20220709T093000
DTEND;TZID=Europe/London:20220709T180000
DTSTAMP:20260421T224741
CREATED:20220516T154913Z
LAST-MODIFIED:20220516T154913Z
UID:10000511-1657359000-1657389600@www.kwanumeurope.org
SUMMARY:One day retreat in July 9th with Bogumila Malinowska JDPS
DESCRIPTION:We invite you to One day retreat in London with Bogumila Malinowska JDPS.The style of the retreat is hybrid as usual with kongan’s interviews . \nOnline version has different price.For more information link to zoom  please send email to London.zen.kwanum@gmail.com
URL:https://www.kwanumeurope.org/event/one-day-retreat-in-july-9th-with-bogumila-malinowska-jdps-2/
LOCATION:9 Manor Gardens London N7 6LA
CATEGORIES:One Day Retreat
END:VEVENT
BEGIN:VEVENT
DTSTART;TZID=Europe/London:20220709T093000
DTEND;TZID=Europe/London:20220709T180000
DTSTAMP:20260421T224741
CREATED:20220516T154913Z
LAST-MODIFIED:20220516T154913Z
UID:10000795-1657359000-1657389600@www.kwanumeurope.org
SUMMARY:One day retreat in July 9th with Bogumila Malinowska JDPS
DESCRIPTION:We invite you to One day retreat in London with Bogumila Malinowska JDPS.The style of the retreat is hybrid as usual with kongan’s interviews . \nOnline version has different price.For more information link to zoom  please send email to London.zen.kwanum@gmail.com
URL:https://www.kwanumeurope.org/event/one-day-retreat-in-july-9th-with-bogumila-malinowska-jdps-3/
LOCATION:9 Manor Gardens London N7 6LA
CATEGORIES:One Day Retreat
END:VEVENT
BEGIN:VEVENT
DTSTART;TZID=Europe/London:20220627T050000
DTEND;TZID=Europe/London:20220702T170000
DTSTAMP:20260421T224741
CREATED:20220603T115535Z
LAST-MODIFIED:20220603T115535Z
UID:10000253-1656306000-1656781200@www.kwanumeurope.org
SUMMARY:Online retreat 27/06-02/08
DESCRIPTION:Online retreat 27/06-02/08 will be lead by Bogumila Malinowska JDPS as a part of Summer Retreat program . \nRegistration until June 10th
URL:https://www.kwanumeurope.org/event/online-retreat-27-06-02-08/
CATEGORIES:Summer Retreat Program
END:VEVENT
BEGIN:VEVENT
DTSTART;TZID=Europe/London:20220627T050000
DTEND;TZID=Europe/London:20220702T170000
DTSTAMP:20260421T224741
CREATED:20220603T115535Z
LAST-MODIFIED:20220603T115535Z
UID:10000513-1656306000-1656781200@www.kwanumeurope.org
SUMMARY:Online retreat 27/06-02/08
DESCRIPTION:Online retreat 27/06-02/08 will be lead by Bogumila Malinowska JDPS as a part of Summer Retreat program . \nRegistration until June 10th
URL:https://www.kwanumeurope.org/event/online-retreat-27-06-02-08-2/
CATEGORIES:Summer Retreat Program
END:VEVENT
BEGIN:VEVENT
DTSTART;TZID=Europe/London:20220627T050000
DTEND;TZID=Europe/London:20220702T170000
DTSTAMP:20260421T224741
CREATED:20220603T115535Z
LAST-MODIFIED:20220603T115535Z
UID:10000797-1656306000-1656781200@www.kwanumeurope.org
SUMMARY:Online retreat 27/06-02/08
DESCRIPTION:Online retreat 27/06-02/08 will be lead by Bogumila Malinowska JDPS as a part of Summer Retreat program . \nRegistration until June 10th
URL:https://www.kwanumeurope.org/event/online-retreat-27-06-02-08-3/
CATEGORIES:Summer Retreat Program
END:VEVENT
BEGIN:VEVENT
DTSTART;TZID=Europe/London:20220611T093000
DTEND;TZID=Europe/London:20220611T183000
DTSTAMP:20260421T224741
CREATED:20220421T074539Z
LAST-MODIFIED:20220421T074539Z
UID:10000249-1654939800-1654972200@www.kwanumeurope.org
SUMMARY:One day retreat in London with Bogumila Malinowska JDPS
DESCRIPTION:We invite you to One day retreat in London with Bogumila Malinowska JDPS.The style of the retreat is hybrid as usual with kongan’s interviews . \nOnline version has different price.For more information please send email to London.zen.kwanum@gmail.com
URL:https://www.kwanumeurope.org/event/one-day-retreat-in-london-with-bogumila-malinowska-jdps/
LOCATION:9 Manor Gardens London N7 6LA
CATEGORIES:One Day Retreat
END:VEVENT
BEGIN:VEVENT
DTSTART;TZID=Europe/London:20220611T093000
DTEND;TZID=Europe/London:20220611T183000
DTSTAMP:20260421T224741
CREATED:20220421T074539Z
LAST-MODIFIED:20220421T074539Z
UID:10000509-1654939800-1654972200@www.kwanumeurope.org
SUMMARY:One day retreat in London with Bogumila Malinowska JDPS
DESCRIPTION:We invite you to One day retreat in London with Bogumila Malinowska JDPS.The style of the retreat is hybrid as usual with kongan’s interviews . \nOnline version has different price.For more information please send email to London.zen.kwanum@gmail.com
URL:https://www.kwanumeurope.org/event/one-day-retreat-in-london-with-bogumila-malinowska-jdps-2/
LOCATION:9 Manor Gardens London N7 6LA
CATEGORIES:One Day Retreat
END:VEVENT
BEGIN:VEVENT
DTSTART;TZID=Europe/London:20220611T093000
DTEND;TZID=Europe/London:20220611T183000
DTSTAMP:20260421T224741
CREATED:20220421T074539Z
LAST-MODIFIED:20220421T074539Z
UID:10000793-1654939800-1654972200@www.kwanumeurope.org
SUMMARY:One day retreat in London with Bogumila Malinowska JDPS
DESCRIPTION:We invite you to One day retreat in London with Bogumila Malinowska JDPS.The style of the retreat is hybrid as usual with kongan’s interviews . \nOnline version has different price.For more information please send email to London.zen.kwanum@gmail.com
URL:https://www.kwanumeurope.org/event/one-day-retreat-in-london-with-bogumila-malinowska-jdps-3/
LOCATION:9 Manor Gardens London N7 6LA
CATEGORIES:One Day Retreat
END:VEVENT
BEGIN:VEVENT
DTSTART;TZID=Europe/London:20220611T070000
DTEND;TZID=Europe/London:20220611T160000
DTSTAMP:20260421T224741
CREATED:20220520T072955Z
LAST-MODIFIED:20220520T072955Z
UID:10000252-1654930800-1654963200@www.kwanumeurope.org
SUMMARY:(Online) Zen Day with Knud Rosenmayr JDPSN in Vienna – Saturday\, June 11\, 2022
DESCRIPTION:This joint Zen Day of the Kwan Um Zen Centers of Bratislava and Vienna will take place online and for the first time after the Corona break also in the Vienna Zen Center! \nBesides several periods of sitting and walking meditation\, there will be an opportunity for a personal teaching talk (Kong-an interview). At the Zen Center\, we also cook and eat together – in silence. \nZen Days are short retreats that help us to pause the busyness of everyday life and come back to our breath. – Beginners are welcome. – We look forward to your registration! \n➾ See more for the schedule and further information! \n  \n  \n 
URL:https://www.kwanumeurope.org/event/online-zen-day-with-knud-rosenmayr-jdpsn-in-vienna-saturday-june-11-2022/
CATEGORIES:One Day Retreat
ATTACH;FMTTYPE=image/jpeg:https://www.kwanumeurope.org/wp-content/uploads/2021/11/Knud-Rosenmayr-JDPSN-gros-©-C.-Zintzen-1.jpg
ORGANIZER;CN="Zen Zentrum Wien/Vienna Zen Center":MAILTO:vienna.zen.center@gmail.com
END:VEVENT
BEGIN:VEVENT
DTSTART;TZID=Europe/London:20220611T070000
DTEND;TZID=Europe/London:20220611T160000
DTSTAMP:20260421T224741
CREATED:20220520T072955Z
LAST-MODIFIED:20220520T072955Z
UID:10000512-1654930800-1654963200@www.kwanumeurope.org
SUMMARY:(Online) Zen Day with Knud Rosenmayr JDPSN in Vienna – Saturday\, June 11\, 2022
DESCRIPTION:This joint Zen Day of the Kwan Um Zen Centers of Bratislava and Vienna will take place online and for the first time after the Corona break also in the Vienna Zen Center! \nBesides several periods of sitting and walking meditation\, there will be an opportunity for a personal teaching talk (Kong-an interview). At the Zen Center\, we also cook and eat together – in silence. \nZen Days are short retreats that help us to pause the busyness of everyday life and come back to our breath. – Beginners are welcome. – We look forward to your registration! \n➾ See more for the schedule and further information! \n  \n  \n 
URL:https://www.kwanumeurope.org/event/online-zen-day-with-knud-rosenmayr-jdpsn-in-vienna-saturday-june-11-2022-2/
CATEGORIES:One Day Retreat
ATTACH;FMTTYPE=image/jpeg:https://www.kwanumeurope.org/wp-content/uploads/2021/11/Knud-Rosenmayr-JDPSN-gros-©-C.-Zintzen-1.jpg
ORGANIZER;CN="Zen Zentrum Wien/Vienna Zen Center":MAILTO:vienna.zen.center@gmail.com
END:VEVENT
BEGIN:VEVENT
DTSTART;TZID=Europe/London:20220611T070000
DTEND;TZID=Europe/London:20220611T160000
DTSTAMP:20260421T224741
CREATED:20220520T072955Z
LAST-MODIFIED:20220520T072955Z
UID:10000796-1654930800-1654963200@www.kwanumeurope.org
SUMMARY:(Online) Zen Day with Knud Rosenmayr JDPSN in Vienna – Saturday\, June 11\, 2022
DESCRIPTION:This joint Zen Day of the Kwan Um Zen Centers of Bratislava and Vienna will take place online and for the first time after the Corona break also in the Vienna Zen Center! \nBesides several periods of sitting and walking meditation\, there will be an opportunity for a personal teaching talk (Kong-an interview). At the Zen Center\, we also cook and eat together – in silence. \nZen Days are short retreats that help us to pause the busyness of everyday life and come back to our breath. – Beginners are welcome. – We look forward to your registration! \n➾ See more for the schedule and further information! \n  \n  \n 
URL:https://www.kwanumeurope.org/event/online-zen-day-with-knud-rosenmayr-jdpsn-in-vienna-saturday-june-11-2022-3/
CATEGORIES:One Day Retreat
ATTACH;FMTTYPE=image/jpeg:https://www.kwanumeurope.org/wp-content/uploads/2021/11/Knud-Rosenmayr-JDPSN-gros-©-C.-Zintzen-1.jpg
ORGANIZER;CN="Zen Zentrum Wien/Vienna Zen Center":MAILTO:vienna.zen.center@gmail.com
END:VEVENT
BEGIN:VEVENT
DTSTART;TZID=Europe/London:20220522T110000
DTEND;TZID=Europe/London:20220522T123000
DTSTAMP:20260421T224741
CREATED:20220516T153626Z
LAST-MODIFIED:20220516T153626Z
UID:10000250-1653217200-1653222600@www.kwanumeurope.org
SUMMARY:Dharma talk by Bogumila Malinowska JDPS on zoom /London Zen Group
DESCRIPTION:Dharma talk will be after short practice of London Zen Group on zoom at 11am by Bogumila Malinowska GT of LZC.During event there will be a space for questions.Please send an email to london.zen.kwanum@gmail.com for link .
URL:https://www.kwanumeurope.org/event/dharma-talk-by-bogumila-malinowska-jdps-on-zoom-london-zen-group/
CATEGORIES:Dharma Speech
END:VEVENT
BEGIN:VEVENT
DTSTART;TZID=Europe/London:20220522T110000
DTEND;TZID=Europe/London:20220522T123000
DTSTAMP:20260421T224741
CREATED:20220516T153626Z
LAST-MODIFIED:20220516T153626Z
UID:10000510-1653217200-1653222600@www.kwanumeurope.org
SUMMARY:Dharma talk by Bogumila Malinowska JDPS on zoom /London Zen Group
DESCRIPTION:Dharma talk will be after short practice of London Zen Group on zoom at 11am by Bogumila Malinowska GT of LZC.During event there will be a space for questions.Please send an email to london.zen.kwanum@gmail.com for link .
URL:https://www.kwanumeurope.org/event/dharma-talk-by-bogumila-malinowska-jdps-on-zoom-london-zen-group-2/
CATEGORIES:Dharma Speech
END:VEVENT
BEGIN:VEVENT
DTSTART;TZID=Europe/London:20220522T110000
DTEND;TZID=Europe/London:20220522T123000
DTSTAMP:20260421T224741
CREATED:20220516T153626Z
LAST-MODIFIED:20220516T153626Z
UID:10000794-1653217200-1653222600@www.kwanumeurope.org
SUMMARY:Dharma talk by Bogumila Malinowska JDPS on zoom /London Zen Group
DESCRIPTION:Dharma talk will be after short practice of London Zen Group on zoom at 11am by Bogumila Malinowska GT of LZC.During event there will be a space for questions.Please send an email to london.zen.kwanum@gmail.com for link .
URL:https://www.kwanumeurope.org/event/dharma-talk-by-bogumila-malinowska-jdps-on-zoom-london-zen-group-3/
CATEGORIES:Dharma Speech
END:VEVENT
BEGIN:VEVENT
DTSTART;TZID=Europe/London:20220514T093000
DTEND;TZID=Europe/London:20220514T183000
DTSTAMP:20260421T224741
CREATED:20220421T074101Z
LAST-MODIFIED:20220421T074101Z
UID:10000248-1652520600-1652553000@www.kwanumeurope.org
SUMMARY:One day retreat in London May 14th lead by Bogumila Malinowska JDPS
DESCRIPTION:We invite you  for hybrid retreat /in person and online in London with kongan interviews .Please register soon if you want to participate.
URL:https://www.kwanumeurope.org/event/one-day-retreat-in-london-may-14th-lead-by-bogumila-malinowska-jdps/
LOCATION:9 Manor Gardens London N7 6LA
CATEGORIES:One Day Retreat
END:VEVENT
BEGIN:VEVENT
DTSTART;TZID=Europe/London:20220514T093000
DTEND;TZID=Europe/London:20220514T183000
DTSTAMP:20260421T224741
CREATED:20220421T074101Z
LAST-MODIFIED:20220421T074101Z
UID:10000508-1652520600-1652553000@www.kwanumeurope.org
SUMMARY:One day retreat in London May 14th lead by Bogumila Malinowska JDPS
DESCRIPTION:We invite you  for hybrid retreat /in person and online in London with kongan interviews .Please register soon if you want to participate.
URL:https://www.kwanumeurope.org/event/one-day-retreat-in-london-may-14th-lead-by-bogumila-malinowska-jdps-2/
LOCATION:9 Manor Gardens London N7 6LA
CATEGORIES:One Day Retreat
END:VEVENT
BEGIN:VEVENT
DTSTART;TZID=Europe/London:20220514T093000
DTEND;TZID=Europe/London:20220514T183000
DTSTAMP:20260421T224741
CREATED:20220421T074101Z
LAST-MODIFIED:20220421T074101Z
UID:10000792-1652520600-1652553000@www.kwanumeurope.org
SUMMARY:One day retreat in London May 14th lead by Bogumila Malinowska JDPS
DESCRIPTION:We invite you  for hybrid retreat /in person and online in London with kongan interviews .Please register soon if you want to participate.
URL:https://www.kwanumeurope.org/event/one-day-retreat-in-london-may-14th-lead-by-bogumila-malinowska-jdps-3/
LOCATION:9 Manor Gardens London N7 6LA
CATEGORIES:One Day Retreat
END:VEVENT
BEGIN:VEVENT
DTSTART;TZID=Europe/London:20220507T070000
DTEND;TZID=Europe/London:20220507T161000
DTSTAMP:20260421T224741
CREATED:20220419T084632Z
LAST-MODIFIED:20220419T084632Z
UID:10000247-1651906800-1651939800@www.kwanumeurope.org
SUMMARY:Online Zen-Day and Consulting Interviews with Lubor Košút SDT : "How to get Peace" – Saturday\, May 7\, 2022
DESCRIPTION:  \nThis joint Zen Day of the Kwan Um Zen Centers of Bratislava and Vienna is dedicated to peace. We are looking forward to your participation! \nPlease register at least three days prior to this event! \n  \n➾ See the schedule and read more… \n  \n  \n 
URL:https://www.kwanumeurope.org/event/online-zen-day-and-consulting-interviews-with-lubor-kosut-sdt-how-to-get-peace-saturday-may-7-2022/
LOCATION:Vienna Zen Center/Zoom
CATEGORIES:One Day Retreat
ATTACH;FMTTYPE=image/jpeg:https://www.kwanumeurope.org/wp-content/uploads/2022/04/Zen-Day-May-7-2022-1.jpg
ORGANIZER;CN="Zen Zentrum Wien/Vienna Zen Center":MAILTO:vienna.zen.center@gmail.com
END:VEVENT
BEGIN:VEVENT
DTSTART;TZID=Europe/London:20220507T070000
DTEND;TZID=Europe/London:20220507T161000
DTSTAMP:20260421T224741
CREATED:20220419T084632Z
LAST-MODIFIED:20220419T084632Z
UID:10000507-1651906800-1651939800@www.kwanumeurope.org
SUMMARY:Online Zen-Day and Consulting Interviews with Lubor Košút SDT : "How to get Peace" – Saturday\, May 7\, 2022
DESCRIPTION:  \nThis joint Zen Day of the Kwan Um Zen Centers of Bratislava and Vienna is dedicated to peace. We are looking forward to your participation! \nPlease register at least three days prior to this event! \n  \n➾ See the schedule and read more… \n  \n  \n 
URL:https://www.kwanumeurope.org/event/online-zen-day-and-consulting-interviews-with-lubor-kosut-sdt-how-to-get-peace-saturday-may-7-2022-2/
LOCATION:Vienna Zen Center/Zoom
CATEGORIES:One Day Retreat
ATTACH;FMTTYPE=image/jpeg:https://www.kwanumeurope.org/wp-content/uploads/2022/04/Zen-Day-May-7-2022-1.jpg
ORGANIZER;CN="Zen Zentrum Wien/Vienna Zen Center":MAILTO:vienna.zen.center@gmail.com
END:VEVENT
BEGIN:VEVENT
DTSTART;TZID=Europe/London:20220507T070000
DTEND;TZID=Europe/London:20220507T161000
DTSTAMP:20260421T224741
CREATED:20220419T084632Z
LAST-MODIFIED:20220419T084632Z
UID:10000791-1651906800-1651939800@www.kwanumeurope.org
SUMMARY:Online Zen-Day and Consulting Interviews with Lubor Košút SDT : "How to get Peace" – Saturday\, May 7\, 2022
DESCRIPTION:  \nThis joint Zen Day of the Kwan Um Zen Centers of Bratislava and Vienna is dedicated to peace. We are looking forward to your participation! \nPlease register at least three days prior to this event! \n  \n➾ See the schedule and read more… \n  \n  \n 
URL:https://www.kwanumeurope.org/event/online-zen-day-and-consulting-interviews-with-lubor-kosut-sdt-how-to-get-peace-saturday-may-7-2022-3/
LOCATION:Vienna Zen Center/Zoom
CATEGORIES:One Day Retreat
ATTACH;FMTTYPE=image/jpeg:https://www.kwanumeurope.org/wp-content/uploads/2022/04/Zen-Day-May-7-2022-1.jpg
ORGANIZER;CN="Zen Zentrum Wien/Vienna Zen Center":MAILTO:vienna.zen.center@gmail.com
END:VEVENT
BEGIN:VEVENT
DTSTART;TZID=Europe/London:20220409T093000
DTEND;TZID=Europe/London:20220409T093000
DTSTAMP:20260421T224741
CREATED:20220317T184333Z
LAST-MODIFIED:20220317T184333Z
UID:10000788-1649496600-1649496600@www.kwanumeurope.org
SUMMARY:One day retreat in person and online with Bogumila Malinowska JDPS
DESCRIPTION:One day zen retreat .Opportunity to understand our true self and to learn about together action . \nKongan’s interviews and formal meal will be the part of retreat. Please send email for more information .
URL:https://www.kwanumeurope.org/event/one-day-retreat-in-person-and-online-with-bogumila-malinowska-jdps-2-3/
LOCATION:9 Manor Gardens London N7 6LA
CATEGORIES:One Day Retreat
END:VEVENT
BEGIN:VEVENT
DTSTART;TZID=Europe/London:20220409T070000
DTEND;TZID=Europe/London:20220409T161000
DTSTAMP:20260421T224741
CREATED:20220325T094203Z
LAST-MODIFIED:20220325T094203Z
UID:10000246-1649487600-1649520600@www.kwanumeurope.org
SUMMARY:Online Zen Day with Knud Rosenmayr JDPSN on April 9\, 2022
DESCRIPTION:  \nThis Zen Day with Knud Rosenmayr JDPSN is meant as an intense period of practicing Zen. We start with the 108 prostrations at 7 a.m.\, followed by periods of sitting and walking meditation\, chanting\, and Kong-an interviews. \nThe one-day retreat will offer a final dharma talk and a Q&A for all participants. \nPlease register at least three days prior to this event! \n  \n  \n 
URL:https://www.kwanumeurope.org/event/online-zen-day-with-knud-rosenmayr-jdpsn-on-april-9-2022/
LOCATION:Vienna Zen Center/Zoom
CATEGORIES:One Day Retreat
ATTACH;FMTTYPE=image/jpeg:https://www.kwanumeurope.org/wp-content/uploads/2021/11/Knud-Rosenmayr-JDPSN-gros-©-C.-Zintzen-1.jpg
ORGANIZER;CN="Zen Zentrum Wien/Vienna Zen Center":MAILTO:vienna.zen.center@gmail.com
END:VEVENT
BEGIN:VEVENT
DTSTART;TZID=Europe/London:20220409T070000
DTEND;TZID=Europe/London:20220409T161000
DTSTAMP:20260421T224741
CREATED:20220325T094203Z
LAST-MODIFIED:20220325T094203Z
UID:10000506-1649487600-1649520600@www.kwanumeurope.org
SUMMARY:Online Zen Day with Knud Rosenmayr JDPSN on April 9\, 2022
DESCRIPTION:  \nThis Zen Day with Knud Rosenmayr JDPSN is meant as an intense period of practicing Zen. We start with the 108 prostrations at 7 a.m.\, followed by periods of sitting and walking meditation\, chanting\, and Kong-an interviews. \nThe one-day retreat will offer a final dharma talk and a Q&A for all participants. \nPlease register at least three days prior to this event! \n  \n  \n 
URL:https://www.kwanumeurope.org/event/online-zen-day-with-knud-rosenmayr-jdpsn-on-april-9-2022-2/
LOCATION:Vienna Zen Center/Zoom
CATEGORIES:One Day Retreat
ATTACH;FMTTYPE=image/jpeg:https://www.kwanumeurope.org/wp-content/uploads/2021/11/Knud-Rosenmayr-JDPSN-gros-©-C.-Zintzen-1.jpg
ORGANIZER;CN="Zen Zentrum Wien/Vienna Zen Center":MAILTO:vienna.zen.center@gmail.com
END:VEVENT
BEGIN:VEVENT
DTSTART;TZID=Europe/London:20220409T070000
DTEND;TZID=Europe/London:20220409T161000
DTSTAMP:20260421T224741
CREATED:20220325T094203Z
LAST-MODIFIED:20220325T094203Z
UID:10000790-1649487600-1649520600@www.kwanumeurope.org
SUMMARY:Online Zen Day with Knud Rosenmayr JDPSN on April 9\, 2022
DESCRIPTION:  \nThis Zen Day with Knud Rosenmayr JDPSN is meant as an intense period of practicing Zen. We start with the 108 prostrations at 7 a.m.\, followed by periods of sitting and walking meditation\, chanting\, and Kong-an interviews. \nThe one-day retreat will offer a final dharma talk and a Q&A for all participants. \nPlease register at least three days prior to this event! \n  \n  \n 
URL:https://www.kwanumeurope.org/event/online-zen-day-with-knud-rosenmayr-jdpsn-on-april-9-2022-3/
LOCATION:Vienna Zen Center/Zoom
CATEGORIES:One Day Retreat
ATTACH;FMTTYPE=image/jpeg:https://www.kwanumeurope.org/wp-content/uploads/2021/11/Knud-Rosenmayr-JDPSN-gros-©-C.-Zintzen-1.jpg
ORGANIZER;CN="Zen Zentrum Wien/Vienna Zen Center":MAILTO:vienna.zen.center@gmail.com
END:VEVENT
BEGIN:VEVENT
DTSTART;VALUE=DATE:20220409
DTEND;VALUE=DATE:20220417
DTSTAMP:20260421T224741
CREATED:20220211T215852Z
LAST-MODIFIED:20220211T215852Z
UID:10000242-1649462400-1650153599@www.kwanumeurope.org
SUMMARY:YMJJ with Zen Master Gu Ja - 9.-16.04
DESCRIPTION:A YMJJ with Zen Master Gu Ja will take place in Berlin Zen Center\, Germany\, from 09 – 16 of April. At the end we will celebrate a Precepts Ceremony where you can also take precepts. For more information and registration please contact berlin@kwanumzen.de or have a look at our website: https://kwanumzen.de/en/events/
URL:https://www.kwanumeurope.org/event/ymjj-with-zen-master-gu-ja-27-02/
CATEGORIES:Yong Maeng Jong Jin
ATTACH;FMTTYPE=image/jpeg:https://www.kwanumeurope.org/wp-content/uploads/2022/02/zen-gc249fda48_1280-1.jpg
END:VEVENT
BEGIN:VEVENT
DTSTART;VALUE=DATE:20220409
DTEND;VALUE=DATE:20220417
DTSTAMP:20260421T224741
CREATED:20220211T215852Z
LAST-MODIFIED:20220211T215852Z
UID:10000502-1649462400-1650153599@www.kwanumeurope.org
SUMMARY:YMJJ with Zen Master Gu Ja - 9.-16.04
DESCRIPTION:A YMJJ with Zen Master Gu Ja will take place in Berlin Zen Center\, Germany\, from 09 – 16 of April. At the end we will celebrate a Precepts Ceremony where you can also take precepts. For more information and registration please contact berlin@kwanumzen.de or have a look at our website: https://kwanumzen.de/en/events/
URL:https://www.kwanumeurope.org/event/ymjj-with-zen-master-gu-ja-27-02-2/
CATEGORIES:Yong Maeng Jong Jin
ATTACH;FMTTYPE=image/jpeg:https://www.kwanumeurope.org/wp-content/uploads/2022/02/zen-gc249fda48_1280-1.jpg
END:VEVENT
BEGIN:VEVENT
DTSTART;VALUE=DATE:20220409
DTEND;VALUE=DATE:20220417
DTSTAMP:20260421T224741
CREATED:20220211T215852Z
LAST-MODIFIED:20220211T215852Z
UID:10000785-1649462400-1650153599@www.kwanumeurope.org
SUMMARY:YMJJ with Zen Master Gu Ja - 9.-16.04
DESCRIPTION:A YMJJ with Zen Master Gu Ja will take place in Berlin Zen Center\, Germany\, from 09 – 16 of April. At the end we will celebrate a Precepts Ceremony where you can also take precepts. For more information and registration please contact berlin@kwanumzen.de or have a look at our website: https://kwanumzen.de/en/events/
URL:https://www.kwanumeurope.org/event/ymjj-with-zen-master-gu-ja-27-02-3/
CATEGORIES:Yong Maeng Jong Jin
ATTACH;FMTTYPE=image/jpeg:https://www.kwanumeurope.org/wp-content/uploads/2022/02/zen-gc249fda48_1280-1.jpg
END:VEVENT
BEGIN:VEVENT
DTSTART;TZID=Europe/Bratislava:20220408T180000
DTEND;TZID=Europe/Bratislava:20220410T140000
DTSTAMP:20260421T224741
CREATED:20220322T092714Z
LAST-MODIFIED:20220322T092714Z
UID:10000245-1649440800-1649599200@www.kwanumeurope.org
SUMMARY:YMJJ Bratislava Zen Center w. Joeng Hye SSN
DESCRIPTION:This event requires  at least 3 day before the retreat starts. \nOn-site (& on-line)  retreat (Yong Maeng Jong Jin) with Zen Master Joeng Hye (Andrzej Piotrowski) is organised by Bratislava Zen Center.  You can join us to experience 3 days of intensive period of the practice with meditation\, bowing\, chanting practice and kong-an interviews with acknowledged Zen Master. \nThe Dharma Speech will be given by Joeng Hye SSN on Saturday\, April 9 at 14:30 (2:30pm) CET. \nGovernment Covid regulations will be followed during the retreat. Check this event Facebook page. \nFor further inquiries please contact the organiser.
URL:https://www.kwanumeurope.org/event/ymjj-bratislava-zen-center-w-joeng-hye-ssn/
LOCATION:Haluzice\, Haluzice 760\, Haluzice\, Slovakia (Slovak Republic)
CATEGORIES:Dharma Speech,Yong Maeng Jong Jin
ATTACH;FMTTYPE=image/jpeg:https://www.kwanumeurope.org/wp-content/uploads/2017/06/DSC_3157-e1496393144791-1.jpg
ORGANIZER;CN="Bratislava Zen Center":MAILTO:bzc108@gmail.com
END:VEVENT
BEGIN:VEVENT
DTSTART;TZID=Europe/Bratislava:20220408T180000
DTEND;TZID=Europe/Bratislava:20220410T140000
DTSTAMP:20260421T224741
CREATED:20220322T092714Z
LAST-MODIFIED:20220322T092714Z
UID:10000505-1649440800-1649599200@www.kwanumeurope.org
SUMMARY:YMJJ Bratislava Zen Center w. Joeng Hye SSN
DESCRIPTION:This event requires  at least 3 day before the retreat starts. \nOn-site (& on-line)  retreat (Yong Maeng Jong Jin) with Zen Master Joeng Hye (Andrzej Piotrowski) is organised by Bratislava Zen Center.  You can join us to experience 3 days of intensive period of the practice with meditation\, bowing\, chanting practice and kong-an interviews with acknowledged Zen Master. \nThe Dharma Speech will be given by Joeng Hye SSN on Saturday\, April 9 at 14:30 (2:30pm) CET. \nGovernment Covid regulations will be followed during the retreat. Check this event Facebook page. \nFor further inquiries please contact the organiser.
URL:https://www.kwanumeurope.org/event/ymjj-bratislava-zen-center-w-joeng-hye-ssn-2/
LOCATION:Haluzice\, Haluzice 760\, Haluzice\, Slovakia (Slovak Republic)
CATEGORIES:Dharma Speech,Yong Maeng Jong Jin
ATTACH;FMTTYPE=image/jpeg:https://www.kwanumeurope.org/wp-content/uploads/2017/06/DSC_3157-e1496393144791-1.jpg
ORGANIZER;CN="Bratislava Zen Center":MAILTO:bzc108@gmail.com
END:VEVENT
BEGIN:VEVENT
DTSTART;TZID=Europe/Bratislava:20220408T180000
DTEND;TZID=Europe/Bratislava:20220410T140000
DTSTAMP:20260421T224741
CREATED:20220322T092714Z
LAST-MODIFIED:20220322T092714Z
UID:10000789-1649440800-1649599200@www.kwanumeurope.org
SUMMARY:YMJJ Bratislava Zen Center w. Joeng Hye SSN
DESCRIPTION:This event requires  at least 3 day before the retreat starts. \nOn-site (& on-line)  retreat (Yong Maeng Jong Jin) with Zen Master Joeng Hye (Andrzej Piotrowski) is organised by Bratislava Zen Center.  You can join us to experience 3 days of intensive period of the practice with meditation\, bowing\, chanting practice and kong-an interviews with acknowledged Zen Master. \nThe Dharma Speech will be given by Joeng Hye SSN on Saturday\, April 9 at 14:30 (2:30pm) CET. \nGovernment Covid regulations will be followed during the retreat. Check this event Facebook page. \nFor further inquiries please contact the organiser.
URL:https://www.kwanumeurope.org/event/ymjj-bratislava-zen-center-w-joeng-hye-ssn-3/
LOCATION:Haluzice\, Haluzice 760\, Haluzice\, Slovakia (Slovak Republic)
CATEGORIES:Dharma Speech,Yong Maeng Jong Jin
ATTACH;FMTTYPE=image/jpeg:https://www.kwanumeurope.org/wp-content/uploads/2017/06/DSC_3157-e1496393144791-1.jpg
ORGANIZER;CN="Bratislava Zen Center":MAILTO:bzc108@gmail.com
END:VEVENT
END:VCALENDAR