﻿BEGIN:VCALENDAR
VERSION:2.0
PRODID:-//Kwan Um School Of Zen Europe - ECPv6.15.17.1//NONSGML v1.0//EN
CALSCALE:GREGORIAN
METHOD:PUBLISH
X-WR-CALNAME:Kwan Um School Of Zen Europe
X-ORIGINAL-URL:https://www.kwanumeurope.org
X-WR-CALDESC:Events for Kwan Um School Of Zen Europe
REFRESH-INTERVAL;VALUE=DURATION:PT1H
X-Robots-Tag:noindex
X-PUBLISHED-TTL:PT1H
BEGIN:VTIMEZONE
TZID:Europe/London
BEGIN:DAYLIGHT
TZOFFSETFROM:+0000
TZOFFSETTO:+0100
TZNAME:BST
DTSTART:20200329T010000
END:DAYLIGHT
BEGIN:STANDARD
TZOFFSETFROM:+0100
TZOFFSETTO:+0000
TZNAME:GMT
DTSTART:20201025T010000
END:STANDARD
BEGIN:DAYLIGHT
TZOFFSETFROM:+0000
TZOFFSETTO:+0100
TZNAME:BST
DTSTART:20210328T010000
END:DAYLIGHT
BEGIN:STANDARD
TZOFFSETFROM:+0100
TZOFFSETTO:+0000
TZNAME:GMT
DTSTART:20211031T010000
END:STANDARD
BEGIN:DAYLIGHT
TZOFFSETFROM:+0000
TZOFFSETTO:+0100
TZNAME:BST
DTSTART:20220327T010000
END:DAYLIGHT
BEGIN:STANDARD
TZOFFSETFROM:+0100
TZOFFSETTO:+0000
TZNAME:GMT
DTSTART:20221030T010000
END:STANDARD
END:VTIMEZONE
BEGIN:VTIMEZONE
TZID:Europe/Prague
BEGIN:DAYLIGHT
TZOFFSETFROM:+0100
TZOFFSETTO:+0200
TZNAME:CEST
DTSTART:20200329T010000
END:DAYLIGHT
BEGIN:STANDARD
TZOFFSETFROM:+0200
TZOFFSETTO:+0100
TZNAME:CET
DTSTART:20201025T010000
END:STANDARD
BEGIN:DAYLIGHT
TZOFFSETFROM:+0100
TZOFFSETTO:+0200
TZNAME:CEST
DTSTART:20210328T010000
END:DAYLIGHT
BEGIN:STANDARD
TZOFFSETFROM:+0200
TZOFFSETTO:+0100
TZNAME:CET
DTSTART:20211031T010000
END:STANDARD
BEGIN:DAYLIGHT
TZOFFSETFROM:+0100
TZOFFSETTO:+0200
TZNAME:CEST
DTSTART:20220327T010000
END:DAYLIGHT
BEGIN:STANDARD
TZOFFSETFROM:+0200
TZOFFSETTO:+0100
TZNAME:CET
DTSTART:20221030T010000
END:STANDARD
END:VTIMEZONE
BEGIN:VEVENT
DTSTART;TZID=Europe/London:20210801T050000
DTEND;TZID=Europe/London:20210828T170000
DTSTAMP:20260423T130519
CREATED:20210601T071321Z
LAST-MODIFIED:20210601T071321Z
UID:10000478-1627794000-1630170000@www.kwanumeurope.org
SUMMARY:Kyol Che Week 9\, 10\, 11\, 12 Bori Sa\, Spain
DESCRIPTION:1.8-28.8\n\n\nBori Sa\, Alta Garrotxa\, Spain \n \nZen Master Bon Shim \n \nDharma master Bàrbara Pardo \n \nDharma Master Lizzie Coombs \n \nDharma Master Knud Rosenmayr \n \nThe retreat will end on Saturday 28.8 with a precepts ceremony \nwebsite: http://boricentro.kwanumzen.es \nContact: boricentrozen@hotmail.com \n\nMore info about Summer Retreat Program 2021: https://www.kwanumeurope.org/srp2021/ \nVisit our website for detailed info.
URL:https://www.kwanumeurope.org/event/kyol-che-week-9-10-11-12-bori-sa-spain-2/
LOCATION:Bori Sa\, (Mas Puli) Sales de Llierca \, Alta Garrotxa\, Girona\, 17853\, Spain
CATEGORIES:Kyol Che,Summer Retreat Program
GEO:42.2484479;2.6291242
X-APPLE-STRUCTURED-LOCATION;VALUE=URI;X-ADDRESS=Bori Sa (Mas Puli) Sales de Llierca  Alta Garrotxa Girona 17853 Spain;X-APPLE-RADIUS=500;X-TITLE=(Mas Puli) Sales de Llierca:geo:2.6291242,42.2484479
END:VEVENT
BEGIN:VEVENT
DTSTART;TZID=Europe/London:20210801T050000
DTEND;TZID=Europe/London:20210828T170000
DTSTAMP:20260423T130519
CREATED:20210601T071321Z
LAST-MODIFIED:20210601T071321Z
UID:10000761-1627794000-1630170000@www.kwanumeurope.org
SUMMARY:Kyol Che Week 9\, 10\, 11\, 12 Bori Sa\, Spain
DESCRIPTION:1.8-28.8\n\n\nBori Sa\, Alta Garrotxa\, Spain \n \nZen Master Bon Shim \n \nDharma master Bàrbara Pardo \n \nDharma Master Lizzie Coombs \n \nDharma Master Knud Rosenmayr \n \nThe retreat will end on Saturday 28.8 with a precepts ceremony \nwebsite: http://boricentro.kwanumzen.es \nContact: boricentrozen@hotmail.com \n\nMore info about Summer Retreat Program 2021: https://www.kwanumeurope.org/srp2021/ \nVisit our website for detailed info.
URL:https://www.kwanumeurope.org/event/kyol-che-week-9-10-11-12-bori-sa-spain-3/
LOCATION:Bori Sa\, (Mas Puli) Sales de Llierca \, Alta Garrotxa\, Girona\, 17853\, Spain
CATEGORIES:Kyol Che,Summer Retreat Program
GEO:42.2484479;2.6291242
X-APPLE-STRUCTURED-LOCATION;VALUE=URI;X-ADDRESS=Bori Sa (Mas Puli) Sales de Llierca  Alta Garrotxa Girona 17853 Spain;X-APPLE-RADIUS=500;X-TITLE=(Mas Puli) Sales de Llierca:geo:2.6291242,42.2484479
END:VEVENT
BEGIN:VEVENT
DTSTART;TZID=Europe/London:20210725T080000
DTEND;TZID=Europe/London:20210731T170000
DTSTAMP:20260423T130519
CREATED:20210601T065938Z
LAST-MODIFIED:20210601T065938Z
UID:10000215-1627200000-1627750800@www.kwanumeurope.org
SUMMARY:Kyol Che Week 6\, Lithuania
DESCRIPTION:25.7-31.7\n\n\nVarious Zen Centers in Lithuania  \nLong Description\nZen Master Joeng Hye \n \nContact: alvydas.turskis@gmail.com / 108.tomas@gmail.com \nMore infor about Summer Retreat Program 2021: https://www.kwanumeurope.org/srp2021/
URL:https://www.kwanumeurope.org/event/kyol-che-week-6-lithuania/
LOCATION:Vilnius Zen Center\, Mokyklos str. 21 A\, Vilnius\, Lithuania
CATEGORIES:Kyol Che
GEO:54.745986;25.264749
X-APPLE-STRUCTURED-LOCATION;VALUE=URI;X-ADDRESS=Vilnius Zen Center Mokyklos str. 21 A Vilnius Lithuania;X-APPLE-RADIUS=500;X-TITLE=Mokyklos str. 21 A:geo:25.264749,54.745986
END:VEVENT
BEGIN:VEVENT
DTSTART;TZID=Europe/London:20210725T080000
DTEND;TZID=Europe/London:20210731T170000
DTSTAMP:20260423T130519
CREATED:20210601T065938Z
LAST-MODIFIED:20210601T065938Z
UID:10000475-1627200000-1627750800@www.kwanumeurope.org
SUMMARY:Kyol Che Week 6\, Lithuania
DESCRIPTION:25.7-31.7\n\n\nVarious Zen Centers in Lithuania  \nLong Description\nZen Master Joeng Hye \n \nContact: alvydas.turskis@gmail.com / 108.tomas@gmail.com \nMore infor about Summer Retreat Program 2021: https://www.kwanumeurope.org/srp2021/
URL:https://www.kwanumeurope.org/event/kyol-che-week-6-lithuania-2/
LOCATION:Vilnius Zen Center\, Mokyklos str. 21 A\, Vilnius\, Lithuania
CATEGORIES:Kyol Che
GEO:54.745986;25.264749
X-APPLE-STRUCTURED-LOCATION;VALUE=URI;X-ADDRESS=Vilnius Zen Center Mokyklos str. 21 A Vilnius Lithuania;X-APPLE-RADIUS=500;X-TITLE=Mokyklos str. 21 A:geo:25.264749,54.745986
END:VEVENT
BEGIN:VEVENT
DTSTART;TZID=Europe/London:20210725T080000
DTEND;TZID=Europe/London:20210731T170000
DTSTAMP:20260423T130519
CREATED:20210601T065938Z
LAST-MODIFIED:20210601T065938Z
UID:10000758-1627200000-1627750800@www.kwanumeurope.org
SUMMARY:Kyol Che Week 6\, Lithuania
DESCRIPTION:25.7-31.7\n\n\nVarious Zen Centers in Lithuania  \nLong Description\nZen Master Joeng Hye \n \nContact: alvydas.turskis@gmail.com / 108.tomas@gmail.com \nMore infor about Summer Retreat Program 2021: https://www.kwanumeurope.org/srp2021/
URL:https://www.kwanumeurope.org/event/kyol-che-week-6-lithuania-3/
LOCATION:Vilnius Zen Center\, Mokyklos str. 21 A\, Vilnius\, Lithuania
CATEGORIES:Kyol Che
GEO:54.745986;25.264749
X-APPLE-STRUCTURED-LOCATION;VALUE=URI;X-ADDRESS=Vilnius Zen Center Mokyklos str. 21 A Vilnius Lithuania;X-APPLE-RADIUS=500;X-TITLE=Mokyklos str. 21 A:geo:25.264749,54.745986
END:VEVENT
BEGIN:VEVENT
DTSTART;TZID=Europe/London:20210718T080000
DTEND;TZID=Europe/London:20210724T170000
DTSTAMP:20260423T130519
CREATED:20210601T065805Z
LAST-MODIFIED:20210601T065805Z
UID:10000214-1626595200-1627146000@www.kwanumeurope.org
SUMMARY:Kyol Che Week 5 Berlin Zen Center\, Germany
DESCRIPTION:18.7-24.7\n\n\nBerlin Zen Center\, Germany \n \nZen Master Gu Ja \n \nWebpage: https://kwanumzen.de/\nContact:  Roswitha and Silke berlin@kwanumzen.de\n\n\nMore infor about Summer Retreat Program 2021: https://www.kwanumeurope.org/srp2021/
URL:https://www.kwanumeurope.org/event/kyol-che-week-5-berlin-zen-center-germany/
LOCATION:Zen Zentrum Berlin\,  Gottschedstr. 4\, Berlin\, 13357\, Germany
CATEGORIES:Kyol Che
ORGANIZER;CN="Zen Zentrum Berlin":MAILTO:berlin@kwanumzen.de
GEO:52.5500676;13.3700523
X-APPLE-STRUCTURED-LOCATION;VALUE=URI;X-ADDRESS=Zen Zentrum Berlin  Gottschedstr. 4 Berlin 13357 Germany;X-APPLE-RADIUS=500;X-TITLE=Gottschedstr. 4:geo:13.3700523,52.5500676
END:VEVENT
BEGIN:VEVENT
DTSTART;TZID=Europe/London:20210718T080000
DTEND;TZID=Europe/London:20210724T170000
DTSTAMP:20260423T130519
CREATED:20210601T065805Z
LAST-MODIFIED:20210601T065805Z
UID:10000474-1626595200-1627146000@www.kwanumeurope.org
SUMMARY:Kyol Che Week 5 Berlin Zen Center\, Germany
DESCRIPTION:18.7-24.7\n\n\nBerlin Zen Center\, Germany \n \nZen Master Gu Ja \n \nWebpage: https://kwanumzen.de/\nContact:  Roswitha and Silke berlin@kwanumzen.de\n\n\nMore infor about Summer Retreat Program 2021: https://www.kwanumeurope.org/srp2021/
URL:https://www.kwanumeurope.org/event/kyol-che-week-5-berlin-zen-center-germany-2/
LOCATION:Zen Zentrum Berlin\,  Gottschedstr. 4\, Berlin\, 13357\, Germany
CATEGORIES:Kyol Che
ORGANIZER;CN="Zen Zentrum Berlin":MAILTO:berlin@kwanumzen.de
GEO:52.5500676;13.3700523
X-APPLE-STRUCTURED-LOCATION;VALUE=URI;X-ADDRESS=Zen Zentrum Berlin  Gottschedstr. 4 Berlin 13357 Germany;X-APPLE-RADIUS=500;X-TITLE=Gottschedstr. 4:geo:13.3700523,52.5500676
END:VEVENT
BEGIN:VEVENT
DTSTART;TZID=Europe/London:20210718T080000
DTEND;TZID=Europe/London:20210724T170000
DTSTAMP:20260423T130519
CREATED:20210601T065805Z
LAST-MODIFIED:20210601T065805Z
UID:10000757-1626595200-1627146000@www.kwanumeurope.org
SUMMARY:Kyol Che Week 5 Berlin Zen Center\, Germany
DESCRIPTION:18.7-24.7\n\n\nBerlin Zen Center\, Germany \n \nZen Master Gu Ja \n \nWebpage: https://kwanumzen.de/\nContact:  Roswitha and Silke berlin@kwanumzen.de\n\n\nMore infor about Summer Retreat Program 2021: https://www.kwanumeurope.org/srp2021/
URL:https://www.kwanumeurope.org/event/kyol-che-week-5-berlin-zen-center-germany-3/
LOCATION:Zen Zentrum Berlin\,  Gottschedstr. 4\, Berlin\, 13357\, Germany
CATEGORIES:Kyol Che
ORGANIZER;CN="Zen Zentrum Berlin":MAILTO:berlin@kwanumzen.de
GEO:52.5500676;13.3700523
X-APPLE-STRUCTURED-LOCATION;VALUE=URI;X-ADDRESS=Zen Zentrum Berlin  Gottschedstr. 4 Berlin 13357 Germany;X-APPLE-RADIUS=500;X-TITLE=Gottschedstr. 4:geo:13.3700523,52.5500676
END:VEVENT
BEGIN:VEVENT
DTSTART;TZID=Europe/London:20210717T180000
DTEND;TZID=Europe/London:20210717T190000
DTSTAMP:20260423T130519
CREATED:20210701T071249Z
LAST-MODIFIED:20210701T071249Z
UID:10000224-1626544800-1626548400@www.kwanumeurope.org
SUMMARY:Dharma Talk in London's Summer  retreat by Bogumila Malinowska JDPS
DESCRIPTION:
URL:https://www.kwanumeurope.org/event/dharma-talk-in-londons-summer-retreat-by-bogumila-malinowska-jdps/
CATEGORIES:Dharma Speech
END:VEVENT
BEGIN:VEVENT
DTSTART;TZID=Europe/London:20210717T180000
DTEND;TZID=Europe/London:20210717T190000
DTSTAMP:20260423T130519
CREATED:20210701T071249Z
LAST-MODIFIED:20210701T071249Z
UID:10000484-1626544800-1626548400@www.kwanumeurope.org
SUMMARY:Dharma Talk in London's Summer  retreat by Bogumila Malinowska JDPS
DESCRIPTION:
URL:https://www.kwanumeurope.org/event/dharma-talk-in-londons-summer-retreat-by-bogumila-malinowska-jdps-2/
CATEGORIES:Dharma Speech
END:VEVENT
BEGIN:VEVENT
DTSTART;TZID=Europe/London:20210717T180000
DTEND;TZID=Europe/London:20210717T190000
DTSTAMP:20260423T130519
CREATED:20210701T071249Z
LAST-MODIFIED:20210701T071249Z
UID:10000767-1626544800-1626548400@www.kwanumeurope.org
SUMMARY:Dharma Talk in London's Summer  retreat by Bogumila Malinowska JDPS
DESCRIPTION:
URL:https://www.kwanumeurope.org/event/dharma-talk-in-londons-summer-retreat-by-bogumila-malinowska-jdps-3/
CATEGORIES:Dharma Speech
END:VEVENT
BEGIN:VEVENT
DTSTART;TZID=Europe/London:20210714T180000
DTEND;TZID=Europe/London:20210714T190000
DTSTAMP:20260423T130519
CREATED:20210701T071012Z
LAST-MODIFIED:20210701T071012Z
UID:10000223-1626285600-1626289200@www.kwanumeurope.org
SUMMARY:Dharma Talk in London's Summer  retreat by Kwan Haeng Sunim
DESCRIPTION:
URL:https://www.kwanumeurope.org/event/dharma-talk-in-londons-summer-retreat-by-kwan-haeng-sunim/
CATEGORIES:Dharma Speech
END:VEVENT
BEGIN:VEVENT
DTSTART;TZID=Europe/London:20210714T180000
DTEND;TZID=Europe/London:20210714T190000
DTSTAMP:20260423T130519
CREATED:20210701T071012Z
LAST-MODIFIED:20210701T071012Z
UID:10000483-1626285600-1626289200@www.kwanumeurope.org
SUMMARY:Dharma Talk in London's Summer  retreat by Kwan Haeng Sunim
DESCRIPTION:
URL:https://www.kwanumeurope.org/event/dharma-talk-in-londons-summer-retreat-by-kwan-haeng-sunim-2/
CATEGORIES:Dharma Speech
END:VEVENT
BEGIN:VEVENT
DTSTART;TZID=Europe/London:20210714T180000
DTEND;TZID=Europe/London:20210714T190000
DTSTAMP:20260423T130519
CREATED:20210701T071012Z
LAST-MODIFIED:20210701T071012Z
UID:10000766-1626285600-1626289200@www.kwanumeurope.org
SUMMARY:Dharma Talk in London's Summer  retreat by Kwan Haeng Sunim
DESCRIPTION:
URL:https://www.kwanumeurope.org/event/dharma-talk-in-londons-summer-retreat-by-kwan-haeng-sunim-3/
CATEGORIES:Dharma Speech
END:VEVENT
BEGIN:VEVENT
DTSTART;TZID=Europe/London:20210714T180000
DTEND;TZID=Europe/London:20210714T190000
DTSTAMP:20260423T130519
CREATED:20210701T070635Z
LAST-MODIFIED:20210701T070635Z
UID:10000222-1626285600-1626289200@www.kwanumeurope.org
SUMMARY:Dharma Talk in London's Summer  retreat by Kwan Haeng Sunim JDPS
DESCRIPTION:
URL:https://www.kwanumeurope.org/event/dharma-talk-in-londons-summer-retreat-by-kwan-haeng-sunim-jdps/
LOCATION:London Zen Centre\, Crouch Hill\, Ilex House \, London\, N44BY\, United Kingdom
CATEGORIES:Dharma Speech
END:VEVENT
BEGIN:VEVENT
DTSTART;TZID=Europe/London:20210714T180000
DTEND;TZID=Europe/London:20210714T190000
DTSTAMP:20260423T130519
CREATED:20210701T070635Z
LAST-MODIFIED:20210701T070635Z
UID:10000482-1626285600-1626289200@www.kwanumeurope.org
SUMMARY:Dharma Talk in London's Summer  retreat by Kwan Haeng Sunim JDPS
DESCRIPTION:
URL:https://www.kwanumeurope.org/event/dharma-talk-in-londons-summer-retreat-by-kwan-haeng-sunim-jdps-2/
LOCATION:London Zen Centre\, Crouch Hill\, Ilex House \, London\, N44BY\, United Kingdom
CATEGORIES:Dharma Speech
END:VEVENT
BEGIN:VEVENT
DTSTART;TZID=Europe/London:20210714T180000
DTEND;TZID=Europe/London:20210714T190000
DTSTAMP:20260423T130519
CREATED:20210701T070635Z
LAST-MODIFIED:20210701T070635Z
UID:10000765-1626285600-1626289200@www.kwanumeurope.org
SUMMARY:Dharma Talk in London's Summer  retreat by Kwan Haeng Sunim JDPS
DESCRIPTION:
URL:https://www.kwanumeurope.org/event/dharma-talk-in-londons-summer-retreat-by-kwan-haeng-sunim-jdps-3/
LOCATION:London Zen Centre\, Crouch Hill\, Ilex House \, London\, N44BY\, United Kingdom
CATEGORIES:Dharma Speech
END:VEVENT
BEGIN:VEVENT
DTSTART;TZID=Europe/London:20210711T150000
DTEND;TZID=Europe/London:20210717T200000
DTSTAMP:20260423T130519
CREATED:20210611T160031Z
LAST-MODIFIED:20210611T160031Z
UID:10000221-1626015600-1626552000@www.kwanumeurope.org
SUMMARY:One week of Summer Retreat Program in London -online event
DESCRIPTION:
URL:https://www.kwanumeurope.org/event/one-week-of-summer-retreat-program-in-london-online-event/
ATTACH;FMTTYPE=image/jpeg:https://www.kwanumeurope.org/wp-content/uploads/2021/04/20171217_125910-1.jpg
END:VEVENT
BEGIN:VEVENT
DTSTART;TZID=Europe/London:20210711T150000
DTEND;TZID=Europe/London:20210717T200000
DTSTAMP:20260423T130519
CREATED:20210611T160031Z
LAST-MODIFIED:20210611T160031Z
UID:10000481-1626015600-1626552000@www.kwanumeurope.org
SUMMARY:One week of Summer Retreat Program in London -online event
DESCRIPTION:
URL:https://www.kwanumeurope.org/event/one-week-of-summer-retreat-program-in-london-online-event-2/
ATTACH;FMTTYPE=image/jpeg:https://www.kwanumeurope.org/wp-content/uploads/2021/04/20171217_125910-1.jpg
END:VEVENT
BEGIN:VEVENT
DTSTART;TZID=Europe/London:20210711T150000
DTEND;TZID=Europe/London:20210717T200000
DTSTAMP:20260423T130519
CREATED:20210611T160031Z
LAST-MODIFIED:20210611T160031Z
UID:10000764-1626015600-1626552000@www.kwanumeurope.org
SUMMARY:One week of Summer Retreat Program in London -online event
DESCRIPTION:
URL:https://www.kwanumeurope.org/event/one-week-of-summer-retreat-program-in-london-online-event-3/
ATTACH;FMTTYPE=image/jpeg:https://www.kwanumeurope.org/wp-content/uploads/2021/04/20171217_125910-1.jpg
END:VEVENT
BEGIN:VEVENT
DTSTART;TZID=Europe/London:20210711T080000
DTEND;TZID=Europe/London:20210717T170000
DTSTAMP:20260423T130519
CREATED:20210601T065543Z
LAST-MODIFIED:20210601T065543Z
UID:10000213-1625990400-1626541200@www.kwanumeurope.org
SUMMARY:Kyol Che Week 4\, London Zen Center\, UK
DESCRIPTION:11.7-17.7\n\n\nLondon Zen Center\, United Kingdom \nLong Description\nDharma Master Bogumila Malinowska \n \nWebsite: https://www.kwanumeurope.org/locations/london-zen-centre/ \nContact: +44 7742979050\, london.zen.kwanum@gmail.com \nMore infor about Summer Retreat Program 2021: https://www.kwanumeurope.org/srp2021/
URL:https://www.kwanumeurope.org/event/kyol-che-week-4-london-zen-center-uk/
LOCATION:London Zen Centre\, Ilex House\, Crouch Hill\, London \, N4 4BY\, United Kingdom
CATEGORIES:Kyol Che
ORGANIZER;CN="London Zen Centre":MAILTO:london.zen.kwanum@gmail.com
GEO:51.5721775;-0.1186512
X-APPLE-STRUCTURED-LOCATION;VALUE=URI;X-ADDRESS=London Zen Centre Ilex House Crouch Hill London  N4 4BY United Kingdom;X-APPLE-RADIUS=500;X-TITLE=Ilex House\, Crouch Hill:geo:-0.1186512,51.5721775
END:VEVENT
BEGIN:VEVENT
DTSTART;TZID=Europe/London:20210711T080000
DTEND;TZID=Europe/London:20210717T170000
DTSTAMP:20260423T130519
CREATED:20210601T065543Z
LAST-MODIFIED:20210601T065543Z
UID:10000473-1625990400-1626541200@www.kwanumeurope.org
SUMMARY:Kyol Che Week 4\, London Zen Center\, UK
DESCRIPTION:11.7-17.7\n\n\nLondon Zen Center\, United Kingdom \nLong Description\nDharma Master Bogumila Malinowska \n \nWebsite: https://www.kwanumeurope.org/locations/london-zen-centre/ \nContact: +44 7742979050\, london.zen.kwanum@gmail.com \nMore infor about Summer Retreat Program 2021: https://www.kwanumeurope.org/srp2021/
URL:https://www.kwanumeurope.org/event/kyol-che-week-4-london-zen-center-uk-2/
LOCATION:London Zen Centre\, Ilex House\, Crouch Hill\, London \, N4 4BY\, United Kingdom
CATEGORIES:Kyol Che
ORGANIZER;CN="London Zen Centre":MAILTO:london.zen.kwanum@gmail.com
GEO:51.5721775;-0.1186512
X-APPLE-STRUCTURED-LOCATION;VALUE=URI;X-ADDRESS=London Zen Centre Ilex House Crouch Hill London  N4 4BY United Kingdom;X-APPLE-RADIUS=500;X-TITLE=Ilex House\, Crouch Hill:geo:-0.1186512,51.5721775
END:VEVENT
BEGIN:VEVENT
DTSTART;TZID=Europe/London:20210711T080000
DTEND;TZID=Europe/London:20210717T170000
DTSTAMP:20260423T130519
CREATED:20210601T065543Z
LAST-MODIFIED:20210601T065543Z
UID:10000756-1625990400-1626541200@www.kwanumeurope.org
SUMMARY:Kyol Che Week 4\, London Zen Center\, UK
DESCRIPTION:11.7-17.7\n\n\nLondon Zen Center\, United Kingdom \nLong Description\nDharma Master Bogumila Malinowska \n \nWebsite: https://www.kwanumeurope.org/locations/london-zen-centre/ \nContact: +44 7742979050\, london.zen.kwanum@gmail.com \nMore infor about Summer Retreat Program 2021: https://www.kwanumeurope.org/srp2021/
URL:https://www.kwanumeurope.org/event/kyol-che-week-4-london-zen-center-uk-3/
LOCATION:London Zen Centre\, Ilex House\, Crouch Hill\, London \, N4 4BY\, United Kingdom
CATEGORIES:Kyol Che
ORGANIZER;CN="London Zen Centre":MAILTO:london.zen.kwanum@gmail.com
GEO:51.5721775;-0.1186512
X-APPLE-STRUCTURED-LOCATION;VALUE=URI;X-ADDRESS=London Zen Centre Ilex House Crouch Hill London  N4 4BY United Kingdom;X-APPLE-RADIUS=500;X-TITLE=Ilex House\, Crouch Hill:geo:-0.1186512,51.5721775
END:VEVENT
BEGIN:VEVENT
DTSTART;TZID=Europe/London:20210703T070000
DTEND;TZID=Europe/London:20210703T163000
DTSTAMP:20260423T130519
CREATED:20210530T113748Z
LAST-MODIFIED:20210530T113748Z
UID:10000210-1625295600-1625329800@www.kwanumeurope.org
SUMMARY:Zen-Day/Zoom: Saturday\, July 3\, 2021 (Lizzie Coombs JDPSN\, Knud Rosenmayr JDPSN)
DESCRIPTION:This Zen Day with Lizzie Coombs JDPSN and Knud Rosenmayr JDPSN is meant as an intense period of practicing Zen. We start with the 108 prostrations at 7 a.m.\, followed by periods of sitting and walking meditation\, chanting\, and consulting interviews. The second entry is at 10 a.m. \nThe one-day retreat will offer a final dharma talk with Zen teacher Jose Ramirez JDPSN  and Father Kevin Hunt (a long time friend of the Kwan Um School of Zen and Trappist monk). This Zen Day is organized by the Zen Center Vienna. \nPlease register at least one day prior to this event. \n➾ You can find out more here… \n  \n 
URL:https://www.kwanumeurope.org/event/zen-day-zoom-saturday-july-3-2021-lizzie-coombs-jdpsn-knud-rosenmayr-jdpsn/
LOCATION:Vienna Zen Center/Zoom
CATEGORIES:One Day Retreat
ATTACH;FMTTYPE=image/jpeg:https://www.kwanumeurope.org/wp-content/uploads/2021/05/Desert-Monarch-@-Jan-Sendzimir-2017-sm-1-1.jpg
ORGANIZER;CN="Zen Zentrum Wien/Vienna Zen Center":MAILTO:vienna.zen.center@gmail.com
END:VEVENT
BEGIN:VEVENT
DTSTART;TZID=Europe/London:20210703T070000
DTEND;TZID=Europe/London:20210703T163000
DTSTAMP:20260423T130519
CREATED:20210530T113748Z
LAST-MODIFIED:20210530T113748Z
UID:10000470-1625295600-1625329800@www.kwanumeurope.org
SUMMARY:Zen-Day/Zoom: Saturday\, July 3\, 2021 (Lizzie Coombs JDPSN\, Knud Rosenmayr JDPSN)
DESCRIPTION:This Zen Day with Lizzie Coombs JDPSN and Knud Rosenmayr JDPSN is meant as an intense period of practicing Zen. We start with the 108 prostrations at 7 a.m.\, followed by periods of sitting and walking meditation\, chanting\, and consulting interviews. The second entry is at 10 a.m. \nThe one-day retreat will offer a final dharma talk with Zen teacher Jose Ramirez JDPSN  and Father Kevin Hunt (a long time friend of the Kwan Um School of Zen and Trappist monk). This Zen Day is organized by the Zen Center Vienna. \nPlease register at least one day prior to this event. \n➾ You can find out more here… \n  \n 
URL:https://www.kwanumeurope.org/event/zen-day-zoom-saturday-july-3-2021-lizzie-coombs-jdpsn-knud-rosenmayr-jdpsn-2/
LOCATION:Vienna Zen Center/Zoom
CATEGORIES:One Day Retreat
ATTACH;FMTTYPE=image/jpeg:https://www.kwanumeurope.org/wp-content/uploads/2021/05/Desert-Monarch-@-Jan-Sendzimir-2017-sm-1-1.jpg
ORGANIZER;CN="Zen Zentrum Wien/Vienna Zen Center":MAILTO:vienna.zen.center@gmail.com
END:VEVENT
BEGIN:VEVENT
DTSTART;TZID=Europe/London:20210703T070000
DTEND;TZID=Europe/London:20210703T163000
DTSTAMP:20260423T130519
CREATED:20210530T113748Z
LAST-MODIFIED:20210530T113748Z
UID:10000753-1625295600-1625329800@www.kwanumeurope.org
SUMMARY:Zen-Day/Zoom: Saturday\, July 3\, 2021 (Lizzie Coombs JDPSN\, Knud Rosenmayr JDPSN)
DESCRIPTION:This Zen Day with Lizzie Coombs JDPSN and Knud Rosenmayr JDPSN is meant as an intense period of practicing Zen. We start with the 108 prostrations at 7 a.m.\, followed by periods of sitting and walking meditation\, chanting\, and consulting interviews. The second entry is at 10 a.m. \nThe one-day retreat will offer a final dharma talk with Zen teacher Jose Ramirez JDPSN  and Father Kevin Hunt (a long time friend of the Kwan Um School of Zen and Trappist monk). This Zen Day is organized by the Zen Center Vienna. \nPlease register at least one day prior to this event. \n➾ You can find out more here… \n  \n 
URL:https://www.kwanumeurope.org/event/zen-day-zoom-saturday-july-3-2021-lizzie-coombs-jdpsn-knud-rosenmayr-jdpsn-3/
LOCATION:Vienna Zen Center/Zoom
CATEGORIES:One Day Retreat
ATTACH;FMTTYPE=image/jpeg:https://www.kwanumeurope.org/wp-content/uploads/2021/05/Desert-Monarch-@-Jan-Sendzimir-2017-sm-1-1.jpg
ORGANIZER;CN="Zen Zentrum Wien/Vienna Zen Center":MAILTO:vienna.zen.center@gmail.com
END:VEVENT
BEGIN:VEVENT
DTSTART;TZID=Europe/London:20210625T080000
DTEND;TZID=Europe/London:20210710T170000
DTSTAMP:20260423T130519
CREATED:20210601T065244Z
LAST-MODIFIED:20210601T065244Z
UID:10000212-1624608000-1625936400@www.kwanumeurope.org
SUMMARY:Kyol Che Week 2 and 3 Wu Bong Sa\, Warsaw
DESCRIPTION:Wu Bong Sa\, Warsaw\, Poland \n \nZen Master Bon Shim \nLong Description\nZen Master Joeng Hye \n \nThe retreat will end on Saturday 10.7 with a precepts ceremony \n– website: https://www.zen.pl/wydarzenia/\n\n– contact person: Robert Baczyk\, wubongsa@gmail.com \nMore infor about Summer Retreat Program 2021: https://www.kwanumeurope.org/srp2021/
URL:https://www.kwanumeurope.org/event/kyol-che-week-2-and-3-wu-bong-sa-warsaw/
LOCATION:Wu Bong Sa\, Warsaw\, Małowiejska 24\, Warszawa\, Poland
CATEGORIES:Kyol Che
GEO:52.162307;21.19754
X-APPLE-STRUCTURED-LOCATION;VALUE=URI;X-ADDRESS=Wu Bong Sa Warsaw Małowiejska 24 Warszawa Poland;X-APPLE-RADIUS=500;X-TITLE=Małowiejska 24:geo:21.19754,52.162307
END:VEVENT
BEGIN:VEVENT
DTSTART;TZID=Europe/London:20210625T080000
DTEND;TZID=Europe/London:20210710T170000
DTSTAMP:20260423T130519
CREATED:20210601T065244Z
LAST-MODIFIED:20210601T065244Z
UID:10000472-1624608000-1625936400@www.kwanumeurope.org
SUMMARY:Kyol Che Week 2 and 3 Wu Bong Sa\, Warsaw
DESCRIPTION:Wu Bong Sa\, Warsaw\, Poland \n \nZen Master Bon Shim \nLong Description\nZen Master Joeng Hye \n \nThe retreat will end on Saturday 10.7 with a precepts ceremony \n– website: https://www.zen.pl/wydarzenia/\n\n– contact person: Robert Baczyk\, wubongsa@gmail.com \nMore infor about Summer Retreat Program 2021: https://www.kwanumeurope.org/srp2021/
URL:https://www.kwanumeurope.org/event/kyol-che-week-2-and-3-wu-bong-sa-warsaw-2/
LOCATION:Wu Bong Sa\, Warsaw\, Małowiejska 24\, Warszawa\, Poland
CATEGORIES:Kyol Che
GEO:52.162307;21.19754
X-APPLE-STRUCTURED-LOCATION;VALUE=URI;X-ADDRESS=Wu Bong Sa Warsaw Małowiejska 24 Warszawa Poland;X-APPLE-RADIUS=500;X-TITLE=Małowiejska 24:geo:21.19754,52.162307
END:VEVENT
BEGIN:VEVENT
DTSTART;TZID=Europe/London:20210625T080000
DTEND;TZID=Europe/London:20210710T170000
DTSTAMP:20260423T130519
CREATED:20210601T065244Z
LAST-MODIFIED:20210601T065244Z
UID:10000755-1624608000-1625936400@www.kwanumeurope.org
SUMMARY:Kyol Che Week 2 and 3 Wu Bong Sa\, Warsaw
DESCRIPTION:Wu Bong Sa\, Warsaw\, Poland \n \nZen Master Bon Shim \nLong Description\nZen Master Joeng Hye \n \nThe retreat will end on Saturday 10.7 with a precepts ceremony \n– website: https://www.zen.pl/wydarzenia/\n\n– contact person: Robert Baczyk\, wubongsa@gmail.com \nMore infor about Summer Retreat Program 2021: https://www.kwanumeurope.org/srp2021/
URL:https://www.kwanumeurope.org/event/kyol-che-week-2-and-3-wu-bong-sa-warsaw-3/
LOCATION:Wu Bong Sa\, Warsaw\, Małowiejska 24\, Warszawa\, Poland
CATEGORIES:Kyol Che
GEO:52.162307;21.19754
X-APPLE-STRUCTURED-LOCATION;VALUE=URI;X-ADDRESS=Wu Bong Sa Warsaw Małowiejska 24 Warszawa Poland;X-APPLE-RADIUS=500;X-TITLE=Małowiejska 24:geo:21.19754,52.162307
END:VEVENT
BEGIN:VEVENT
DTSTART;TZID=Europe/Prague:20210621T080000
DTEND;TZID=Europe/Prague:20210627T170000
DTSTAMP:20260423T130519
CREATED:20210601T064835Z
LAST-MODIFIED:20210601T064835Z
UID:10000211-1624262400-1624813200@www.kwanumeurope.org
SUMMARY:Kyol Che Week 1 Seon Mun Sa\, Vražné
DESCRIPTION:21.6-27.6\n\n\n\n\nSeon Mun Sa\, Vražné\, Czech Republic \nZen Master Dae Kwang \n \nWebsite: http://www.vraznezen.org \nContact: Jiri Hazlbauer\, +420 608 169 042\, vrazne@vraznezen.org \nMore infor about Summer Retreat Program 2021: https://www.kwanumeurope.org/srp2021/
URL:https://www.kwanumeurope.org/event/kyol-che-week-1-seon-mun-sa-vrazne/
CATEGORIES:Kyol Che,Summer Retreat Program
ATTACH;FMTTYPE=image/jpeg:https://www.kwanumeurope.org/wp-content/uploads/2019/02/download-2.jpg
ORGANIZER;CN="George Hazlbauer":MAILTO:chongkwan@gmail.com
END:VEVENT
END:VCALENDAR