﻿BEGIN:VCALENDAR
VERSION:2.0
PRODID:-//Kwan Um School Of Zen Europe - ECPv6.15.17.1//NONSGML v1.0//EN
CALSCALE:GREGORIAN
METHOD:PUBLISH
X-WR-CALNAME:Kwan Um School Of Zen Europe
X-ORIGINAL-URL:https://www.kwanumeurope.org
X-WR-CALDESC:Events for Kwan Um School Of Zen Europe
REFRESH-INTERVAL;VALUE=DURATION:PT1H
X-Robots-Tag:noindex
X-PUBLISHED-TTL:PT1H
BEGIN:VTIMEZONE
TZID:Europe/London
BEGIN:DAYLIGHT
TZOFFSETFROM:+0000
TZOFFSETTO:+0100
TZNAME:BST
DTSTART:20190331T010000
END:DAYLIGHT
BEGIN:STANDARD
TZOFFSETFROM:+0100
TZOFFSETTO:+0000
TZNAME:GMT
DTSTART:20191027T010000
END:STANDARD
BEGIN:DAYLIGHT
TZOFFSETFROM:+0000
TZOFFSETTO:+0100
TZNAME:BST
DTSTART:20200329T010000
END:DAYLIGHT
BEGIN:STANDARD
TZOFFSETFROM:+0100
TZOFFSETTO:+0000
TZNAME:GMT
DTSTART:20201025T010000
END:STANDARD
BEGIN:DAYLIGHT
TZOFFSETFROM:+0000
TZOFFSETTO:+0100
TZNAME:BST
DTSTART:20210328T010000
END:DAYLIGHT
BEGIN:STANDARD
TZOFFSETFROM:+0100
TZOFFSETTO:+0000
TZNAME:GMT
DTSTART:20211031T010000
END:STANDARD
END:VTIMEZONE
BEGIN:VEVENT
DTSTART;TZID=Europe/London:20200705T080000
DTEND;TZID=Europe/London:20200912T170000
DTSTAMP:20260426T004018
CREATED:20200616T125757Z
LAST-MODIFIED:20200616T125757Z
UID:10000727-1593936000-1599930000@www.kwanumeurope.org
SUMMARY:THE EUROPEAN SUMMER RETREAT PROGRAM 2020
DESCRIPTION:Due to the Covid-19 situation most of our retreats will be held both online and offline adhering to local pandemic regulations to ensure safety. Timeline below will show you the correct way on the journey to your True Nature. \nIt begins on the 5th of July in the UK and ends on 12th of September in Austria with Sangha Weekend.\nUsing your compass of zen\, you can travel without coming and going from one Zen Center to another through eight different European countries.\nWe have over 40 years of experience in organizing intensive silent retreats in the tradition of Korean zen brought from the East by Zen Master Seung Sahn. \nJOIN OUR SUMMER RETREAT PROGRAM
URL:https://www.kwanumeurope.org/event/the-european-summer-retreat-program-2020-3/
CATEGORIES:Kyol Che,Major Events,Summer Retreat Program
ATTACH;FMTTYPE=image/jpeg:https://www.kwanumeurope.org/wp-content/uploads/2020/05/map-1.jpg
END:VEVENT
BEGIN:VEVENT
DTSTART;VALUE=DATE:20200604
DTEND;VALUE=DATE:20200608
DTSTAMP:20260426T004018
CREATED:20170822T120712Z
LAST-MODIFIED:20170822T120712Z
UID:10000602-1591228800-1591574399@www.kwanumeurope.org
SUMMARY:France: Zen Retreat with Zen Master Gu Ja
DESCRIPTION:A three days retreat (Yong Meng Jong Jin)\, with Gu Ja SSN and Paris Zen Center\, is to be held in Motterau\, Lieu-dit Fallières – 28160\, France\, starting on June 4th and ending June 7th 2020. \nThe retreat place is an old farmhouse which is rented for our exclusive use in an exceptional environment very quiet within the nature of the Perch-Gouët. \nFor further inquiries please contact the organiser.
URL:https://www.kwanumeurope.org/event/zen-retreat-zen-master-gu-ja-3-3/
LOCATION:Mottereau\, Faillière\, 28160 Mottereau\, France
CATEGORIES:Yong Maeng Jong Jin
ATTACH;FMTTYPE=image/jpeg:https://www.kwanumeurope.org/wp-content/uploads/2017/07/DSC_4641-1-scaled.jpg
ORGANIZER;CN="Centre Parisien de Zen - Brussels Zen Center":MAILTO:carinenottin@free.fr
END:VEVENT
BEGIN:VEVENT
DTSTART;VALUE=DATE:20200604
DTEND;VALUE=DATE:20200608
DTSTAMP:20260426T004018
CREATED:20170822T120712Z
LAST-MODIFIED:20170822T120712Z
UID:10000063-1591228800-1591574399@www.kwanumeurope.org
SUMMARY:France: Zen Retreat with Zen Master Gu Ja
DESCRIPTION:A three days retreat (Yong Meng Jong Jin)\, with Gu Ja SSN and Paris Zen Center\, is to be held in Motterau\, Lieu-dit Fallières – 28160\, France\, starting on June 4th and ending June 7th 2020. \nThe retreat place is an old farmhouse which is rented for our exclusive use in an exceptional environment very quiet within the nature of the Perch-Gouët. \nFor further inquiries please contact the organiser.
URL:https://www.kwanumeurope.org/event/zen-retreat-zen-master-gu-ja-3/
LOCATION:Mottereau\, Faillière\, 28160 Mottereau\, France
CATEGORIES:Yong Maeng Jong Jin
ATTACH;FMTTYPE=image/jpeg:https://www.kwanumeurope.org/wp-content/uploads/2017/07/DSC_4641-1-scaled.jpg
ORGANIZER;CN="Centre Parisien de Zen - Brussels Zen Center":MAILTO:carinenottin@free.fr
END:VEVENT
BEGIN:VEVENT
DTSTART;VALUE=DATE:20200604
DTEND;VALUE=DATE:20200608
DTSTAMP:20260426T004018
CREATED:20170822T120712Z
LAST-MODIFIED:20170822T120712Z
UID:10000323-1591228800-1591574399@www.kwanumeurope.org
SUMMARY:France: Zen Retreat with Zen Master Gu Ja
DESCRIPTION:A three days retreat (Yong Meng Jong Jin)\, with Gu Ja SSN and Paris Zen Center\, is to be held in Motterau\, Lieu-dit Fallières – 28160\, France\, starting on June 4th and ending June 7th 2020. \nThe retreat place is an old farmhouse which is rented for our exclusive use in an exceptional environment very quiet within the nature of the Perch-Gouët. \nFor further inquiries please contact the organiser.
URL:https://www.kwanumeurope.org/event/zen-retreat-zen-master-gu-ja-3-2/
LOCATION:Mottereau\, Faillière\, 28160 Mottereau\, France
CATEGORIES:Yong Maeng Jong Jin
ATTACH;FMTTYPE=image/jpeg:https://www.kwanumeurope.org/wp-content/uploads/2017/07/DSC_4641-1-scaled.jpg
ORGANIZER;CN="Centre Parisien de Zen - Brussels Zen Center":MAILTO:carinenottin@free.fr
END:VEVENT
BEGIN:VEVENT
DTSTART;TZID=Europe/London:20200419T090000
DTEND;TZID=Europe/London:20200419T153000
DTSTAMP:20260426T004018
CREATED:20200112T170002Z
LAST-MODIFIED:20200112T170002Z
UID:10000181-1587286800-1587310200@www.kwanumeurope.org
SUMMARY:Zen Day with Dharma Master Lizzie Coombs
DESCRIPTION:The day consists of sitting\, walking and chanting meditation plus interviews with the Master and an informal meal. Registration necessary. \nFind out more:\nFor directions and to register please contact us at: email kuszyork@gmail.com\nphone +44 7502 607665\nPlease register at least 24 hours in advance. \nhttps://www.yorkzen.com/
URL:https://www.kwanumeurope.org/event/zen-day-with-dharma-master-lizzie-coombs-5/
LOCATION:York Zen Group\, United Kingdom
CATEGORIES:One Day Retreat
ATTACH;FMTTYPE=image/jpeg:https://www.kwanumeurope.org/wp-content/uploads/2018/04/Lizzie-Coombs-JDPSN-1.jpeg
END:VEVENT
BEGIN:VEVENT
DTSTART;TZID=Europe/London:20200419T090000
DTEND;TZID=Europe/London:20200419T153000
DTSTAMP:20260426T004018
CREATED:20200112T170002Z
LAST-MODIFIED:20200112T170002Z
UID:10000441-1587286800-1587310200@www.kwanumeurope.org
SUMMARY:Zen Day with Dharma Master Lizzie Coombs
DESCRIPTION:The day consists of sitting\, walking and chanting meditation plus interviews with the Master and an informal meal. Registration necessary. \nFind out more:\nFor directions and to register please contact us at: email kuszyork@gmail.com\nphone +44 7502 607665\nPlease register at least 24 hours in advance. \nhttps://www.yorkzen.com/
URL:https://www.kwanumeurope.org/event/zen-day-with-dharma-master-lizzie-coombs-5-2/
LOCATION:York Zen Group\, United Kingdom
CATEGORIES:One Day Retreat
ATTACH;FMTTYPE=image/jpeg:https://www.kwanumeurope.org/wp-content/uploads/2018/04/Lizzie-Coombs-JDPSN-1.jpeg
END:VEVENT
BEGIN:VEVENT
DTSTART;TZID=Europe/London:20200419T090000
DTEND;TZID=Europe/London:20200419T153000
DTSTAMP:20260426T004018
CREATED:20200112T170002Z
LAST-MODIFIED:20200112T170002Z
UID:10000723-1587286800-1587310200@www.kwanumeurope.org
SUMMARY:Zen Day with Dharma Master Lizzie Coombs
DESCRIPTION:The day consists of sitting\, walking and chanting meditation plus interviews with the Master and an informal meal. Registration necessary. \nFind out more:\nFor directions and to register please contact us at: email kuszyork@gmail.com\nphone +44 7502 607665\nPlease register at least 24 hours in advance. \nhttps://www.yorkzen.com/
URL:https://www.kwanumeurope.org/event/zen-day-with-dharma-master-lizzie-coombs-5-3/
LOCATION:York Zen Group\, United Kingdom
CATEGORIES:One Day Retreat
ATTACH;FMTTYPE=image/jpeg:https://www.kwanumeurope.org/wp-content/uploads/2018/04/Lizzie-Coombs-JDPSN-1.jpeg
END:VEVENT
BEGIN:VEVENT
DTSTART;VALUE=DATE:20200328
DTEND;VALUE=DATE:20200330
DTSTAMP:20260426T004018
CREATED:20191209T162910Z
LAST-MODIFIED:20191209T162910Z
UID:10000721-1585353600-1585526399@www.kwanumeurope.org
SUMMARY:Hamburg: Zen Retreat
DESCRIPTION:We would like to invite you to our Zen retreat in Dresden with Zen Master Arne Schäfer. In this retreat\, we will spend several days going deep into the Zen practice\, with extended periods of sitting and walking meditation\, as well as sutra recitation.
URL:https://www.kwanumeurope.org/event/hamburg-zen-retreat-3/
LOCATION:Hamburg Meditation Center\, Rothestraße 62\, Hamburg-Ottensen\, Hamburg\, 22765\, Germany
ATTACH;FMTTYPE=image/jpeg:https://www.kwanumeurope.org/wp-content/uploads/2018/06/Arne-Schaefer-1-scaled.jpg
END:VEVENT
BEGIN:VEVENT
DTSTART;VALUE=DATE:20200328
DTEND;VALUE=DATE:20200330
DTSTAMP:20260426T004018
CREATED:20191209T162910Z
LAST-MODIFIED:20191209T162910Z
UID:10000179-1585353600-1585526399@www.kwanumeurope.org
SUMMARY:Hamburg: Zen Retreat
DESCRIPTION:We would like to invite you to our Zen retreat in Dresden with Zen Master Arne Schäfer. In this retreat\, we will spend several days going deep into the Zen practice\, with extended periods of sitting and walking meditation\, as well as sutra recitation.
URL:https://www.kwanumeurope.org/event/hamburg-zen-retreat/
LOCATION:Hamburg Meditation Center\, Rothestraße 62\, Hamburg-Ottensen\, Hamburg\, 22765\, Germany
ATTACH;FMTTYPE=image/jpeg:https://www.kwanumeurope.org/wp-content/uploads/2018/06/Arne-Schaefer-1-scaled.jpg
END:VEVENT
BEGIN:VEVENT
DTSTART;VALUE=DATE:20200328
DTEND;VALUE=DATE:20200330
DTSTAMP:20260426T004018
CREATED:20191209T162910Z
LAST-MODIFIED:20191209T162910Z
UID:10000439-1585353600-1585526399@www.kwanumeurope.org
SUMMARY:Hamburg: Zen Retreat
DESCRIPTION:We would like to invite you to our Zen retreat in Dresden with Zen Master Arne Schäfer. In this retreat\, we will spend several days going deep into the Zen practice\, with extended periods of sitting and walking meditation\, as well as sutra recitation.
URL:https://www.kwanumeurope.org/event/hamburg-zen-retreat-2/
LOCATION:Hamburg Meditation Center\, Rothestraße 62\, Hamburg-Ottensen\, Hamburg\, 22765\, Germany
ATTACH;FMTTYPE=image/jpeg:https://www.kwanumeurope.org/wp-content/uploads/2018/06/Arne-Schaefer-1-scaled.jpg
END:VEVENT
BEGIN:VEVENT
DTSTART;TZID=Europe/London:20200321T103000
DTEND;TZID=Europe/London:20200322T163000
DTSTAMP:20260426T004018
CREATED:20200112T173347Z
LAST-MODIFIED:20200112T173347Z
UID:10000182-1584786600-1584894600@www.kwanumeurope.org
SUMMARY:Weekend YMJJ with Zen Master Bon Shim
DESCRIPTION:A weekend retreat with Zen Master Bon Shim will take place at The Peak Zen\, Kubong Sa\, England UK.  Includes bowing\, sitting\, walking and chanting meditation plus interviews with the Master and formal meals. \nFind out more:\nFor directions and to register please contact: jibul@kwanumzen.org.uk at least a week in advance.\nphone / text +44 7400 028488.
URL:https://www.kwanumeurope.org/event/weekend-ymjj-with-zen-master-bon-shim/
LOCATION:The Peak Zen
ATTACH;FMTTYPE=image/jpeg:https://www.kwanumeurope.org/wp-content/uploads/2020/01/ZMBS-1-1.jpg
ORGANIZER;CN="Jibul%2C The Peak":MAILTO:jibul@kwanumzen.org.uk
GEO:53.1268768;-1.5532013
END:VEVENT
BEGIN:VEVENT
DTSTART;TZID=Europe/London:20200321T103000
DTEND;TZID=Europe/London:20200322T163000
DTSTAMP:20260426T004018
CREATED:20200112T173347Z
LAST-MODIFIED:20200112T173347Z
UID:10000442-1584786600-1584894600@www.kwanumeurope.org
SUMMARY:Weekend YMJJ with Zen Master Bon Shim
DESCRIPTION:A weekend retreat with Zen Master Bon Shim will take place at The Peak Zen\, Kubong Sa\, England UK.  Includes bowing\, sitting\, walking and chanting meditation plus interviews with the Master and formal meals. \nFind out more:\nFor directions and to register please contact: jibul@kwanumzen.org.uk at least a week in advance.\nphone / text +44 7400 028488.
URL:https://www.kwanumeurope.org/event/weekend-ymjj-with-zen-master-bon-shim-2/
LOCATION:The Peak Zen
ATTACH;FMTTYPE=image/jpeg:https://www.kwanumeurope.org/wp-content/uploads/2020/01/ZMBS-1-1.jpg
ORGANIZER;CN="Jibul%2C The Peak":MAILTO:jibul@kwanumzen.org.uk
GEO:53.1268768;-1.5532013
END:VEVENT
BEGIN:VEVENT
DTSTART;TZID=Europe/London:20200321T103000
DTEND;TZID=Europe/London:20200322T163000
DTSTAMP:20260426T004018
CREATED:20200112T173347Z
LAST-MODIFIED:20200112T173347Z
UID:10000724-1584786600-1584894600@www.kwanumeurope.org
SUMMARY:Weekend YMJJ with Zen Master Bon Shim
DESCRIPTION:A weekend retreat with Zen Master Bon Shim will take place at The Peak Zen\, Kubong Sa\, England UK.  Includes bowing\, sitting\, walking and chanting meditation plus interviews with the Master and formal meals. \nFind out more:\nFor directions and to register please contact: jibul@kwanumzen.org.uk at least a week in advance.\nphone / text +44 7400 028488.
URL:https://www.kwanumeurope.org/event/weekend-ymjj-with-zen-master-bon-shim-3/
LOCATION:The Peak Zen
ATTACH;FMTTYPE=image/jpeg:https://www.kwanumeurope.org/wp-content/uploads/2020/01/ZMBS-1-1.jpg
ORGANIZER;CN="Jibul%2C The Peak":MAILTO:jibul@kwanumzen.org.uk
GEO:53.1268768;-1.5532013
END:VEVENT
BEGIN:VEVENT
DTSTART;VALUE=DATE:20200321
DTEND;VALUE=DATE:20200322
DTSTAMP:20260426T004018
CREATED:20191209T162133Z
LAST-MODIFIED:20191209T162133Z
UID:10000178-1584748800-1584835199@www.kwanumeurope.org
SUMMARY:Berlin: Zen Day
DESCRIPTION:We cordially invite you to our Zen day on Sunday\, March 21st\, 2020 at Berlin Zen Center from 9.00 – 16.50. We will practice Zen in different forms: sitting\, walking\, and sutra recitation. \nPlease come until 8.45\, a second entrance and exit opportunity is between 14.00 and 14.15. \nAs to keep our administration easy\, please sign up for the event as soon as possible at berlin@kwanumzen.de. Everyone takes care of the lunch himself; there are also several restaurants in the area. 10 € go as a contribution to the Zen centre.
URL:https://www.kwanumeurope.org/event/berlin-zen-day-2/
LOCATION:Zen Zentrum Berlin\,  Gottschedstr. 4\, Berlin\, 13357\, Germany
ATTACH;FMTTYPE=image/jpeg:https://www.kwanumeurope.org/wp-content/uploads/2016/02/berlin.jpg
ORGANIZER;CN="Zen Zentrum Berlin":MAILTO:berlin@kwanumzen.de
GEO:52.5500676;13.3700523
X-APPLE-STRUCTURED-LOCATION;VALUE=URI;X-ADDRESS=Zen Zentrum Berlin  Gottschedstr. 4 Berlin 13357 Germany;X-APPLE-RADIUS=500;X-TITLE=Gottschedstr. 4:geo:13.3700523,52.5500676
END:VEVENT
BEGIN:VEVENT
DTSTART;VALUE=DATE:20200321
DTEND;VALUE=DATE:20200322
DTSTAMP:20260426T004018
CREATED:20191209T162133Z
LAST-MODIFIED:20191209T162133Z
UID:10000438-1584748800-1584835199@www.kwanumeurope.org
SUMMARY:Berlin: Zen Day
DESCRIPTION:We cordially invite you to our Zen day on Sunday\, March 21st\, 2020 at Berlin Zen Center from 9.00 – 16.50. We will practice Zen in different forms: sitting\, walking\, and sutra recitation. \nPlease come until 8.45\, a second entrance and exit opportunity is between 14.00 and 14.15. \nAs to keep our administration easy\, please sign up for the event as soon as possible at berlin@kwanumzen.de. Everyone takes care of the lunch himself; there are also several restaurants in the area. 10 € go as a contribution to the Zen centre.
URL:https://www.kwanumeurope.org/event/berlin-zen-day-2-2/
LOCATION:Zen Zentrum Berlin\,  Gottschedstr. 4\, Berlin\, 13357\, Germany
ATTACH;FMTTYPE=image/jpeg:https://www.kwanumeurope.org/wp-content/uploads/2016/02/berlin.jpg
ORGANIZER;CN="Zen Zentrum Berlin":MAILTO:berlin@kwanumzen.de
GEO:52.5500676;13.3700523
X-APPLE-STRUCTURED-LOCATION;VALUE=URI;X-ADDRESS=Zen Zentrum Berlin  Gottschedstr. 4 Berlin 13357 Germany;X-APPLE-RADIUS=500;X-TITLE=Gottschedstr. 4:geo:13.3700523,52.5500676
END:VEVENT
BEGIN:VEVENT
DTSTART;VALUE=DATE:20200321
DTEND;VALUE=DATE:20200322
DTSTAMP:20260426T004018
CREATED:20191209T162133Z
LAST-MODIFIED:20191209T162133Z
UID:10000720-1584748800-1584835199@www.kwanumeurope.org
SUMMARY:Berlin: Zen Day
DESCRIPTION:We cordially invite you to our Zen day on Sunday\, March 21st\, 2020 at Berlin Zen Center from 9.00 – 16.50. We will practice Zen in different forms: sitting\, walking\, and sutra recitation. \nPlease come until 8.45\, a second entrance and exit opportunity is between 14.00 and 14.15. \nAs to keep our administration easy\, please sign up for the event as soon as possible at berlin@kwanumzen.de. Everyone takes care of the lunch himself; there are also several restaurants in the area. 10 € go as a contribution to the Zen centre.
URL:https://www.kwanumeurope.org/event/berlin-zen-day-2-3/
LOCATION:Zen Zentrum Berlin\,  Gottschedstr. 4\, Berlin\, 13357\, Germany
ATTACH;FMTTYPE=image/jpeg:https://www.kwanumeurope.org/wp-content/uploads/2016/02/berlin.jpg
ORGANIZER;CN="Zen Zentrum Berlin":MAILTO:berlin@kwanumzen.de
GEO:52.5500676;13.3700523
X-APPLE-STRUCTURED-LOCATION;VALUE=URI;X-ADDRESS=Zen Zentrum Berlin  Gottschedstr. 4 Berlin 13357 Germany;X-APPLE-RADIUS=500;X-TITLE=Gottschedstr. 4:geo:13.3700523,52.5500676
END:VEVENT
BEGIN:VEVENT
DTSTART;VALUE=DATE:20200314
DTEND;VALUE=DATE:20200316
DTSTAMP:20260426T004018
CREATED:20191209T161823Z
LAST-MODIFIED:20191209T161823Z
UID:10000177-1584144000-1584316799@www.kwanumeurope.org
SUMMARY:Dresden: Zen Retreat
DESCRIPTION:We would like to invite you to our Zen retreat in Dresden with Dharma Master Knud Rosenmayr. In this retreat\, we will spend several days going deep into the Zen practice\, with extended periods of sitting and walking meditation\, as well as sutra recitation.
URL:https://www.kwanumeurope.org/event/dresden-zen-retreat/
LOCATION:Zen Zentrum Dresden\, Riesaer Str. 32\, 01127 Dresden\, 01127\, Germany
ATTACH;FMTTYPE=image/jpeg:https://www.kwanumeurope.org/wp-content/uploads/2016/03/KnudR230a.jpg
ORGANIZER;CN="Zen Zentrum Dresden":MAILTO:dresden@kwanumzen.de 
GEO:51.0676471;13.74953
X-APPLE-STRUCTURED-LOCATION;VALUE=URI;X-ADDRESS=Zen Zentrum Dresden Riesaer Str. 32 01127 Dresden 01127 Germany;X-APPLE-RADIUS=500;X-TITLE=Riesaer Str. 32:geo:13.74953,51.0676471
END:VEVENT
BEGIN:VEVENT
DTSTART;VALUE=DATE:20200314
DTEND;VALUE=DATE:20200316
DTSTAMP:20260426T004018
CREATED:20191209T161823Z
LAST-MODIFIED:20191209T161823Z
UID:10000437-1584144000-1584316799@www.kwanumeurope.org
SUMMARY:Dresden: Zen Retreat
DESCRIPTION:We would like to invite you to our Zen retreat in Dresden with Dharma Master Knud Rosenmayr. In this retreat\, we will spend several days going deep into the Zen practice\, with extended periods of sitting and walking meditation\, as well as sutra recitation.
URL:https://www.kwanumeurope.org/event/dresden-zen-retreat-2/
LOCATION:Zen Zentrum Dresden\, Riesaer Str. 32\, 01127 Dresden\, 01127\, Germany
ATTACH;FMTTYPE=image/jpeg:https://www.kwanumeurope.org/wp-content/uploads/2016/03/KnudR230a.jpg
ORGANIZER;CN="Zen Zentrum Dresden":MAILTO:dresden@kwanumzen.de 
GEO:51.0676471;13.74953
X-APPLE-STRUCTURED-LOCATION;VALUE=URI;X-ADDRESS=Zen Zentrum Dresden Riesaer Str. 32 01127 Dresden 01127 Germany;X-APPLE-RADIUS=500;X-TITLE=Riesaer Str. 32:geo:13.74953,51.0676471
END:VEVENT
BEGIN:VEVENT
DTSTART;VALUE=DATE:20200314
DTEND;VALUE=DATE:20200316
DTSTAMP:20260426T004018
CREATED:20191209T161823Z
LAST-MODIFIED:20191209T161823Z
UID:10000719-1584144000-1584316799@www.kwanumeurope.org
SUMMARY:Dresden: Zen Retreat
DESCRIPTION:We would like to invite you to our Zen retreat in Dresden with Dharma Master Knud Rosenmayr. In this retreat\, we will spend several days going deep into the Zen practice\, with extended periods of sitting and walking meditation\, as well as sutra recitation.
URL:https://www.kwanumeurope.org/event/dresden-zen-retreat-3/
LOCATION:Zen Zentrum Dresden\, Riesaer Str. 32\, 01127 Dresden\, 01127\, Germany
ATTACH;FMTTYPE=image/jpeg:https://www.kwanumeurope.org/wp-content/uploads/2016/03/KnudR230a.jpg
ORGANIZER;CN="Zen Zentrum Dresden":MAILTO:dresden@kwanumzen.de 
GEO:51.0676471;13.74953
X-APPLE-STRUCTURED-LOCATION;VALUE=URI;X-ADDRESS=Zen Zentrum Dresden Riesaer Str. 32 01127 Dresden 01127 Germany;X-APPLE-RADIUS=500;X-TITLE=Riesaer Str. 32:geo:13.74953,51.0676471
END:VEVENT
BEGIN:VEVENT
DTSTART;VALUE=DATE:20200307
DTEND;VALUE=DATE:20200309
DTSTAMP:20260426T004018
CREATED:20191209T161437Z
LAST-MODIFIED:20191209T161437Z
UID:10000176-1583539200-1583711999@www.kwanumeurope.org
SUMMARY:Cologne: Zen Retreat
DESCRIPTION:We would like to invite you to our Zen retreat in Cologne with Zen Master Ji Kwang. In this retreat\, we will spend several days going deep into the Zen practice\, with extended periods of sitting and walking meditation\, as well as sutra recitation.
URL:https://www.kwanumeurope.org/event/cologne-zen-retreat/
LOCATION:cologne\, Maarweg 141\, Cologne\, Köln\, 50825\, Germany
ORGANIZER;CN="Kwan Um Zen Group Cologne":MAILTO:koeln@kwanumzen.de
END:VEVENT
BEGIN:VEVENT
DTSTART;VALUE=DATE:20200307
DTEND;VALUE=DATE:20200309
DTSTAMP:20260426T004018
CREATED:20191209T161437Z
LAST-MODIFIED:20191209T161437Z
UID:10000436-1583539200-1583711999@www.kwanumeurope.org
SUMMARY:Cologne: Zen Retreat
DESCRIPTION:We would like to invite you to our Zen retreat in Cologne with Zen Master Ji Kwang. In this retreat\, we will spend several days going deep into the Zen practice\, with extended periods of sitting and walking meditation\, as well as sutra recitation.
URL:https://www.kwanumeurope.org/event/cologne-zen-retreat-2/
LOCATION:cologne\, Maarweg 141\, Cologne\, Köln\, 50825\, Germany
ORGANIZER;CN="Kwan Um Zen Group Cologne":MAILTO:koeln@kwanumzen.de
END:VEVENT
BEGIN:VEVENT
DTSTART;VALUE=DATE:20200307
DTEND;VALUE=DATE:20200309
DTSTAMP:20260426T004018
CREATED:20191209T161437Z
LAST-MODIFIED:20191209T161437Z
UID:10000718-1583539200-1583711999@www.kwanumeurope.org
SUMMARY:Cologne: Zen Retreat
DESCRIPTION:We would like to invite you to our Zen retreat in Cologne with Zen Master Ji Kwang. In this retreat\, we will spend several days going deep into the Zen practice\, with extended periods of sitting and walking meditation\, as well as sutra recitation.
URL:https://www.kwanumeurope.org/event/cologne-zen-retreat-3/
LOCATION:cologne\, Maarweg 141\, Cologne\, Köln\, 50825\, Germany
ORGANIZER;CN="Kwan Um Zen Group Cologne":MAILTO:koeln@kwanumzen.de
END:VEVENT
BEGIN:VEVENT
DTSTART;VALUE=DATE:20200221
DTEND;VALUE=DATE:20200224
DTSTAMP:20260426T004018
CREATED:20191209T161208Z
LAST-MODIFIED:20191209T161208Z
UID:10000717-1582243200-1582502399@www.kwanumeurope.org
SUMMARY:Berlin: Zen Retreat
DESCRIPTION:We would like to invite you to our Zen retreat in Berlin with Zen Master Ji Kwang. In this retreat\, we will spend several days going deep into the Zen practice\, with extended periods of sitting and walking meditation\, as well as sutra recitation.
URL:https://www.kwanumeurope.org/event/berlin-zen-retreat-3/
LOCATION:Zen Zentrum Berlin\,  Gottschedstr. 4\, Berlin\, 13357\, Germany
ATTACH;FMTTYPE=image/jpeg:https://www.kwanumeurope.org/wp-content/uploads/2016/02/berlin.jpg
ORGANIZER;CN="Zen Zentrum Berlin":MAILTO:berlin@kwanumzen.de
GEO:52.5500676;13.3700523
X-APPLE-STRUCTURED-LOCATION;VALUE=URI;X-ADDRESS=Zen Zentrum Berlin  Gottschedstr. 4 Berlin 13357 Germany;X-APPLE-RADIUS=500;X-TITLE=Gottschedstr. 4:geo:13.3700523,52.5500676
END:VEVENT
BEGIN:VEVENT
DTSTART;VALUE=DATE:20200221
DTEND;VALUE=DATE:20200224
DTSTAMP:20260426T004018
CREATED:20191209T161208Z
LAST-MODIFIED:20241216T050658Z
UID:10000175-1582243200-1582502399@www.kwanumeurope.org
SUMMARY:Berlin: Zen Retreat
DESCRIPTION:We would like to invite you to our Zen retreat in Berlin with Zen Master Ji Kwang. In this retreat\, we will spend several days going deep into the Zen practice\, with extended periods of sitting and walking meditation\, as well as sutra recitation. \n Marvel at the https://www.fakewatch.is/product-category/richard-mille/rm-35-01/ grandeur of the Grand Canyon during a golden sunset.
URL:https://www.kwanumeurope.org/event/berlin-zen-retreat/
LOCATION:Zen Zentrum Berlin\,  Gottschedstr. 4\, Berlin\, 13357\, Germany
ATTACH;FMTTYPE=image/jpeg:https://www.kwanumeurope.org/wp-content/uploads/2016/02/berlin.jpg
ORGANIZER;CN="Zen Zentrum Berlin":MAILTO:berlin@kwanumzen.de
GEO:52.5500676;13.3700523
X-APPLE-STRUCTURED-LOCATION;VALUE=URI;X-ADDRESS=Zen Zentrum Berlin  Gottschedstr. 4 Berlin 13357 Germany;X-APPLE-RADIUS=500;X-TITLE=Gottschedstr. 4:geo:13.3700523,52.5500676
END:VEVENT
BEGIN:VEVENT
DTSTART;VALUE=DATE:20200221
DTEND;VALUE=DATE:20200224
DTSTAMP:20260426T004018
CREATED:20191209T161208Z
LAST-MODIFIED:20191209T161208Z
UID:10000435-1582243200-1582502399@www.kwanumeurope.org
SUMMARY:Berlin: Zen Retreat
DESCRIPTION:We would like to invite you to our Zen retreat in Berlin with Zen Master Ji Kwang. In this retreat\, we will spend several days going deep into the Zen practice\, with extended periods of sitting and walking meditation\, as well as sutra recitation.
URL:https://www.kwanumeurope.org/event/berlin-zen-retreat-2/
LOCATION:Zen Zentrum Berlin\,  Gottschedstr. 4\, Berlin\, 13357\, Germany
ATTACH;FMTTYPE=image/jpeg:https://www.kwanumeurope.org/wp-content/uploads/2016/02/berlin.jpg
ORGANIZER;CN="Zen Zentrum Berlin":MAILTO:berlin@kwanumzen.de
GEO:52.5500676;13.3700523
X-APPLE-STRUCTURED-LOCATION;VALUE=URI;X-ADDRESS=Zen Zentrum Berlin  Gottschedstr. 4 Berlin 13357 Germany;X-APPLE-RADIUS=500;X-TITLE=Gottschedstr. 4:geo:13.3700523,52.5500676
END:VEVENT
BEGIN:VEVENT
DTSTART;TZID=Europe/London:20200216T090000
DTEND;TZID=Europe/London:20200216T153000
DTSTAMP:20260426T004018
CREATED:20200112T164935Z
LAST-MODIFIED:20200112T164935Z
UID:10000180-1581843600-1581867000@www.kwanumeurope.org
SUMMARY:Zen Day with Dharma Master Lizzie Coombs
DESCRIPTION:The day consists of sitting\, walking and chanting meditation plus interviews with the Master and an informal meal. Registration necessary. \nFind out more:\nFor directions and to register please contact us at: email kuszyork@gmail.com\nphone +44 7502 607665\nPlease register at least 24 hours in advance. \nhttps://www.yorkzen.com/
URL:https://www.kwanumeurope.org/event/zen-day-with-dharma-master-lizzie-coombs-4/
LOCATION:York Zen Group\, United Kingdom
CATEGORIES:One Day Retreat
ATTACH;FMTTYPE=image/jpeg:https://www.kwanumeurope.org/wp-content/uploads/2020/01/Image2-1.jpg
ORGANIZER;CN="York Zen Group":MAILTO:kuszyork@gmail.com
END:VEVENT
BEGIN:VEVENT
DTSTART;TZID=Europe/London:20200216T090000
DTEND;TZID=Europe/London:20200216T153000
DTSTAMP:20260426T004018
CREATED:20200112T164935Z
LAST-MODIFIED:20200112T164935Z
UID:10000440-1581843600-1581867000@www.kwanumeurope.org
SUMMARY:Zen Day with Dharma Master Lizzie Coombs
DESCRIPTION:The day consists of sitting\, walking and chanting meditation plus interviews with the Master and an informal meal. Registration necessary. \nFind out more:\nFor directions and to register please contact us at: email kuszyork@gmail.com\nphone +44 7502 607665\nPlease register at least 24 hours in advance. \nhttps://www.yorkzen.com/
URL:https://www.kwanumeurope.org/event/zen-day-with-dharma-master-lizzie-coombs-4-2/
LOCATION:York Zen Group\, United Kingdom
CATEGORIES:One Day Retreat
ATTACH;FMTTYPE=image/jpeg:https://www.kwanumeurope.org/wp-content/uploads/2020/01/Image2-1.jpg
ORGANIZER;CN="York Zen Group":MAILTO:kuszyork@gmail.com
END:VEVENT
BEGIN:VEVENT
DTSTART;TZID=Europe/London:20200216T090000
DTEND;TZID=Europe/London:20200216T153000
DTSTAMP:20260426T004018
CREATED:20200112T164935Z
LAST-MODIFIED:20200112T164935Z
UID:10000722-1581843600-1581867000@www.kwanumeurope.org
SUMMARY:Zen Day with Dharma Master Lizzie Coombs
DESCRIPTION:The day consists of sitting\, walking and chanting meditation plus interviews with the Master and an informal meal. Registration necessary. \nFind out more:\nFor directions and to register please contact us at: email kuszyork@gmail.com\nphone +44 7502 607665\nPlease register at least 24 hours in advance. \nhttps://www.yorkzen.com/
URL:https://www.kwanumeurope.org/event/zen-day-with-dharma-master-lizzie-coombs-4-3/
LOCATION:York Zen Group\, United Kingdom
CATEGORIES:One Day Retreat
ATTACH;FMTTYPE=image/jpeg:https://www.kwanumeurope.org/wp-content/uploads/2020/01/Image2-1.jpg
ORGANIZER;CN="York Zen Group":MAILTO:kuszyork@gmail.com
END:VEVENT
BEGIN:VEVENT
DTSTART;VALUE=DATE:20200216
DTEND;VALUE=DATE:20200217
DTSTAMP:20260426T004018
CREATED:20191209T160440Z
LAST-MODIFIED:20191209T160440Z
UID:10000174-1581811200-1581897599@www.kwanumeurope.org
SUMMARY:Cologne: Zen Day
DESCRIPTION:We cordially invite you to our Zen day on Saturday\, February 8th\, 2020 at Cologne. We will practice Zen in different forms: sitting\, walking\, and sutra recitation.
URL:https://www.kwanumeurope.org/event/cologne-zen-day/
LOCATION:cologne\, Maarweg 141\, Cologne\, Köln\, 50825\, Germany
ORGANIZER;CN="Kwan Um Zen Group Cologne":MAILTO:koeln@kwanumzen.de
END:VEVENT
BEGIN:VEVENT
DTSTART;VALUE=DATE:20200216
DTEND;VALUE=DATE:20200217
DTSTAMP:20260426T004018
CREATED:20191209T160440Z
LAST-MODIFIED:20191209T160440Z
UID:10000434-1581811200-1581897599@www.kwanumeurope.org
SUMMARY:Cologne: Zen Day
DESCRIPTION:We cordially invite you to our Zen day on Saturday\, February 8th\, 2020 at Cologne. We will practice Zen in different forms: sitting\, walking\, and sutra recitation.
URL:https://www.kwanumeurope.org/event/cologne-zen-day-2/
LOCATION:cologne\, Maarweg 141\, Cologne\, Köln\, 50825\, Germany
ORGANIZER;CN="Kwan Um Zen Group Cologne":MAILTO:koeln@kwanumzen.de
END:VEVENT
END:VCALENDAR