﻿BEGIN:VCALENDAR
VERSION:2.0
PRODID:-//Kwan Um School Of Zen Europe - ECPv6.15.17.1//NONSGML v1.0//EN
CALSCALE:GREGORIAN
METHOD:PUBLISH
X-WR-CALNAME:Kwan Um School Of Zen Europe
X-ORIGINAL-URL:https://www.kwanumeurope.org
X-WR-CALDESC:Events for Kwan Um School Of Zen Europe
REFRESH-INTERVAL;VALUE=DURATION:PT1H
X-Robots-Tag:noindex
X-PUBLISHED-TTL:PT1H
BEGIN:VTIMEZONE
TZID:UTC
BEGIN:STANDARD
TZOFFSETFROM:+0000
TZOFFSETTO:+0000
TZNAME:UTC
DTSTART:20230101T000000
END:STANDARD
END:VTIMEZONE
BEGIN:VTIMEZONE
TZID:Europe/London
BEGIN:DAYLIGHT
TZOFFSETFROM:+0000
TZOFFSETTO:+0100
TZNAME:BST
DTSTART:20220327T010000
END:DAYLIGHT
BEGIN:STANDARD
TZOFFSETFROM:+0100
TZOFFSETTO:+0000
TZNAME:GMT
DTSTART:20221030T010000
END:STANDARD
BEGIN:DAYLIGHT
TZOFFSETFROM:+0000
TZOFFSETTO:+0100
TZNAME:BST
DTSTART:20230326T010000
END:DAYLIGHT
BEGIN:STANDARD
TZOFFSETFROM:+0100
TZOFFSETTO:+0000
TZNAME:GMT
DTSTART:20231029T010000
END:STANDARD
BEGIN:DAYLIGHT
TZOFFSETFROM:+0000
TZOFFSETTO:+0100
TZNAME:BST
DTSTART:20240331T010000
END:DAYLIGHT
BEGIN:STANDARD
TZOFFSETFROM:+0100
TZOFFSETTO:+0000
TZNAME:GMT
DTSTART:20241027T010000
END:STANDARD
BEGIN:DAYLIGHT
TZOFFSETFROM:+0000
TZOFFSETTO:+0100
TZNAME:BST
DTSTART:20250330T010000
END:DAYLIGHT
BEGIN:STANDARD
TZOFFSETFROM:+0100
TZOFFSETTO:+0000
TZNAME:GMT
DTSTART:20251026T010000
END:STANDARD
END:VTIMEZONE
BEGIN:VEVENT
DTSTART;TZID=UTC:20240616T080000
DTEND;TZID=UTC:20240901T170000
DTSTAMP:20260419T220151
CREATED:20240511T121419Z
LAST-MODIFIED:20240511T122628Z
UID:10000875-1718524800-1725210000@www.kwanumeurope.org
SUMMARY:Summer Retreat Program 2024
DESCRIPTION:Our retreats will be held offline only this year. Timeline below will show you the correct way on the journey to your True Nature. \nUsing your compass of zen\, you can travel without coming and going from one Zen Center to another through nine different European countries. \nWe have over 40 years of experience in organizing intensive silent retreats in the tradition of Korean zen brought from the East by Zen Master Seung Sahn. \nScholarships! If you are a School member with financial difficulties or long term Sangha volunteer\, a scholarship may be available for you to attend. Please visit our Scholarship page for more information.
URL:https://www.kwanumeurope.org/event/summer-retreat-program-2024/
LOCATION:Multiple Venues Europe
CATEGORIES:Major Events,Summer Retreat Program
ATTACH;FMTTYPE=image/jpeg:https://www.kwanumeurope.org/wp-content/uploads/2024/05/434425257_442644314797728_2892812669782632214_n.jpg
END:VEVENT
BEGIN:VEVENT
DTSTART;TZID=UTC:20240616T080000
DTEND;TZID=UTC:20240623T170000
DTSTAMP:20260419T220151
CREATED:20240526T171235Z
LAST-MODIFIED:20240603T152623Z
UID:10000876-1718524800-1719162000@www.kwanumeurope.org
SUMMARY:Zen Forest\, Lithuania
DESCRIPTION:Zen Forest\, Lithuania \nZen Master Joeng Hye \nWebsite: https://www.zen.lt/ \nContact: ryskus1@gmail.com or alvydas.turskis@gmail.com
URL:https://www.kwanumeurope.org/event/zen-forest-lithuania/
LOCATION:Zen Forest\, Lithuania\, Lithuania
CATEGORIES:Kyol Che,Summer Retreat Program
ATTACH;FMTTYPE=image/jpeg:https://www.kwanumeurope.org/wp-content/uploads/2022/01/ZM.jpg
END:VEVENT
BEGIN:VEVENT
DTSTART;TZID=Europe/London:20240523T170000
DTEND;TZID=Europe/London:20240526T160000
DTSTAMP:20260419T220151
CREATED:20231219T081600Z
LAST-MODIFIED:20231219T081600Z
UID:10000860-1716483600-1716739200@www.kwanumeurope.org
SUMMARY:Zen Cuisine Workshop with Chef Avital Sebagg
DESCRIPTION:Zen Around the Table\nZen Cuisine Workshop with Chef Avital Sebagg \nMay 24th to 26th (arrival Thursday 23th) \nLimited places \nAvital Sebbag\, a vegan chef and certified practitioner of Chinese Medicine\, will inspire us to cook a stunning variety of nutritious and delicious recipes inspired by Zen and ancient principles of nutrition. \nIn this 4-part workshop we will prepare around 20 vegan recipes and will learn how to master the art of retreat cooking. This workshop is open to anyone that wants to learn more about vegan cuisine\, as well as “kitchen masters” currently helping on retreats or Zen Center’s kitchens\, to learn the skills required to organize a kitchen\, create menus\, develop tasty\, healthy vegan recipes to nourish and support people on their practice and run a kitchen within a retreat setting. \nThe workshop will take place in Borisa\, our mountain Zen Center located in the middle of the pristine wilderness of the Alta Garrotxa Natural Park (Spain). Participants will also experience the ancient practice of korean zen of the Kwan Um School of Zen. \nMore information and registration: \nhttps://boricentro.kwanumzen.es/event/zen-around-the-table/?lang=en
URL:https://www.kwanumeurope.org/event/zen-cuisine-workshop-with-chef-avital-sebagg/
LOCATION:Bori Sa\, (Mas Puli) Sales de Llierca \, Alta Garrotxa\, Girona\, 17853\, Spain
CATEGORIES:Zen Workshop
ATTACH;FMTTYPE=image/jpeg:https://www.kwanumeurope.org/wp-content/uploads/2023/12/5850d867-097f-4a1c-bf91-c65b7e20a15a.jpg
GEO:42.2484479;2.6291242
X-APPLE-STRUCTURED-LOCATION;VALUE=URI;X-ADDRESS=Bori Sa (Mas Puli) Sales de Llierca  Alta Garrotxa Girona 17853 Spain;X-APPLE-RADIUS=500;X-TITLE=(Mas Puli) Sales de Llierca:geo:2.6291242,42.2484479
END:VEVENT
BEGIN:VEVENT
DTSTART;TZID=Europe/London:20240503T183000
DTEND;TZID=Europe/London:20240510T160000
DTSTAMP:20260419T220151
CREATED:20231213T120606Z
LAST-MODIFIED:20231213T120606Z
UID:10000857-1714761000-1715356800@www.kwanumeurope.org
SUMMARY:Zen Retreat with Zen Master Gu Ja 03.05-10.05.2024
DESCRIPTION:Zen Retreat with Zen Master Gu Ja \nwhere: Zen Zentrum Berlin\nbegin: 3.5.2024  18:30\n\nend: 10.5.2024   16:00\n\nadditional information & registration: https://kwanumzen.de/en/events-2/  or email to berlin@kwanumzen.de
URL:https://www.kwanumeurope.org/event/zen-retreat-with-zen-master-gu-ja-03-05-10-05-2024/
CATEGORIES:Zen practice
ATTACH;FMTTYPE=image/jpeg:https://www.kwanumeurope.org/wp-content/uploads/2016/06/Muchak230c.jpg
END:VEVENT
BEGIN:VEVENT
DTSTART;TZID=Europe/London:20240502T110000
DTEND;TZID=Europe/London:20240504T150000
DTSTAMP:20260419T220151
CREATED:20240208T084036Z
LAST-MODIFIED:20240208T084036Z
UID:10000869-1714647600-1714834800@www.kwanumeurope.org
SUMMARY:Israeli Desert YMJJ w. George Hazelbauer JDPSN
DESCRIPTION:Join us for a Israeli Desert YMJJ w. George Hazelbauer JDPSN in the far south of Israel in a beautiful desert resort. \nOn-siteretreat (Yong Maeng Jong Jin).\nYou can join us to experience 2.5 days of intensive period of the practice with meditation\, bowing\, chanting practice and kong-an interviews from May 2 to 4\, 2024. \nFor further inquiries please contact Boaz at +972-54-6522812 \nhttps://maps.app.goo.gl/qZpMZMKaNxjei4bh9 \n\n 
URL:https://www.kwanumeurope.org/event/israeli-desert-ymjj-w-george-hazelbauer-jdpsn/
LOCATION:Retreat with Ja An JDPSN\, England
CATEGORIES:Weekend Retreat,Yong Maeng Jong Jin
ATTACH;FMTTYPE=image/jpeg:https://www.kwanumeurope.org/wp-content/uploads/2024/02/343059421_625411142366287_3286289148372426244_n.jpg
END:VEVENT
BEGIN:VEVENT
DTSTART;TZID=Europe/London:20240412T183000
DTEND;TZID=Europe/London:20240413T203000
DTSTAMP:20260419T220151
CREATED:20240328T055444Z
LAST-MODIFIED:20240328T055444Z
UID:10000874-1712946600-1713040200@www.kwanumeurope.org
SUMMARY:Zen Retreat with Igor Piniński JDPSN 12.04-13.04.2024
DESCRIPTION:
URL:https://www.kwanumeurope.org/event/zen-retreat-with-igor-pininski-jdpsn-12-04-13-04-2024/
END:VEVENT
BEGIN:VEVENT
DTSTART;TZID=Europe/London:20240411T183000
DTEND;TZID=Europe/London:20240414T130000
DTSTAMP:20260419T220151
CREATED:20240313T053908Z
LAST-MODIFIED:20240313T053908Z
UID:10000873-1712860200-1713099600@www.kwanumeurope.org
SUMMARY:Bratislava ZC April YMJJ w. Joeng Hye SSN
DESCRIPTION:This event requires your registration at least 3 day before the retreat starts. \nOn-site retreat (Yong Maeng Jong Jin) with Zen Master Joeng Hye (Andrzej Piotrowski) is organised by Bratislava Zen Center.  You can join us to experience 3 days of intensive period of the practice with meditation\, bowing\, chanting practice and kong-an interviews with acknowledged Zen Master\, from April 11 to 14\, 2024. \nThe Dharma Speech will be given by Joeng Hye SSN on Saturday\, April 13 at 14:30 (2:30pm) CET. \nFor further inquiries please contact the organiser.
URL:https://www.kwanumeurope.org/event/bratislava-zc-april-ymjj-w-joeng-hye-ssn/
CATEGORIES:Yong Maeng Jong Jin
ORGANIZER;CN="Bratislava Zen Center":MAILTO:bzc108@gmail.com
END:VEVENT
BEGIN:VEVENT
DTSTART;VALUE=DATE:20240323
DTEND;VALUE=DATE:20240407
DTSTAMP:20260419T220151
CREATED:20231228T152102Z
LAST-MODIFIED:20231228T152102Z
UID:10000862-1711152000-1712447999@www.kwanumeurope.org
SUMMARY:Winter Kyol Che Bori Sa
DESCRIPTION:
URL:https://www.kwanumeurope.org/event/winter-kyol-che-bori-sa/
LOCATION:Bori Sa\, (Mas Puli) Sales de Llierca \, Alta Garrotxa\, Girona\, 17853\, Spain
CATEGORIES:Kyol Che
ATTACH;FMTTYPE=image/png:https://www.kwanumeurope.org/wp-content/uploads/2023/12/Winter-KC-24-Add.png
GEO:42.2484479;2.6291242
X-APPLE-STRUCTURED-LOCATION;VALUE=URI;X-ADDRESS=Bori Sa (Mas Puli) Sales de Llierca  Alta Garrotxa Girona 17853 Spain;X-APPLE-RADIUS=500;X-TITLE=(Mas Puli) Sales de Llierca:geo:2.6291242,42.2484479
END:VEVENT
BEGIN:VEVENT
DTSTART;TZID=Europe/London:20240317T090000
DTEND;TZID=Europe/London:20240317T110000
DTSTAMP:20260419T220151
CREATED:20240215T075554Z
LAST-MODIFIED:20240215T075554Z
UID:10000871-1710666000-1710673200@www.kwanumeurope.org
SUMMARY:Dharma Talk in London with Bogumila Malinowska JDPS
DESCRIPTION:We will have a next Dharma talk \, Questions and Answer time and short practice  in London on Sunday  March 17th . \nThe meeting is in person and online .Please send an email to london.zen.kwanum@gmail.com if you want to join as soon as possible.We are looking forward to practice with you .If you join in person you can have a time with Sangha after event
URL:https://www.kwanumeurope.org/event/dharma-talk-in-london-with-bogumila-malinowska-jdps/
LOCATION:Brickworks Community Centre\, 42 Crouch Hill\, London\, England\, N44BY\, United Kingdom
CATEGORIES:Dharma Speech
END:VEVENT
BEGIN:VEVENT
DTSTART;TZID=Europe/London:20240309T100000
DTEND;TZID=Europe/London:20240309T180000
DTSTAMP:20260419T220151
CREATED:20240303T170021Z
LAST-MODIFIED:20240303T170021Z
UID:10000872-1709978400-1710007200@www.kwanumeurope.org
SUMMARY:Retreat in London on Saturday March 9th with Bogumila JDPS
DESCRIPTION:We invite you to sit in person or online retreat on Saturday March 9th.For more information please send email to london.zen.kwanum@gmail.com
URL:https://www.kwanumeurope.org/event/retreat-in-london-on-saturday-march-9th-with-bogumila-jdps/
LOCATION:9 Manor Gardens London N7 6LA
CATEGORIES:One Day Retreat
END:VEVENT
BEGIN:VEVENT
DTSTART;TZID=Europe/London:20240309T100000
DTEND;TZID=Europe/London:20240309T180000
DTSTAMP:20260419T220151
CREATED:20240215T075153Z
LAST-MODIFIED:20240215T075153Z
UID:10000870-1709978400-1710007200@www.kwanumeurope.org
SUMMARY:Retreat in London with Bogumila Malinowska JDPS
DESCRIPTION:We will sit next retreat in London on Saturday March 9th . \nThe meeting is in person and online .Please send an email to london.zen.kwanum@gmail.com if you want to join as soon as possible.We are looking forward to practice with you \n 
URL:https://www.kwanumeurope.org/event/retreat-in-london-with-bogumila-malinowska-jdps/
LOCATION:9 Manor Gardens London N7 6LA
CATEGORIES:One Day Retreat
END:VEVENT
BEGIN:VEVENT
DTSTART;TZID=Europe/London:20240217T070000
DTEND;TZID=Europe/London:20240217T160000
DTSTAMP:20260419T220151
CREATED:20240205T125238Z
LAST-MODIFIED:20250106T111153Z
UID:10000868-1708153200-1708185600@www.kwanumeurope.org
SUMMARY:Vienna ZC: Hybrid Zen Day with Knud Rosenmayr JDPSN – Saturday\, February 17\, 2024
DESCRIPTION:Teacher: Knud Rosenmayr JDPSN\n \nBeginning: 6:50 a.m. \nEnd: 4:00 p.m. \nZen Days are short retreats that allow us to deepen our practice and come back to our breath. We look through our habitual thought patterns and find the source of our deepest wisdom and compassion. \nThis (hybrid) Zen Day of the Vienna Zen Center will be held for participants in person at the Zen Center\, plus online via Zoom. Please register via info@kwanumzen.at\, the Zoom link will be provided 🙂🙏🏽 \n➾ More information and registration \n  \n 
URL:https://www.kwanumeurope.org/event/vienna-zc-hybrid-zen-day-with-knud-rosenmayr-jdpsn-saturday-february-17-2024/
LOCATION:Vienna Zen Center/Zoom\, Zen Zentrum Wien c/o Amida-Zentrum; Neubaugasse 12-14/Stiege 2(durch Innenhof)/Mez/Studio 4+5\, Vienna\, 1070\, Austria
CATEGORIES:One Day Retreat,Online Event
ATTACH;FMTTYPE=image/png:https://www.kwanumeurope.org/wp-content/uploads/2024/02/Zen-Tag-2024-02-17-Sujet-sm.png
ORGANIZER;CN="Zen Zentrum Wien/Vienna Zen Center":MAILTO:vienna.zen.center@gmail.com
END:VEVENT
BEGIN:VEVENT
DTSTART;TZID=Europe/London:20240210T100000
DTEND;TZID=Europe/London:20240210T180000
DTSTAMP:20260419T220151
CREATED:20240201T185651Z
LAST-MODIFIED:20240201T185651Z
UID:10000867-1707559200-1707588000@www.kwanumeurope.org
SUMMARY:One day retreat with Bogumila Malinowska JDPS in London
DESCRIPTION:We warmly invite you to join in person or online to the One day retreat with Bogumila Malinowska JDPS in London. \nFor more information please send an email to london.zen.kwanum@gmail.com
URL:https://www.kwanumeurope.org/event/one-day-retreat-with-bogumila-malinowska-jdps-in-london-2-2/
LOCATION:9 Manor Gardens London N7 6LA
CATEGORIES:One Day Retreat
END:VEVENT
BEGIN:VEVENT
DTSTART;TZID=Europe/London:20240209T183000
DTEND;TZID=Europe/London:20240211T130000
DTSTAMP:20260419T220151
CREATED:20240117T160741Z
LAST-MODIFIED:20240117T160741Z
UID:10000866-1707503400-1707656400@www.kwanumeurope.org
SUMMARY:Bratislava ZC February YMJJ w. Dušan Silváši JDPSN
DESCRIPTION:This event requires your registration at least 3 day before the retreat starts. \nOn-site/online retreat (Yong Maeng Jong Jin) with Dharma Master Dušan Silváši is organised by Bratislava Zen Center.  You can join us to experience 2 days of intensive period of the practice with meditation\, bowing\, chanting practice and kong-an interviews from February 9 to 11\, 2024. \nThe Dharma Speech will be given by Dušan Silváši JDPSN on Saturday\, February 10 at 14:30 (2:30pm) CET. \nFor further inquiries please contact the organiser.
URL:https://www.kwanumeurope.org/event/bratislava-zc-february-ymjj-w-dusan-silvasi-jdpsn/
LOCATION:Bratislava Zen Center\, Henulova 5\, Bratislava\, 84101\, Slovakia (Slovak Republic)
CATEGORIES:Yong Maeng Jong Jin
ATTACH;FMTTYPE=image/png:https://www.kwanumeurope.org/wp-content/uploads/2024/01/dusan.png
ORGANIZER;CN="Bratislava Zen Center":MAILTO:bzc108@gmail.com
END:VEVENT
BEGIN:VEVENT
DTSTART;VALUE=DATE:20240204
DTEND;VALUE=DATE:20240304
DTSTAMP:20260419T220151
CREATED:20231228T152222Z
LAST-MODIFIED:20231228T152222Z
UID:10000863-1707004800-1709510399@www.kwanumeurope.org
SUMMARY:Winter Kyol Che Wu Bong Sa
DESCRIPTION:
URL:https://www.kwanumeurope.org/event/winter-kyol-che-wu-bong-sa/
LOCATION:Wu Bong Sa\, Warsaw\, Małowiejska 24\, Warszawa\, Poland
CATEGORIES:Kyol Che
ATTACH;FMTTYPE=image/png:https://www.kwanumeurope.org/wp-content/uploads/2023/12/Winter-KC-24-Add.png
ORGANIZER;CN="Wu Bong Sa":MAILTO:kwanum@zen.pl 
GEO:52.162307;21.19754
X-APPLE-STRUCTURED-LOCATION;VALUE=URI;X-ADDRESS=Wu Bong Sa Warsaw Małowiejska 24 Warszawa Poland;X-APPLE-RADIUS=500;X-TITLE=Małowiejska 24:geo:21.19754,52.162307
END:VEVENT
BEGIN:VEVENT
DTSTART;TZID=UTC:20240201T080000
DTEND;TZID=UTC:20240201T170000
DTSTAMP:20260419T220151
CREATED:20240201T083920Z
LAST-MODIFIED:20240201T083920Z
UID:10000537-1706774400-1706806800@www.kwanumeurope.org
SUMMARY:test retreat
DESCRIPTION:abcd abcdabcdabcdabcdabcdabcd\nabcdabcdabcdabcd
URL:https://www.kwanumeurope.org/event/test-retreat/
LOCATION:9 Manor Gardens London N7 6LA
CATEGORIES:Kyol Che,Major Events,One Day Retreat
ATTACH;FMTTYPE=image/jpeg:https://www.kwanumeurope.org/wp-content/uploads/2019/05/sangha_weekend_proba.jpg
ORGANIZER;CN="Bratislava Zen Center":MAILTO:bzc108@gmail.com
END:VEVENT
BEGIN:VEVENT
DTSTART;TZID=Europe/London:20240113T070000
DTEND;TZID=Europe/London:20240113T160000
DTSTAMP:20260419T220151
CREATED:20240104T125758Z
LAST-MODIFIED:20240104T125758Z
UID:10000865-1705129200-1705161600@www.kwanumeurope.org
SUMMARY:Vienna Zen Center: Zen Day (hybrid) – Saturday\, January 13\, 2024
DESCRIPTION:Teacher: Knud Rosenmayr JDPSN\n \nBeginning: 6:50 a.m. \nEnd: 4:00 p.m. \nZen Days are short retreats that allow us to deepen our practice and come back to our breath. We look through our habitual thought patterns and find the source of our deepest wisdom and compassion. \nThis (hybrid) Zen Day of the Vienna Zen Center will be supported by the Bratislava Zen Center. The one-day retreat will take place at the Vienna Zen Center\, and via Zoom. – Please register via info@kwanumzen.at\, the Zoom link will be provided 🙂🙏🏽 \n➾ More information and registration \n  \n  \n 
URL:https://www.kwanumeurope.org/event/vienna-zen-center-zen-day-hybrid-saturday-january-13-2024/
LOCATION:Vienna Zen Center/Zoom\, Zen Zentrum Wien c/o Amida-Zentrum; Neubaugasse 12-14/Stiege 2(durch Innenhof)/Mez/Studio 4+5\, Vienna\, 1070\, Austria
CATEGORIES:One Day Retreat
ATTACH;FMTTYPE=image/jpeg:https://www.kwanumeurope.org/wp-content/uploads/2024/01/Zen-day-w-braislava_bildsujet-sm.jpg
ORGANIZER;CN="Zen Zentrum Wien/Vienna Zen Center":MAILTO:vienna.zen.center@gmail.com
END:VEVENT
BEGIN:VEVENT
DTSTART;TZID=Europe/London:20240107T093000
DTEND;TZID=Europe/London:20240107T113000
DTSTAMP:20260419T220151
CREATED:20231217T162548Z
LAST-MODIFIED:20231217T162548Z
UID:10000859-1704619800-1704627000@www.kwanumeurope.org
SUMMARY:Dharma talk and practice in person and online with Bogumila Malinowska JDPS
DESCRIPTION:Please join short monthly event containing dharma talk\, questions answers and short together practice with sangha and teacher .After event together tea time.
URL:https://www.kwanumeurope.org/event/dharma-talk-and-practice-in-person-and-online-with-bogumila-malinowska-jdps-2/
LOCATION:Brickworks Community Centre\, 42 Crouch Hill\, London\, England\, N44BY\, United Kingdom
CATEGORIES:Dharma Speech
END:VEVENT
BEGIN:VEVENT
DTSTART;TZID=Europe/London:20240106T100000
DTEND;TZID=Europe/London:20240106T180000
DTSTAMP:20260419T220151
CREATED:20231217T162232Z
LAST-MODIFIED:20231217T162232Z
UID:10000858-1704535200-1704564000@www.kwanumeurope.org
SUMMARY:One day retreat with Bogumila JDPS
DESCRIPTION:We will have one day retreat Ja \n\nnuary 6th with kongans
URL:https://www.kwanumeurope.org/event/one-day-retreat-with-bogumila-jdps/
LOCATION:9 Manor Gardens London N7 6LA
CATEGORIES:One Day Retreat
ORGANIZER;CN="London Zen Centre":MAILTO:london.zen.kwanum@gmail.com
END:VEVENT
BEGIN:VEVENT
DTSTART;VALUE=DATE:20240106
DTEND;VALUE=DATE:20240304
DTSTAMP:20260419T220151
CREATED:20231228T151826Z
LAST-MODIFIED:20231228T151826Z
UID:10000861-1704499200-1709510399@www.kwanumeurope.org
SUMMARY:Winter Kyol Che Vrazne
DESCRIPTION:
URL:https://www.kwanumeurope.org/event/winter-kyol-che-vrazne/
LOCATION:Seon Mun Sa\, Vrážné 3\, Jevičko \, 56943\, Czech Republic
CATEGORIES:Kyol Che
ATTACH;FMTTYPE=image/png:https://www.kwanumeurope.org/wp-content/uploads/2023/12/Winter-KC-24-Add.png
GEO:49.6752413;16.7791996
X-APPLE-STRUCTURED-LOCATION;VALUE=URI;X-ADDRESS=Seon Mun Sa Vrážné 3 Jevičko  56943 Czech Republic;X-APPLE-RADIUS=500;X-TITLE=Vrážné 3:geo:16.7791996,49.6752413
END:VEVENT
BEGIN:VEVENT
DTSTART;TZID=Europe/London:20240102T100000
DTEND;TZID=Europe/London:20240102T180000
DTSTAMP:20260419T220151
CREATED:20240102T102928Z
LAST-MODIFIED:20240102T102928Z
UID:10000864-1704189600-1704218400@www.kwanumeurope.org
SUMMARY:Retreat in London with kongans -January 6th
DESCRIPTION:Retreat is coming up .We will sit retreat this Saturday January 6th .During retreat kongan practice and formal meal.The retreat will have hybrid form so if you want to join online please register using email london.zen.kwanum@gmail.com
URL:https://www.kwanumeurope.org/event/retreat-in-london-with-kongans-january-6th/
LOCATION:9 Manor Gardens London N7 6LA
CATEGORIES:One Day Retreat
END:VEVENT
BEGIN:VEVENT
DTSTART;TZID=Europe/London:20231216T140000
DTEND;TZID=Europe/London:20231216T163000
DTSTAMP:20260419T220152
CREATED:20231110T083317Z
LAST-MODIFIED:20231110T083317Z
UID:10000853-1702735200-1702744200@www.kwanumeurope.org
SUMMARY:Annual Maha Sangha (online)
DESCRIPTION:The Teachers of the Kwan Um School of Zen Europe invite all practitioners\, not only in the European Sangha but also from around the world\, to join a special online Zoom Zen Practice
URL:https://www.kwanumeurope.org/event/annual-maha-sangha-online/
LOCATION:Vienna Zen Center/Zoom\, Zen Zentrum Wien c/o Amida-Zentrum; Neubaugasse 12-14/Stiege 2(durch Innenhof)/Mez/Studio 4+5\, Vienna\, 1070\, Austria
CATEGORIES:Online Event
ATTACH;FMTTYPE=image/png:https://www.kwanumeurope.org/wp-content/uploads/2023/11/Copy-Maha-Sangha-2023.png
END:VEVENT
BEGIN:VEVENT
DTSTART;TZID=Europe/London:20231214T180000
DTEND;TZID=Europe/London:20231217T180000
DTSTAMP:20260419T220152
CREATED:20231112T125303Z
LAST-MODIFIED:20231112T125303Z
UID:10000855-1702576800-1702836000@www.kwanumeurope.org
SUMMARY:Bratislava ZC December YMJJ w. Joeng Hye SSN
DESCRIPTION:This event requires your registration at least 3 day before the retreat starts. \nOn-site retreat (Yong Maeng Jong Jin) with Zen Master Joeng Hye (Andrzej Piotrowski) is organised by Bratislava Zen Center.  You can join us to experience 3 days of intensive period of the practice with meditation\, bowing\, chanting practice and kong-an interviews with acknowledged Zen Master\, from December 14 to 17\, 2023. \nThe Dharma Speech will be given by Joeng Hye SSN on Saturday\, December 16 at 14:30 (2:30pm) CET. \nFor further inquiries please contact the organiser.
URL:https://www.kwanumeurope.org/event/bzc-december-2023-ymjj-joeng-hye-ssn/
CATEGORIES:Yong Maeng Jong Jin
ATTACH;FMTTYPE=image/jpeg:https://www.kwanumeurope.org/wp-content/uploads/2022/01/ZM-1.jpg
ORGANIZER;CN="Bratislava Zen Center":MAILTO:bzc108@gmail.com
END:VEVENT
BEGIN:VEVENT
DTSTART;TZID=Europe/London:20231209T100000
DTEND;TZID=Europe/London:20231210T180000
DTSTAMP:20260419T220152
CREATED:20231122T055042Z
LAST-MODIFIED:20231122T055042Z
UID:10000856-1702116000-1702231200@www.kwanumeurope.org
SUMMARY:Buddha Enlightenment  retreat in London with Bogumila Malinowska JDPS
DESCRIPTION:The retreat will be in hybrid style in December with Kongan interviews and Dharma Talk.Please contact using email for more information london.zen.kwanum@gmail.com
URL:https://www.kwanumeurope.org/event/buddha-enlightenment-retreat-in-london-with-bogumila-malinowska-jdps/
LOCATION:9 Manor Gardens London N7 6LA
CATEGORIES:Weekend Retreat
ORGANIZER;CN="London Zen Centre":MAILTO:london.zen.kwanum@gmail.com
END:VEVENT
BEGIN:VEVENT
DTSTART;TZID=Europe/London:20231209T100000
DTEND;TZID=Europe/London:20231209T180000
DTSTAMP:20260419T220152
CREATED:20230513T120945Z
LAST-MODIFIED:20230513T120945Z
UID:10000843-1702116000-1702144800@www.kwanumeurope.org
SUMMARY:Hybrid one day zen retreat in London  with Bogumila Malinowska JDPS
DESCRIPTION:Hybrid one day zen retreat in London  with Bogumila Malinowska JDPS .Please send an email to london.zen.kwanum@gmail.com for more information or to register
URL:https://www.kwanumeurope.org/event/hybrid-one-day-zen-retreat-in-london-with-bogumila-malinowska-jdps-6/
LOCATION:9 Manor Gardens London N7 6LA
CATEGORIES:One Day Retreat
ATTACH;FMTTYPE=image/jpeg:https://www.kwanumeurope.org/wp-content/uploads/2021/10/20171217_125910-1.jpg
END:VEVENT
BEGIN:VEVENT
DTSTART;VALUE=DATE:20231208
DTEND;VALUE=DATE:20231211
DTSTAMP:20260419T220152
CREATED:20231111T142239Z
LAST-MODIFIED:20231111T142239Z
UID:10000854-1701993600-1702252799@www.kwanumeurope.org
SUMMARY:Zen Retreat and Precepts Ceremony with Zen Master Gu Ja 8.12.-10.12.2023
DESCRIPTION:Zen Retreat and Precepts Ceremony with Zen Master Gu Ja 8.12.-10.12.2023 \nParticipation fees / Bank details\n \nNon member 120€ / Member 100€ / Dharma Teacher i.Tr. 90€ / Resident 60€ \nKwan Um Zen Schule Deutschland e.V.\nGLS Bank\nBIC: GENODEM1GLS\nIBAN: DE66 4306 0967 1121 7926 02 \nRegistration: until December 1st\, 2023 (only valid once we have received the participation fee) \nPayment: please transfer the participation fee by December 1st\, 2023 \n(Amount & bank details see above)\nPlease transfer the participation fee until December 1st 2023. Once we recieved your payment\, the registration is completed. We charge a cancellation fee of 10% until 7 days before the retreat and 50% till the beginning of the retreat. Once the retreat has started\, no refund is possible anymore. \nregistration formalities: https://docs.google.com/forms/d/e/1FAIpQLSeZnDkFewjG-87f2sBlEP7Ui7sjFXMQvEiJUQQCOTd4sQ4lMA/viewform?pli=1
URL:https://www.kwanumeurope.org/event/zen-retreat-and-precepts-ceremony-with-zen-master-gu-ja-8-12-10-12-2023/
LOCATION:Zen Zentrum Berlin\,  Gottschedstr. 4\, Berlin\, 13357\, Germany
CATEGORIES:Weekend Retreat,Zen practice
ATTACH;FMTTYPE=image/jpeg:https://www.kwanumeurope.org/wp-content/uploads/2016/02/Gu-Ja1.jpg
GEO:52.5500676;13.3700523
X-APPLE-STRUCTURED-LOCATION;VALUE=URI;X-ADDRESS=Zen Zentrum Berlin  Gottschedstr. 4 Berlin 13357 Germany;X-APPLE-RADIUS=500;X-TITLE=Gottschedstr. 4:geo:13.3700523,52.5500676
END:VEVENT
BEGIN:VEVENT
DTSTART;TZID=Europe/London:20231203T090000
DTEND;TZID=Europe/London:20231203T110000
DTSTAMP:20260419T220152
CREATED:20230513T122916Z
LAST-MODIFIED:20230513T122916Z
UID:10000849-1701594000-1701601200@www.kwanumeurope.org
SUMMARY:Sundays' Dharma talks and practice /hybrid in London with Bogumila Malinowska JDPS.
DESCRIPTION:Sundays’ Dharma talks and practice /hybrid in London with Bogumila Malinowska JDPS. For more information please send an email to london.zen.kwanum@gmail.com
URL:https://www.kwanumeurope.org/event/sundays-dharma-talks-and-practice-hybrid-in-london-with-bogumila-malinowska-jdps-6/
LOCATION:Brickworks Community Centre\, 42 Crouch Hill\, London\, England\, N44BY\, United Kingdom
CATEGORIES:Dharma Speech
ATTACH;FMTTYPE=image/jpeg:https://www.kwanumeurope.org/wp-content/uploads/2021/10/20171217_125910-1.jpg
ORGANIZER;CN="London Zen Centre":MAILTO:london.zen.kwanum@gmail.com
END:VEVENT
BEGIN:VEVENT
DTSTART;TZID=Europe/London:20231125T070000
DTEND;TZID=Europe/London:20231126T190000
DTSTAMP:20260419T220152
CREATED:20231110T063516Z
LAST-MODIFIED:20231110T063516Z
UID:10000852-1700895600-1701025200@www.kwanumeurope.org
SUMMARY:YMJJ Palma de Mallorca with ZEN Master Hyon Ja
DESCRIPTION:
URL:https://www.kwanumeurope.org/event/ymjj-november-with-zen-master-hyon-ja/
LOCATION:Home
CATEGORIES:Weekend Retreat,Yong Maeng Jong Jin
ATTACH;FMTTYPE=image/png:https://www.kwanumeurope.org/wp-content/uploads/2022/10/palma-zen-center-2-min.png
END:VEVENT
BEGIN:VEVENT
DTSTART;TZID=Europe/London:20231112T090000
DTEND;TZID=Europe/London:20231112T110000
DTSTAMP:20260419T220152
CREATED:20230513T122603Z
LAST-MODIFIED:20230513T122603Z
UID:10000848-1699779600-1699786800@www.kwanumeurope.org
SUMMARY:Sundays' Dharma talks and practice /hybrid in London with Bogumila Malinowska JDPS.
DESCRIPTION:Sundays’ Dharma talks and practice /hybrid in London with Bogumila Malinowska JDPS. For more information please send an email to london.zen.kwanum@gmail.com
URL:https://www.kwanumeurope.org/event/sundays-dharma-talks-and-practice-hybrid-in-london-with-bogumila-malinowska-jdps-5/
LOCATION:Brickworks Community Centre\, 42 Crouch Hill\, London\, England\, N44BY\, United Kingdom
CATEGORIES:Dharma Speech
ORGANIZER;CN="London Zen Centre":MAILTO:london.zen.kwanum@gmail.com
END:VEVENT
BEGIN:VEVENT
DTSTART;TZID=Europe/London:20231111T100000
DTEND;TZID=Europe/London:20231111T180000
DTSTAMP:20260419T220152
CREATED:20230513T120730Z
LAST-MODIFIED:20230513T120730Z
UID:10000842-1699696800-1699725600@www.kwanumeurope.org
SUMMARY:Hybrid one day zen retreat in London  with Bogumila Malinowska JDPS .
DESCRIPTION:Hybrid one day zen retreat in London  with Bogumila Malinowska JDPS .Please send an email to london.zen.kwanum@gmail.com for more information or to register
URL:https://www.kwanumeurope.org/event/hybrid-one-day-zen-retreat-in-london-with-bogumila-malinowska-jdps-5/
LOCATION:9 Manor Gardens London N7 6LA
ATTACH;FMTTYPE=image/jpeg:https://www.kwanumeurope.org/wp-content/uploads/2022/05/20171217_125910-1.jpg
END:VEVENT
END:VCALENDAR