﻿BEGIN:VCALENDAR
VERSION:2.0
PRODID:-//Kwan Um School Of Zen Europe - ECPv6.15.17.1//NONSGML v1.0//EN
CALSCALE:GREGORIAN
METHOD:PUBLISH
X-WR-CALNAME:Kwan Um School Of Zen Europe
X-ORIGINAL-URL:https://www.kwanumeurope.org
X-WR-CALDESC:Events for Kwan Um School Of Zen Europe
REFRESH-INTERVAL;VALUE=DURATION:PT1H
X-Robots-Tag:noindex
X-PUBLISHED-TTL:PT1H
BEGIN:VTIMEZONE
TZID:Europe/London
BEGIN:DAYLIGHT
TZOFFSETFROM:+0000
TZOFFSETTO:+0100
TZNAME:BST
DTSTART:20220327T010000
END:DAYLIGHT
BEGIN:STANDARD
TZOFFSETFROM:+0100
TZOFFSETTO:+0000
TZNAME:GMT
DTSTART:20221030T010000
END:STANDARD
BEGIN:DAYLIGHT
TZOFFSETFROM:+0000
TZOFFSETTO:+0100
TZNAME:BST
DTSTART:20230326T010000
END:DAYLIGHT
BEGIN:STANDARD
TZOFFSETFROM:+0100
TZOFFSETTO:+0000
TZNAME:GMT
DTSTART:20231029T010000
END:STANDARD
BEGIN:DAYLIGHT
TZOFFSETFROM:+0000
TZOFFSETTO:+0100
TZNAME:BST
DTSTART:20240331T010000
END:DAYLIGHT
BEGIN:STANDARD
TZOFFSETFROM:+0100
TZOFFSETTO:+0000
TZNAME:GMT
DTSTART:20241027T010000
END:STANDARD
END:VTIMEZONE
BEGIN:VEVENT
DTSTART;TZID=Europe/London:20231111T100000
DTEND;TZID=Europe/London:20231111T180000
DTSTAMP:20260420T032335
CREATED:20230513T120730Z
LAST-MODIFIED:20230513T120730Z
UID:10000842-1699696800-1699725600@www.kwanumeurope.org
SUMMARY:Hybrid one day zen retreat in London  with Bogumila Malinowska JDPS .
DESCRIPTION:Hybrid one day zen retreat in London  with Bogumila Malinowska JDPS .Please send an email to london.zen.kwanum@gmail.com for more information or to register
URL:https://www.kwanumeurope.org/event/hybrid-one-day-zen-retreat-in-london-with-bogumila-malinowska-jdps-5/
LOCATION:9 Manor Gardens London N7 6LA
ATTACH;FMTTYPE=image/jpeg:https://www.kwanumeurope.org/wp-content/uploads/2022/05/20171217_125910-1.jpg
END:VEVENT
BEGIN:VEVENT
DTSTART;TZID=Europe/London:20231007T100000
DTEND;TZID=Europe/London:20231007T180000
DTSTAMP:20260420T032335
CREATED:20230513T120514Z
LAST-MODIFIED:20230513T120514Z
UID:10000841-1696672800-1696701600@www.kwanumeurope.org
SUMMARY:Hybrid one day zen retreat in London  with Bogumila Malinowska JDPS .
DESCRIPTION:Hybrid one day zen retreat in London  with Bogumila Malinowska JDPS .Please send an email to london.zen.kwanum@gmail.com for more information or to register
URL:https://www.kwanumeurope.org/event/hybrid-one-day-zen-retreat-in-london-with-bogumila-malinowska-jdps-4/
LOCATION:9 Manor Gardens London N7 6LA
CATEGORIES:One Day Retreat
ATTACH;FMTTYPE=image/jpeg:https://www.kwanumeurope.org/wp-content/uploads/2021/10/20171217_125910-1.jpg
END:VEVENT
BEGIN:VEVENT
DTSTART;TZID=Europe/London:20231001T090000
DTEND;TZID=Europe/London:20231001T110000
DTSTAMP:20260420T032335
CREATED:20230513T122332Z
LAST-MODIFIED:20230513T122332Z
UID:10000847-1696150800-1696158000@www.kwanumeurope.org
SUMMARY:Sundays' Dharma talks and practice /hybrid in London with Bogumila Malinowska JDPS.
DESCRIPTION:Sundays’ Dharma talks and practice /hybrid in London with Bogumila Malinowska JDPS. For more information please send an email to london.zen.kwanum@gmail.com
URL:https://www.kwanumeurope.org/event/sundays-dharma-talks-and-practice-hybrid-in-london-with-bogumila-malinowska-jdps-4/
LOCATION:Brickworks Community Centre\, 42 Crouch Hill\, London\, England\, N44BY\, United Kingdom
CATEGORIES:Dharma Speech
ORGANIZER;CN="London Zen Centre":MAILTO:london.zen.kwanum@gmail.com
END:VEVENT
BEGIN:VEVENT
DTSTART;TZID=Europe/London:20230910T090000
DTEND;TZID=Europe/London:20230910T110000
DTSTAMP:20260420T032335
CREATED:20230513T122149Z
LAST-MODIFIED:20230513T122149Z
UID:10000846-1694336400-1694343600@www.kwanumeurope.org
SUMMARY:Sundays' Dharma talks and practice /hybrid in London with Bogumila Malinowska JDPS.
DESCRIPTION:Sundays’ Dharma talks and practice /hybrid in London with Bogumila Malinowska JDPS. For more information please send an email to london.zen.kwanum@gmail.com
URL:https://www.kwanumeurope.org/event/sundays-dharma-talks-and-practice-hybrid-in-london-with-bogumila-malinowska-jdps-3/
LOCATION:Brickworks Community Centre\, 42 Crouch Hill\, London\, England\, N44BY\, United Kingdom
CATEGORIES:Dharma Speech
ORGANIZER;CN="London Zen Centre":MAILTO:london.zen.kwanum@gmail.com
END:VEVENT
BEGIN:VEVENT
DTSTART;TZID=Europe/London:20230909T100000
DTEND;TZID=Europe/London:20230909T180000
DTSTAMP:20260420T032335
CREATED:20230513T120239Z
LAST-MODIFIED:20230513T120239Z
UID:10000840-1694253600-1694282400@www.kwanumeurope.org
SUMMARY:Hybrid one day zen retreat in London  with Bogumila Malinowska JDPS .
DESCRIPTION:Hybrid one day zen retreat in London  with Bogumila Malinowska JDPS .Please send an email to london.zen.kwanum@gmail.com for more information or to register
URL:https://www.kwanumeurope.org/event/hybrid-one-day-zen-retreat-in-london-with-bogumila-malinowska-jdps-3/
LOCATION:9 Manor Gardens London N7 6LA
CATEGORIES:One Day Retreat
END:VEVENT
BEGIN:VEVENT
DTSTART;TZID=Europe/London:20230909T065000
DTEND;TZID=Europe/London:20230909T160000
DTSTAMP:20260420T032335
CREATED:20230824T134407Z
LAST-MODIFIED:20230824T134407Z
UID:10000851-1694242200-1694275200@www.kwanumeurope.org
SUMMARY:Vienna and Bratislava Zen Centers: Zen Day (hybrid) – Saturday\, September 9\, 2023
DESCRIPTION:Teachers: Jan Sendzimir JDPSN\, Alma SSN (ZM Hyon Ja) \nBeginning: 6:50 a.m. \nEnd: 4:00 p.m. \nZen Days are short retreats that give us an opportunity to deepen our practice and come back to our breath. We look through our habitual thought patterns and find the source of our deepest wisdom and compassion. \nThis joint (hybrid) Zen Day of the Vienna Zen Center and the Bratislava Zen Center will take place at the Vienna Zen Center\, the Bratislava Zen Center\, and via Zoom. \n➾ More information and registration \n  \n  \n 
URL:https://www.kwanumeurope.org/event/vienna-and-bratislava-zen-centers-zen-day-hybrid-saturday-september-9-2023/
LOCATION:Vienna Zen Center/Zoom\, Zen Zentrum Wien c/o Amida-Zentrum; Neubaugasse 12-14/Stiege 2(durch Innenhof)/Mez/Studio 4+5\, Vienna\, 1070\, Austria
CATEGORIES:One Day Retreat
ATTACH;FMTTYPE=image/png:https://www.kwanumeurope.org/wp-content/uploads/2023/08/ZD-2023-09-09-VCZ-BZC-Flyer-schmal.png
ORGANIZER;CN="Zen Zentrum Wien/Vienna Zen Center":MAILTO:vienna.zen.center@gmail.com
END:VEVENT
BEGIN:VEVENT
DTSTART;TZID=Europe/London:20230813T090000
DTEND;TZID=Europe/London:20230813T110000
DTSTAMP:20260420T032335
CREATED:20230513T122009Z
LAST-MODIFIED:20230513T122009Z
UID:10000845-1691917200-1691924400@www.kwanumeurope.org
SUMMARY:Sundays' Dharma talks and practice /hybrid in London with Bogumila Malinowska JDPS.
DESCRIPTION:Sundays’ Dharma talks and practice /hybrid in London with Bogumila Malinowska JDPS. For more information please send an email to london.zen.kwanum@gmail.com
URL:https://www.kwanumeurope.org/event/sundays-dharma-talks-and-practice-hybrid-in-london-with-bogumila-malinowska-jdps-2/
LOCATION:Brickworks Community Centre\, 42 Crouch Hill\, London\, England\, N44BY\, United Kingdom
CATEGORIES:Dharma Speech
END:VEVENT
BEGIN:VEVENT
DTSTART;TZID=Europe/London:20230805T100000
DTEND;TZID=Europe/London:20230805T180000
DTSTAMP:20260420T032335
CREATED:20230513T120046Z
LAST-MODIFIED:20230513T120046Z
UID:10000839-1691229600-1691258400@www.kwanumeurope.org
SUMMARY:Hybrid one day zen retreat in London  with Bogumila Malinowska JDPS
DESCRIPTION:Hybrid one day zen retreat in London  with Bogumila Malinowska JDPS .Please send an email to london.zen.kwanum@gmail.com for more information or to register
URL:https://www.kwanumeurope.org/event/hybrid-one-day-zen-retreat-in-london-with-bogumila-malinowska-jdps-2/
LOCATION:9 Manor Gardens London N7 6LA
CATEGORIES:One Day Retreat
END:VEVENT
BEGIN:VEVENT
DTSTART;TZID=Europe/London:20230716T090000
DTEND;TZID=Europe/London:20230716T110000
DTSTAMP:20260420T032335
CREATED:20230513T121808Z
LAST-MODIFIED:20230513T121808Z
UID:10000844-1689498000-1689505200@www.kwanumeurope.org
SUMMARY:Sundays' Dharma talks and practice /hybrid in London  with Bogumila Malinowska JDPS
DESCRIPTION:Sundays’ Dharma talks and practice /hybrid in London with Bogumila Malinowska JDPS. For more information please send an email to london.zen.kwanum@gmail.com
URL:https://www.kwanumeurope.org/event/sundays-dharma-talks-and-practice-hybrid-in-london-with-bogumila-malinowska-jdps/
LOCATION:Brickworks Community Centre\, 42 Crouch Hill\, London\, England\, N44BY\, United Kingdom
CATEGORIES:Dharma Speech
ORGANIZER;CN="London Zen Centre":MAILTO:london.zen.kwanum@gmail.com
END:VEVENT
BEGIN:VEVENT
DTSTART;TZID=Europe/London:20230715T080000
DTEND;TZID=Europe/London:20230715T160000
DTSTAMP:20260420T032335
CREATED:20230529T105539Z
LAST-MODIFIED:20230529T105539Z
UID:10000850-1689408000-1689436800@www.kwanumeurope.org
SUMMARY:Vienna Zen Center: One-Day Retreat: July 15\, 2023 > > Please note the change of the schedule
DESCRIPTION:Update\, July 12\, 2023: \nWe take the liberty to inform you about the change of the schedule. Due to the heat load\, we will offer the planned retreat only on Saturday\, July 15 in the form of a Zen Day. There will be a light informal lunch for all participants. Please refer to the schedule below*: We will start at 8 am and end at 4 pm at the Zen Center. \nThis short retreat with Knud Rosenmayr JDPSN and Jan Sendzimir JDPSN gives you the opportunity to deepen your personal practice in the circle of a trusting community! \nDate: Saturday\, July 15\, 2023 \n➾ Further information:  \n  \n  \n 
URL:https://www.kwanumeurope.org/event/vienna-zen-center-weekend-retreat-hybrid-july-14-16-2023/
LOCATION:Vienna Zen Center/Zoom
CATEGORIES:One Day Retreat
ATTACH;FMTTYPE=image/png:https://www.kwanumeurope.org/wp-content/uploads/2023/05/FB-EVENT-Flyer-Weekend-23-07-14.png
ORGANIZER;CN="Zen Zentrum Wien/Vienna Zen Center":MAILTO:vienna.zen.center@gmail.com
END:VEVENT
BEGIN:VEVENT
DTSTART;TZID=Europe/London:20230708T100000
DTEND;TZID=Europe/London:20230708T180000
DTSTAMP:20260420T032335
CREATED:20230513T115538Z
LAST-MODIFIED:20230513T115538Z
UID:10000838-1688810400-1688839200@www.kwanumeurope.org
SUMMARY:Hybrid one day zen retreat in London  with Bogumila Malinowska JDPS
DESCRIPTION:Hybrid one day zen retreat in London  with Bogumila Malinowska JDPS\, please email to london.zen.kwanum@gmail.com for more information and to register.
URL:https://www.kwanumeurope.org/event/hybrid-one-day-zen-retreat-in-london-with-bogumila-malinowska-jdps/
LOCATION:9 Manor Gardens London N7 6LA
CATEGORIES:One Day Retreat
END:VEVENT
BEGIN:VEVENT
DTSTART;TZID=Europe/London:20230618T090000
DTEND;TZID=Europe/London:20230618T110000
DTSTAMP:20260420T032335
CREATED:20221231T122213Z
LAST-MODIFIED:20221231T122213Z
UID:10000824-1687078800-1687086000@www.kwanumeurope.org
SUMMARY:Dharma Talk and practice in person and online with Bogumila Malinowska JDPS
DESCRIPTION:Monthly Dharma talk and practice on Sunday March 19th with Bogumila Malinowska JDPS in person and online \nPlease contac \n\nt using email london.zen.kwanum@gmail.com
URL:https://www.kwanumeurope.org/event/dharma-talk-and-practice-in-person-and-online-with-bogumila-malinowska-jdps/
LOCATION:Brickworks Community Centre\, 42 Crouch Hill\, London\, England\, N44BY\, United Kingdom
CATEGORIES:Dharma Speech
END:VEVENT
BEGIN:VEVENT
DTSTART;TZID=Europe/London:20230603T100000
DTEND;TZID=Europe/London:20230603T180000
DTSTAMP:20260420T032335
CREATED:20230513T115308Z
LAST-MODIFIED:20230513T115308Z
UID:10000837-1685786400-1685815200@www.kwanumeurope.org
SUMMARY:Hybrid one day retreat with Bogumila Malinowska JDPS
DESCRIPTION:Hybrid one day zen retreat in London  with Bogumila Malinowska JDPS\, please email to london.zen.kwanum@gmail.com for more information and to register.
URL:https://www.kwanumeurope.org/event/hybrid-one-day-retreat-with-bogumila-malinowska-jdps/
LOCATION:9 Manor Gardens London N7 6LA
CATEGORIES:One Day Retreat
ATTACH;FMTTYPE=image/jpeg:https://www.kwanumeurope.org/wp-content/uploads/2022/05/20171217_125910-1.jpg
END:VEVENT
BEGIN:VEVENT
DTSTART;TZID=Europe/London:20230521T090000
DTEND;TZID=Europe/London:20230521T110000
DTSTAMP:20260420T032335
CREATED:20221231T121940Z
LAST-MODIFIED:20221231T121940Z
UID:10000823-1684659600-1684666800@www.kwanumeurope.org
SUMMARY:Dharma talk and practice in person and online
DESCRIPTION:Monthly Dharma talk and practice on Sunday March 19th with Bogumila Malinowska JDPS \nPlease contact  using email london.zen.kwanum@gmail.com
URL:https://www.kwanumeurope.org/event/dharma-talk-and-practice-in-person-and-online/
CATEGORIES:Dharma Speech
END:VEVENT
BEGIN:VEVENT
DTSTART;TZID=Europe/London:20230513T070000
DTEND;TZID=Europe/London:20230513T160000
DTSTAMP:20260420T032335
CREATED:20230417T105656Z
LAST-MODIFIED:20230417T105656Z
UID:10000835-1683961200-1683993600@www.kwanumeurope.org
SUMMARY:Vienna Zen Center: Zen Day (hybrid) with Knud Rosenmayr JDPSN and Jan Sendzimir JDPSN:  Saturday\, May 13\, 2023
DESCRIPTION:  \nUpdate: We are happy to have the support of the Zen Center Bratislava as a co-host! \n  \nWe cordially invite you to our hybrid Zen Day on Saturday\, May 13\, at Zen Zentrum Wien (+ online via Zoom):  \n\n\n  \nThis One-Day Retreat Zen Day will be led by our Guiding Teacher\, Knud Rosenmayr JDPSN\, and by our abbot\, Jan Sendzimir JDPSN. \nWe are looking forward to your coming in person\, but of course\, it will also be possible to participate via Zoom. Please register soon so that we can plan! \nBy the way\, beginners are warmly welcome! \n➾ Detailed Information \n\n  \n  \n  \n\n  \n\n\n\n\n\n\n\n\n  \n  \n 
URL:https://www.kwanumeurope.org/event/vienna-zen-center-zen-day-hybrid-with-knud-rosenmayr-jdpsn-and-jan-sendzimir-jdpsn-saturday-may-13-2023/
LOCATION:Vienna Zen Center/Zoom
CATEGORIES:One Day Retreat
ATTACH;FMTTYPE=image/png:https://www.kwanumeurope.org/wp-content/uploads/2023/04/FB-EVENT-Flyer-05-13_update.png
ORGANIZER;CN="Zen Zentrum Wien/Vienna Zen Center":MAILTO:vienna.zen.center@gmail.com
END:VEVENT
BEGIN:VEVENT
DTSTART;TZID=Europe/London:20230429T073000
DTEND;TZID=Europe/London:20230430T200000
DTSTAMP:20260420T032335
CREATED:20230418T071448Z
LAST-MODIFIED:20230418T071448Z
UID:10000836-1682753400-1682884800@www.kwanumeurope.org
SUMMARY:Palma de Mallorca ZC April YMJJ
DESCRIPTION:During Saturday and Sunday\, April 29 and 30\, 2023\, a meditation retreat led by ZEN Master Hyon Ja will take place at Centro Zen Palma\, Carrer Rei Sanç 19. \nApril 29th from 07:30 to 20:00\nApril 30th from 07:30 to 19:00
URL:https://www.kwanumeurope.org/event/palma-de-mallorca-zc-april-ymjj/
LOCATION:Home
CATEGORIES:Yong Maeng Jong Jin
ATTACH;FMTTYPE=image/png:https://www.kwanumeurope.org/wp-content/uploads/2022/10/palma-zen-center-2-min.png
END:VEVENT
BEGIN:VEVENT
DTSTART;TZID=Europe/London:20230428T183000
DTEND;TZID=Europe/London:20230505T140000
DTSTAMP:20260420T032335
CREATED:20230213T175622Z
LAST-MODIFIED:20230213T175622Z
UID:10000828-1682706600-1683295200@www.kwanumeurope.org
SUMMARY:Zen Center Berlin: Zen Retreat with Zen Master Gu Ja
DESCRIPTION:28 April – 5 May\, Zen Center Berlin: Zen Retreat with Zen Master Gu Ja. Beginning: Fri\, 28 April 6:30pm (arrival till 6pm). End: Fri\, 5 May 2pm \n﻿
URL:https://www.kwanumeurope.org/event/zen-center-berlin-zen-retreat-with-zen-master-gu-ja/
CATEGORIES:Zen practice
ATTACH;FMTTYPE=image/jpeg:https://www.kwanumeurope.org/wp-content/uploads/2021/12/zm-Gu-Ja-1.jpg
END:VEVENT
BEGIN:VEVENT
DTSTART;VALUE=DATE:20230422
DTEND;VALUE=DATE:20230424
DTSTAMP:20260420T032335
CREATED:20220629T172956Z
LAST-MODIFIED:20220629T172956Z
UID:10000799-1682121600-1682294399@www.kwanumeurope.org
SUMMARY:Sangha Event - 22 & 23 April
DESCRIPTION:On Saturday April 22nd and Sunday April 23rd we will have our next Sangha Weekend in Wu Bong Sa\, Poland. The program for this weekend is as follows: \nSaturday \n– 14:00 – 16:30: Sangha Meeting\n– 17:00 – 18:00: Zen Master Wu Bong’s 10 year memorial ceremony (online on Zoom / Meeting ID: 633 709 0737 / Passcode: 108108)\n– 18:30: Dinner & Party\n– 20:00: Party with DJ \nSunday\n– 6:15 – 7:00: Morning practice\n– 7:15: Breakfast\n– 8:00: Zen Work\n– 9:00 – 10:30: Inka Ceremony (online on Zoom / Meeting ID: 633 709 0737 / Passcode: 108108)\n– 11:00 – 12:30: Meeting of Members (online on Zoom / Meeting ID: 633 709 0737 / Passcode: 108108)\n– 13:00: Lunch \nParticipation fee: Saturday and Sunday: PLN 150 / EUR 35. \nNote on the participation fee: We keep prices as low as possible\, especially when it comes to sangha events. As we all know\, costs have increased significantly recently\, especially food prices. The fee covers the basic costs of three meals and accommodation in the resort. The amount requested is the suggested guidelines . If you can contribute more\, it would be very helpful in trying to cover all other costs. \nFor more information\, please visit the Wubongsa website or use the registration form to register for the sangha weekend. \n  \n  \n 
URL:https://www.kwanumeurope.org/event/sangha-weekend-2023/
LOCATION:Wu Bong Sa\, Warsaw\, Małowiejska 24\, Warszawa\, Poland
CATEGORIES:Major Events,Sangha Weekend
ATTACH;FMTTYPE=image/jpeg:https://www.kwanumeurope.org/wp-content/uploads/2022/06/WBSSN_mailchimp.jpg
GEO:52.162307;21.19754
X-APPLE-STRUCTURED-LOCATION;VALUE=URI;X-ADDRESS=Wu Bong Sa Warsaw Małowiejska 24 Warszawa Poland;X-APPLE-RADIUS=500;X-TITLE=Małowiejska 24:geo:21.19754,52.162307
END:VEVENT
BEGIN:VEVENT
DTSTART;TZID=Europe/London:20230416T090000
DTEND;TZID=Europe/London:20230416T110000
DTSTAMP:20260420T032335
CREATED:20221231T121532Z
LAST-MODIFIED:20221231T121532Z
UID:10000822-1681635600-1681642800@www.kwanumeurope.org
SUMMARY:Dharma talk in person and online
DESCRIPTION:Monthly Dharma talk and practice on Sunday March 19th with Bogumila Malinowska JDPS \nPlease conatct using email london.zen.kwanum@gmail.com
URL:https://www.kwanumeurope.org/event/dharma-talk-in-person-and-online/
LOCATION:Brickworks Community Centre\, 42 Crouch Hill\, London\, England\, N44BY\, United Kingdom
CATEGORIES:Dharma Speech
END:VEVENT
BEGIN:VEVENT
DTSTART;TZID=Europe/London:20230414T183000
DTEND;TZID=Europe/London:20230416T183000
DTSTAMP:20260420T032335
CREATED:20230410T124840Z
LAST-MODIFIED:20230410T124840Z
UID:10000834-1681497000-1681669800@www.kwanumeurope.org
SUMMARY:Bratislava ZC April YMJJ
DESCRIPTION:This event requires your registration at least 3 day before the retreat starts. \nBratislava Zen Center cordially invites you to the Yong Maeng Jong Jin (Onsite & Online Zen Meditation Retreat)\, during which online kongan interviews with Zen master Joeng Hye SSN (guiding teacher for Bratislava Zen Center) will be provided on Saturday. \nFor further inquiries please check invitation.
URL:https://www.kwanumeurope.org/event/bratislava-zc-april-ymjj/
LOCATION:Bratislava Zen Center\, Henulova 5\, Bratislava\, 84101\, Slovakia (Slovak Republic)
CATEGORIES:Yong Maeng Jong Jin
ATTACH;FMTTYPE=image/jpeg:https://www.kwanumeurope.org/wp-content/uploads/2023/04/100BC71F-A2E6-4CD2-BAFC-EC2CFA76D76C_1_105_c.jpeg
ORGANIZER;CN="Bratislava Zen Center":MAILTO:bzc108@gmail.com
END:VEVENT
BEGIN:VEVENT
DTSTART;TZID=Europe/London:20230401T070000
DTEND;TZID=Europe/London:20230401T160000
DTSTAMP:20260420T032335
CREATED:20230313T091240Z
LAST-MODIFIED:20230313T091240Z
UID:10000832-1680332400-1680364800@www.kwanumeurope.org
SUMMARY:Vienna Zen Center: One-Day Retreat (hybrid) with ZM Ji Kwang:  Saturday\, April 01\, 2023
DESCRIPTION:  \nWe cordially invite you to our One-Day Retreat on Saturday\, April 01\, at Zen Zentrum Wien (+ online via Zoom):  \n\nWe are happy to announce that the head teacher of the European Kwan Um School of Zen\, Zen Master Ji Kwang (Roland Wöhrle-Chon\, Berlin) will lead the retreat at the Vienna Zen Center. \nWe are looking forward to your coming in person\, but of course\, it will also be possible to participate via Zoom. Please register soon so that we can plan! \nBy the way\, beginners are warmly welcome! \n➾ Detailed Information \n  \n  \n 
URL:https://www.kwanumeurope.org/event/vienna-zen-center-one-day-retreat-hybrid-with-zm-ji-kwang-saturday-april-01-2023/
CATEGORIES:One Day Retreat
ATTACH;FMTTYPE=image/png:https://www.kwanumeurope.org/wp-content/uploads/2023/03/Flyer-One-Day-Retreat-Vienna-Zen-Center_2023-04-01-sm.png
ORGANIZER;CN="Zen Zentrum Wien/Vienna Zen Center":MAILTO:vienna.zen.center@gmail.com
END:VEVENT
BEGIN:VEVENT
DTSTART;TZID=Europe/London:20230326T173000
DTEND;TZID=Europe/London:20230326T183000
DTSTAMP:20260420T032335
CREATED:20230322T080004Z
LAST-MODIFIED:20230322T080004Z
UID:10000833-1679851800-1679855400@www.kwanumeurope.org
SUMMARY:49 Day Ceremony For Those Who Died From The Earthquake In Turkey
DESCRIPTION:The Chogye International Zen Center of NY will be hosting a 49-day Ceremony this coming Sunday\, March 26th at 11:30 AM New York time / 17:30 CEST for those who died from the earthquake in Turkey on February 6th.  We invite those who wish to join to do so using this Zoom link  May all beings benefit.\n \nKen Kessel\, Zen Master Jok Um
URL:https://www.kwanumeurope.org/event/49-day-ceremony-for-those-who-died-from-the-earthquake-in-turkey/
LOCATION:Zoom\, Bratislava\, Slovakia (Slovak Republic)
CATEGORIES:49 Day Ceremony
ATTACH;FMTTYPE=image/jpeg:https://www.kwanumeurope.org/wp-content/uploads/2022/05/KUSZ-1.jpg
END:VEVENT
BEGIN:VEVENT
DTSTART;TZID=Europe/London:20230319T090000
DTEND;TZID=Europe/London:20230319T110000
DTSTAMP:20260420T032335
CREATED:20221231T121252Z
LAST-MODIFIED:20221231T121252Z
UID:10000821-1679216400-1679223600@www.kwanumeurope.org
SUMMARY:Dharma talk and practice zen with Bogumila Malinowska JDPS
DESCRIPTION:
URL:https://www.kwanumeurope.org/event/dharma-talk-and-practice-zen-with-bogumila-malinowska-jdps/
LOCATION:Brickworks Community Centre\, 42 Crouch Hill\, London\, England\, N44BY\, United Kingdom
CATEGORIES:Dharma Speech
END:VEVENT
BEGIN:VEVENT
DTSTART;TZID=Europe/London:20230318T070000
DTEND;TZID=Europe/London:20230318T160000
DTSTAMP:20260420T032335
CREATED:20230223T135429Z
LAST-MODIFIED:20230223T135429Z
UID:10000831-1679122800-1679155200@www.kwanumeurope.org
SUMMARY:Vienna Zen Center: One-Day Retreat (hybrid) with Barry Briggs JDPSN on Saturday\, March 18\, 2023
DESCRIPTION:Retreats allow us to deepen our practice and come back to our breath. We look through our habitual thought patterns and find the source of our deepest wisdom and goodness.  \nThis time we welcome Barry Briggs\, JDPSN (Cochise Zen Center\, Arizona) as the teacher of this short retreat at the Vienna Zen Center: We are looking forward to your coming in person\, but of course\, it will also be possible to participate via Zoom. Please register soon so that we can plan!  \nBy the way\, beginners are most welcome! \n➾ Detailed Information \n  \n  \n 
URL:https://www.kwanumeurope.org/event/vienna-zen-center-one-day-retreat-hybrid-with-barry-briggs-jdpsn-on-saturday-march-18-2023/
LOCATION:Vienna Zen Center/Zoom
CATEGORIES:One Day Retreat
ATTACH;FMTTYPE=image/png:https://www.kwanumeurope.org/wp-content/uploads/2023/02/Flyer-schmal-One-Day-Retreat-w-Barry-Briggs-Vienna-Zen-Center.png
ORGANIZER;CN="Zen Zentrum Wien/Vienna Zen Center":MAILTO:vienna.zen.center@gmail.com
END:VEVENT
BEGIN:VEVENT
DTSTART;TZID=Europe/London:20230304T093000
DTEND;TZID=Europe/London:20230304T180000
DTSTAMP:20260420T032335
CREATED:20230221T181323Z
LAST-MODIFIED:20230221T181323Z
UID:10000830-1677922200-1677952800@www.kwanumeurope.org
SUMMARY:One day retreat
DESCRIPTION:One day retreat with kongan interviews with Bogumila Malinowska JDPS in person and online.
URL:https://www.kwanumeurope.org/event/one-day-retreat/
LOCATION:9 Manor Gardens London N7 6LA
CATEGORIES:One Day Retreat
END:VEVENT
BEGIN:VEVENT
DTSTART;TZID=Europe/London:20230226T090000
DTEND;TZID=Europe/London:20230226T110000
DTSTAMP:20260420T032335
CREATED:20230221T180847Z
LAST-MODIFIED:20230221T180847Z
UID:10000829-1677402000-1677409200@www.kwanumeurope.org
SUMMARY:Dharma Talk and practice
DESCRIPTION:Dharma talk and practice will take a place on Sunday with Bogumila Malinowska  JDPS in person and online .
URL:https://www.kwanumeurope.org/event/dharma-talk-and-practice/
LOCATION:Brickworks Community Centre\, 42 Crouch Hill\, London\, England\, N44BY\, United Kingdom
CATEGORIES:Dharma Speech
END:VEVENT
BEGIN:VEVENT
DTSTART;TZID=Europe/London:20230226T090000
DTEND;TZID=Europe/London:20230226T110000
DTSTAMP:20260420T032335
CREATED:20221119T162941Z
LAST-MODIFIED:20221119T162941Z
UID:10000533-1677402000-1677409200@www.kwanumeurope.org
SUMMARY:Dharma talk \, short practice and tea with Bogumila Malinowska JDPS in London
DESCRIPTION:Dharma talk online and in person with Bogumila MALINOWSKA JDPS in London .For more information pls send email to london.zen.kwanum@ \nEarly morning zen\ngmail.com
URL:https://www.kwanumeurope.org/event/dharma-talk-short-practice-and-tea-with-bogumila-malinowska-jdps-in-london/
LOCATION:Brickworks Community Centre\, 42 Crouch Hill\, London\, England\, N44BY\, United Kingdom
CATEGORIES:Dharma Speech
END:VEVENT
BEGIN:VEVENT
DTSTART;TZID=Europe/London:20230226T090000
DTEND;TZID=Europe/London:20230226T110000
DTSTAMP:20260420T032335
CREATED:20221119T162941Z
LAST-MODIFIED:20221119T162941Z
UID:10000817-1677402000-1677409200@www.kwanumeurope.org
SUMMARY:Dharma talk \, short practice and tea with Bogumila Malinowska JDPS in London
DESCRIPTION:Dharma talk online and in person with Bogumila MALINOWSKA JDPS in London .For more information pls send email to london.zen.kwanum@ \nEarly morning zen\ngmail.com
URL:https://www.kwanumeurope.org/event/dharma-talk-short-practice-and-tea-with-bogumila-malinowska-jdps-in-london-2/
LOCATION:Brickworks Community Centre\, 42 Crouch Hill\, London\, England\, N44BY\, United Kingdom
CATEGORIES:Dharma Speech
END:VEVENT
BEGIN:VEVENT
DTSTART;TZID=Europe/London:20230211T070000
DTEND;TZID=Europe/London:20230211T160000
DTSTAMP:20260420T032335
CREATED:20230124T185812Z
LAST-MODIFIED:20230124T185812Z
UID:10000827-1676098800-1676131200@www.kwanumeurope.org
SUMMARY:(Online) Zen Day with Knud Rosenmayr JDPSN on Saturday\, February 11\, 2023
DESCRIPTION:➾ Download Flyer \nTeacher: Knud Rosenmayr JDPSN.  \nTime: 07:00–16:00 (second entrance is possible) \nZen Days are short retreats that give us an opportunity to deepen our practice and come back to our breath. We look through our habitual thought patterns and find the source of our deepest wisdom and compassion. \nThis joint (online) Zen Day of Zen Center Vienna together with Zen Center Bratislava will presumably take place via Zoom: If there is a sufficient number of registrations\, we will be happy to hold this short retreat at the Zen Center as well!  \nBeginners are very welcome! \n➾ Schedule and further information… \n  \n  \n  \n  \n  \n 
URL:https://www.kwanumeurope.org/event/online-zen-day-with-knud-rosenmayr-jdpsn-on-saturday-february-11-2023/
LOCATION:Vienna Zen Center/Zoom
CATEGORIES:One Day Retreat
ORGANIZER;CN="Zen Zentrum Wien/Vienna Zen Center":MAILTO:vienna.zen.center@gmail.com
END:VEVENT
BEGIN:VEVENT
DTSTART;TZID=Europe/London:20230210T183000
DTEND;TZID=Europe/London:20230212T130000
DTSTAMP:20260420T032335
CREATED:20230120T143209Z
LAST-MODIFIED:20230120T143209Z
UID:10000826-1676053800-1676206800@www.kwanumeurope.org
SUMMARY:Bratislava ZC February YMJJ
DESCRIPTION:This event requires your registration at least 3 day before the retreat starts. \nBratislava Zen Center cordially invites you to the Yong Maeng Jong Jin (Onsite & Online Zen Meditation Retreat)\, part of which will be merged with the Saturday’s Zen Day with the Vienna Zen center under the guidance of Knud Rosenmayr PSN who will also provide the Kong-an interviews. \nFor further inquiries please check invitation.
URL:https://www.kwanumeurope.org/event/bratislava-zc-february-ymjj/
LOCATION:Bratislava Zen Center\, Henulova 5\, Bratislava\, 84101\, Slovakia (Slovak Republic)
CATEGORIES:Yong Maeng Jong Jin
ORGANIZER;CN="Bratislava Zen Center":MAILTO:bzc108@gmail.com
END:VEVENT
END:VCALENDAR