﻿BEGIN:VCALENDAR
VERSION:2.0
PRODID:-//Kwan Um School Of Zen Europe - ECPv6.15.17.1//NONSGML v1.0//EN
CALSCALE:GREGORIAN
METHOD:PUBLISH
X-ORIGINAL-URL:https://www.kwanumeurope.org
X-WR-CALDESC:Events for Kwan Um School Of Zen Europe
REFRESH-INTERVAL;VALUE=DURATION:PT1H
X-Robots-Tag:noindex
X-PUBLISHED-TTL:PT1H
BEGIN:VTIMEZONE
TZID:Europe/London
BEGIN:DAYLIGHT
TZOFFSETFROM:+0000
TZOFFSETTO:+0100
TZNAME:BST
DTSTART:20190331T010000
END:DAYLIGHT
BEGIN:STANDARD
TZOFFSETFROM:+0100
TZOFFSETTO:+0000
TZNAME:GMT
DTSTART:20191027T010000
END:STANDARD
BEGIN:DAYLIGHT
TZOFFSETFROM:+0000
TZOFFSETTO:+0100
TZNAME:BST
DTSTART:20200329T010000
END:DAYLIGHT
BEGIN:STANDARD
TZOFFSETFROM:+0100
TZOFFSETTO:+0000
TZNAME:GMT
DTSTART:20201025T010000
END:STANDARD
BEGIN:DAYLIGHT
TZOFFSETFROM:+0000
TZOFFSETTO:+0100
TZNAME:BST
DTSTART:20210328T010000
END:DAYLIGHT
BEGIN:STANDARD
TZOFFSETFROM:+0100
TZOFFSETTO:+0000
TZNAME:GMT
DTSTART:20211031T010000
END:STANDARD
BEGIN:DAYLIGHT
TZOFFSETFROM:+0000
TZOFFSETTO:+0100
TZNAME:BST
DTSTART:20220327T010000
END:DAYLIGHT
BEGIN:STANDARD
TZOFFSETFROM:+0100
TZOFFSETTO:+0000
TZNAME:GMT
DTSTART:20221030T010000
END:STANDARD
BEGIN:DAYLIGHT
TZOFFSETFROM:+0000
TZOFFSETTO:+0100
TZNAME:BST
DTSTART:20230326T010000
END:DAYLIGHT
BEGIN:STANDARD
TZOFFSETFROM:+0100
TZOFFSETTO:+0000
TZNAME:GMT
DTSTART:20231029T010000
END:STANDARD
BEGIN:DAYLIGHT
TZOFFSETFROM:+0000
TZOFFSETTO:+0100
TZNAME:BST
DTSTART:20240331T010000
END:DAYLIGHT
BEGIN:STANDARD
TZOFFSETFROM:+0100
TZOFFSETTO:+0000
TZNAME:GMT
DTSTART:20241027T010000
END:STANDARD
END:VTIMEZONE
BEGIN:VEVENT
DTSTART;TZID=Europe/London:20230326T173000
DTEND;TZID=Europe/London:20230326T183000
DTSTAMP:20260419T222452
CREATED:20230322T080004Z
LAST-MODIFIED:20230322T080004Z
UID:10000833-1679851800-1679855400@www.kwanumeurope.org
SUMMARY:49 Day Ceremony For Those Who Died From The Earthquake In Turkey
DESCRIPTION:The Chogye International Zen Center of NY will be hosting a 49-day Ceremony this coming Sunday\, March 26th at 11:30 AM New York time / 17:30 CEST for those who died from the earthquake in Turkey on February 6th.  We invite those who wish to join to do so using this Zoom link  May all beings benefit.\n \nKen Kessel\, Zen Master Jok Um
URL:https://www.kwanumeurope.org/event/49-day-ceremony-for-those-who-died-from-the-earthquake-in-turkey/
LOCATION:Zoom\, Bratislava\, Slovakia (Slovak Republic)
CATEGORIES:49 Day Ceremony
ATTACH;FMTTYPE=image/jpeg:https://www.kwanumeurope.org/wp-content/uploads/2022/05/KUSZ-1.jpg
END:VEVENT
BEGIN:VEVENT
DTSTART;TZID=Europe/London:20200906T080000
DTEND;TZID=Europe/London:20201011T170000
DTSTAMP:20260419T222452
CREATED:20200801T033341Z
LAST-MODIFIED:20200801T033341Z
UID:10000193-1599379200-1602435600@www.kwanumeurope.org
SUMMARY:The Whole World is a Single Flower Malaysia 2020
DESCRIPTION:The Whole World is a Single Flower\nMalaysia | 2020\nThe WWSF2020 Online International Zen Conference.\nZen Master Seung Sahn initiated The Whole World Is A Single Flower (WWSF) conference as a way to bring people from different countries and traditions together in the spirit of unity and harmony. \nThis year WWSF conference will take place online due to covid-19 worldwide situation. \nConference Dates:\nSeptember 6\nSeptember 13\nSeptember 20\nSeptember 27\nOctober 11 \n  \nFollow the below link for details and registration. \n  \nTo secure a better Together Action experience at the venues’ designated accommodation you are encouraged to register as early as possible. \nFor further inquiries please visit the conference website
URL:https://www.kwanumeurope.org/event/the-whole-world-is-a-single-flower-malaysia-2020/
LOCATION:Malaysia\, Malaysia
CATEGORIES:Major Events
ATTACH;FMTTYPE=image/png:https://www.kwanumeurope.org/wp-content/uploads/2020/08/WWSF2020-Full-Logo_Official-Version-01-1.png
END:VEVENT
BEGIN:VEVENT
DTSTART;TZID=Europe/London:20200906T080000
DTEND;TZID=Europe/London:20201011T170000
DTSTAMP:20260419T222452
CREATED:20200801T033341Z
LAST-MODIFIED:20200801T033341Z
UID:10000453-1599379200-1602435600@www.kwanumeurope.org
SUMMARY:The Whole World is a Single Flower Malaysia 2020
DESCRIPTION:The Whole World is a Single Flower\nMalaysia | 2020\nThe WWSF2020 Online International Zen Conference.\nZen Master Seung Sahn initiated The Whole World Is A Single Flower (WWSF) conference as a way to bring people from different countries and traditions together in the spirit of unity and harmony. \nThis year WWSF conference will take place online due to covid-19 worldwide situation. \nConference Dates:\nSeptember 6\nSeptember 13\nSeptember 20\nSeptember 27\nOctober 11 \n  \nFollow the below link for details and registration. \n  \nTo secure a better Together Action experience at the venues’ designated accommodation you are encouraged to register as early as possible. \nFor further inquiries please visit the conference website
URL:https://www.kwanumeurope.org/event/the-whole-world-is-a-single-flower-malaysia-2020-2/
LOCATION:Malaysia\, Malaysia
CATEGORIES:Major Events
ATTACH;FMTTYPE=image/png:https://www.kwanumeurope.org/wp-content/uploads/2020/08/WWSF2020-Full-Logo_Official-Version-01-1.png
END:VEVENT
BEGIN:VEVENT
DTSTART;TZID=Europe/London:20200906T080000
DTEND;TZID=Europe/London:20201011T170000
DTSTAMP:20260419T222452
CREATED:20200801T033341Z
LAST-MODIFIED:20200801T033341Z
UID:10000735-1599379200-1602435600@www.kwanumeurope.org
SUMMARY:The Whole World is a Single Flower Malaysia 2020
DESCRIPTION:The Whole World is a Single Flower\nMalaysia | 2020\nThe WWSF2020 Online International Zen Conference.\nZen Master Seung Sahn initiated The Whole World Is A Single Flower (WWSF) conference as a way to bring people from different countries and traditions together in the spirit of unity and harmony. \nThis year WWSF conference will take place online due to covid-19 worldwide situation. \nConference Dates:\nSeptember 6\nSeptember 13\nSeptember 20\nSeptember 27\nOctober 11 \n  \nFollow the below link for details and registration. \n  \nTo secure a better Together Action experience at the venues’ designated accommodation you are encouraged to register as early as possible. \nFor further inquiries please visit the conference website
URL:https://www.kwanumeurope.org/event/the-whole-world-is-a-single-flower-malaysia-2020-3/
LOCATION:Malaysia\, Malaysia
CATEGORIES:Major Events
ATTACH;FMTTYPE=image/png:https://www.kwanumeurope.org/wp-content/uploads/2020/08/WWSF2020-Full-Logo_Official-Version-01-1.png
END:VEVENT
END:VCALENDAR