﻿BEGIN:VCALENDAR
VERSION:2.0
PRODID:-//Kwan Um School Of Zen Europe - ECPv6.15.17.1//NONSGML v1.0//EN
CALSCALE:GREGORIAN
METHOD:PUBLISH
X-ORIGINAL-URL:https://www.kwanumeurope.org
X-WR-CALDESC:Events for Kwan Um School Of Zen Europe
REFRESH-INTERVAL;VALUE=DURATION:PT1H
X-Robots-Tag:noindex
X-PUBLISHED-TTL:PT1H
BEGIN:VTIMEZONE
TZID:Europe/London
BEGIN:DAYLIGHT
TZOFFSETFROM:+0000
TZOFFSETTO:+0100
TZNAME:BST
DTSTART:20180325T010000
END:DAYLIGHT
BEGIN:STANDARD
TZOFFSETFROM:+0100
TZOFFSETTO:+0000
TZNAME:GMT
DTSTART:20181028T010000
END:STANDARD
BEGIN:DAYLIGHT
TZOFFSETFROM:+0000
TZOFFSETTO:+0100
TZNAME:BST
DTSTART:20190331T010000
END:DAYLIGHT
BEGIN:STANDARD
TZOFFSETFROM:+0100
TZOFFSETTO:+0000
TZNAME:GMT
DTSTART:20191027T010000
END:STANDARD
BEGIN:DAYLIGHT
TZOFFSETFROM:+0000
TZOFFSETTO:+0100
TZNAME:BST
DTSTART:20200329T010000
END:DAYLIGHT
BEGIN:STANDARD
TZOFFSETFROM:+0100
TZOFFSETTO:+0000
TZNAME:GMT
DTSTART:20201025T010000
END:STANDARD
END:VTIMEZONE
BEGIN:VEVENT
DTSTART;TZID=Europe/London:20190906T080000
DTEND;TZID=Europe/London:20190908T170000
DTSTAMP:20260418T123449
CREATED:20190714T103558Z
LAST-MODIFIED:20190714T103558Z
UID:10000154-1567756800-1567962000@www.kwanumeurope.org
SUMMARY:Zen Retreat with Zen Master Soeng Hyang
DESCRIPTION:This Zen Day with Zen Master Song Hyang is meant as an intense period of practicing Zen\, it is filled with different kinds of meditation as well as bowing\, chanting and interviews with the Master. Please contact the Zen Group Berlin for details.
URL:https://www.kwanumeurope.org/event/zen-retreat-with-zen-master-soeng-hyang/
LOCATION:Zen Zentrum Berlin\,  Gottschedstr. 4\, Berlin\, 13357\, Germany
GEO:52.5500676;13.3700523
X-APPLE-STRUCTURED-LOCATION;VALUE=URI;X-ADDRESS=Zen Zentrum Berlin  Gottschedstr. 4 Berlin 13357 Germany;X-APPLE-RADIUS=500;X-TITLE=Gottschedstr. 4:geo:13.3700523,52.5500676
END:VEVENT
BEGIN:VEVENT
DTSTART;TZID=Europe/London:20190906T080000
DTEND;TZID=Europe/London:20190908T170000
DTSTAMP:20260418T123449
CREATED:20190714T103558Z
LAST-MODIFIED:20190714T103558Z
UID:10000414-1567756800-1567962000@www.kwanumeurope.org
SUMMARY:Zen Retreat with Zen Master Soeng Hyang
DESCRIPTION:This Zen Day with Zen Master Song Hyang is meant as an intense period of practicing Zen\, it is filled with different kinds of meditation as well as bowing\, chanting and interviews with the Master. Please contact the Zen Group Berlin for details.
URL:https://www.kwanumeurope.org/event/zen-retreat-with-zen-master-soeng-hyang-2/
LOCATION:Zen Zentrum Berlin\,  Gottschedstr. 4\, Berlin\, 13357\, Germany
GEO:52.5500676;13.3700523
X-APPLE-STRUCTURED-LOCATION;VALUE=URI;X-ADDRESS=Zen Zentrum Berlin  Gottschedstr. 4 Berlin 13357 Germany;X-APPLE-RADIUS=500;X-TITLE=Gottschedstr. 4:geo:13.3700523,52.5500676
END:VEVENT
BEGIN:VEVENT
DTSTART;TZID=Europe/London:20190906T080000
DTEND;TZID=Europe/London:20190908T170000
DTSTAMP:20260418T123449
CREATED:20190714T103558Z
LAST-MODIFIED:20190714T103558Z
UID:10000695-1567756800-1567962000@www.kwanumeurope.org
SUMMARY:Zen Retreat with Zen Master Soeng Hyang
DESCRIPTION:This Zen Day with Zen Master Song Hyang is meant as an intense period of practicing Zen\, it is filled with different kinds of meditation as well as bowing\, chanting and interviews with the Master. Please contact the Zen Group Berlin for details.
URL:https://www.kwanumeurope.org/event/zen-retreat-with-zen-master-soeng-hyang-3/
LOCATION:Zen Zentrum Berlin\,  Gottschedstr. 4\, Berlin\, 13357\, Germany
GEO:52.5500676;13.3700523
X-APPLE-STRUCTURED-LOCATION;VALUE=URI;X-ADDRESS=Zen Zentrum Berlin  Gottschedstr. 4 Berlin 13357 Germany;X-APPLE-RADIUS=500;X-TITLE=Gottschedstr. 4:geo:13.3700523,52.5500676
END:VEVENT
END:VCALENDAR