﻿BEGIN:VCALENDAR
VERSION:2.0
PRODID:-//Kwan Um School Of Zen Europe - ECPv6.15.17.1//NONSGML v1.0//EN
CALSCALE:GREGORIAN
METHOD:PUBLISH
X-WR-CALNAME:Kwan Um School Of Zen Europe
X-ORIGINAL-URL:https://www.kwanumeurope.org
X-WR-CALDESC:Events for Kwan Um School Of Zen Europe
REFRESH-INTERVAL;VALUE=DURATION:PT1H
X-Robots-Tag:noindex
X-PUBLISHED-TTL:PT1H
BEGIN:VTIMEZONE
TZID:Europe/London
BEGIN:DAYLIGHT
TZOFFSETFROM:+0000
TZOFFSETTO:+0100
TZNAME:BST
DTSTART:20180325T010000
END:DAYLIGHT
BEGIN:STANDARD
TZOFFSETFROM:+0100
TZOFFSETTO:+0000
TZNAME:GMT
DTSTART:20181028T010000
END:STANDARD
BEGIN:DAYLIGHT
TZOFFSETFROM:+0000
TZOFFSETTO:+0100
TZNAME:BST
DTSTART:20190331T010000
END:DAYLIGHT
BEGIN:STANDARD
TZOFFSETFROM:+0100
TZOFFSETTO:+0000
TZNAME:GMT
DTSTART:20191027T010000
END:STANDARD
BEGIN:DAYLIGHT
TZOFFSETFROM:+0000
TZOFFSETTO:+0100
TZNAME:BST
DTSTART:20200329T010000
END:DAYLIGHT
BEGIN:STANDARD
TZOFFSETFROM:+0100
TZOFFSETTO:+0000
TZNAME:GMT
DTSTART:20201025T010000
END:STANDARD
BEGIN:DAYLIGHT
TZOFFSETFROM:+0000
TZOFFSETTO:+0100
TZNAME:BST
DTSTART:20210328T010000
END:DAYLIGHT
BEGIN:STANDARD
TZOFFSETFROM:+0100
TZOFFSETTO:+0000
TZNAME:GMT
DTSTART:20211031T010000
END:STANDARD
BEGIN:DAYLIGHT
TZOFFSETFROM:+0000
TZOFFSETTO:+0100
TZNAME:BST
DTSTART:20220327T010000
END:DAYLIGHT
BEGIN:STANDARD
TZOFFSETFROM:+0100
TZOFFSETTO:+0000
TZNAME:GMT
DTSTART:20221030T010000
END:STANDARD
BEGIN:DAYLIGHT
TZOFFSETFROM:+0000
TZOFFSETTO:+0100
TZNAME:BST
DTSTART:20230326T010000
END:DAYLIGHT
BEGIN:STANDARD
TZOFFSETFROM:+0100
TZOFFSETTO:+0000
TZNAME:GMT
DTSTART:20231029T010000
END:STANDARD
BEGIN:DAYLIGHT
TZOFFSETFROM:+0000
TZOFFSETTO:+0100
TZNAME:BST
DTSTART:20240331T010000
END:DAYLIGHT
BEGIN:STANDARD
TZOFFSETFROM:+0100
TZOFFSETTO:+0000
TZNAME:GMT
DTSTART:20241027T010000
END:STANDARD
END:VTIMEZONE
BEGIN:VEVENT
DTSTART;TZID=Europe/London:20230114T090000
DTEND;TZID=Europe/London:20230114T160000
DTSTAMP:20260420T172245
CREATED:20230104T144647Z
LAST-MODIFIED:20230104T144647Z
UID:10000825-1673686800-1673712000@www.kwanumeurope.org
SUMMARY:Joint Zen Day of the Zen Centers Prague (in person)\, Vienna (online)\, and Bratislava (online) – January 14\, 2023 (Knud Rosenmayr JDPSN)
DESCRIPTION:⇒Download Flyer \nThis (online) Zen Day of the Zen Center Prague together with the Zen Centers of Vienna and Bratislava gives us the opportunity to draw strength for the new year by coming back to our breath. There is a possibility to take koan teaching or a consultation with our teacher! – Beginners are warmly welcome! \nThis one-day retreat will take place in Prague on-site and in person; Vienna and Bratislava will participate online. \nRegistration and information: via kwanumpraha@gmail.com or via info@kwanumzen.at. \nWe kindly ask for registration at least 3 days before the retreat! \n⇒More information \n  \n  \n  \n  \n 
URL:https://www.kwanumeurope.org/event/joint-zen-day-of-the-zen-centers-prague-in-person-vienna-online-and-bratislava-online-january-14-2023-knud-rosenmayr-jdpsn/
CATEGORIES:One Day Retreat
ATTACH;FMTTYPE=image/png:https://www.kwanumeurope.org/wp-content/uploads/2022/11/Knud-Rosenmayr-JDPSN-©-C.-Zintzen_edit.png
ORGANIZER;CN="Prague Zen group":MAILTO:kwanumpraha@gmail.com
END:VEVENT
BEGIN:VEVENT
DTSTART;TZID=Europe/London:20190411T210000
DTEND;TZID=Europe/London:20190414T143000
DTSTAMP:20260420T172245
CREATED:20181223T184209Z
LAST-MODIFIED:20181223T184209Z
UID:10000121-1555016400-1555252200@www.kwanumeurope.org
SUMMARY:YMJJ with Knud Rosenmayr JDPSN
DESCRIPTION:There will be 3days retreat with Knud Rosenmayr JDPSN in Prague in April. For more information and registration please contact kwanumpraha@gmail.com
URL:https://www.kwanumeurope.org/event/ymjj-with-knud-rosenmayr-jdpsn/
LOCATION:Prague\, Varšavská 13\, 15000\, Czech Republic
CATEGORIES:Yong Maeng Jong Jin
ATTACH;FMTTYPE=image/jpeg:https://www.kwanumeurope.org/wp-content/uploads/2017/06/GPIA1907-e1496393286566-1.jpg
ORGANIZER;CN="Prague Zen group":MAILTO:kwanumpraha@gmail.com
END:VEVENT
BEGIN:VEVENT
DTSTART;TZID=Europe/London:20190411T210000
DTEND;TZID=Europe/London:20190414T143000
DTSTAMP:20260420T172245
CREATED:20181223T184209Z
LAST-MODIFIED:20181223T184209Z
UID:10000381-1555016400-1555252200@www.kwanumeurope.org
SUMMARY:YMJJ with Knud Rosenmayr JDPSN
DESCRIPTION:There will be 3days retreat with Knud Rosenmayr JDPSN in Prague in April. For more information and registration please contact kwanumpraha@gmail.com
URL:https://www.kwanumeurope.org/event/ymjj-with-knud-rosenmayr-jdpsn-2/
LOCATION:Prague\, Varšavská 13\, 15000\, Czech Republic
CATEGORIES:Yong Maeng Jong Jin
ATTACH;FMTTYPE=image/jpeg:https://www.kwanumeurope.org/wp-content/uploads/2017/06/GPIA1907-e1496393286566-1.jpg
ORGANIZER;CN="Prague Zen group":MAILTO:kwanumpraha@gmail.com
END:VEVENT
BEGIN:VEVENT
DTSTART;TZID=Europe/London:20190411T210000
DTEND;TZID=Europe/London:20190414T143000
DTSTAMP:20260420T172245
CREATED:20181223T184209Z
LAST-MODIFIED:20181223T184209Z
UID:10000661-1555016400-1555252200@www.kwanumeurope.org
SUMMARY:YMJJ with Knud Rosenmayr JDPSN
DESCRIPTION:There will be 3days retreat with Knud Rosenmayr JDPSN in Prague in April. For more information and registration please contact kwanumpraha@gmail.com
URL:https://www.kwanumeurope.org/event/ymjj-with-knud-rosenmayr-jdpsn-3/
LOCATION:Prague\, Varšavská 13\, 15000\, Czech Republic
CATEGORIES:Yong Maeng Jong Jin
ATTACH;FMTTYPE=image/jpeg:https://www.kwanumeurope.org/wp-content/uploads/2017/06/GPIA1907-e1496393286566-1.jpg
ORGANIZER;CN="Prague Zen group":MAILTO:kwanumpraha@gmail.com
END:VEVENT
END:VCALENDAR