﻿BEGIN:VCALENDAR
VERSION:2.0
PRODID:-//Kwan Um School Of Zen Europe - ECPv6.15.17.1//NONSGML v1.0//EN
CALSCALE:GREGORIAN
METHOD:PUBLISH
X-WR-CALNAME:Kwan Um School Of Zen Europe
X-ORIGINAL-URL:https://www.kwanumeurope.org
X-WR-CALDESC:Events for Kwan Um School Of Zen Europe
REFRESH-INTERVAL;VALUE=DURATION:PT1H
X-Robots-Tag:noindex
X-PUBLISHED-TTL:PT1H
BEGIN:VTIMEZONE
TZID:Europe/Prague
BEGIN:DAYLIGHT
TZOFFSETFROM:+0100
TZOFFSETTO:+0200
TZNAME:CEST
DTSTART:20170326T010000
END:DAYLIGHT
BEGIN:STANDARD
TZOFFSETFROM:+0200
TZOFFSETTO:+0100
TZNAME:CET
DTSTART:20171029T010000
END:STANDARD
BEGIN:DAYLIGHT
TZOFFSETFROM:+0100
TZOFFSETTO:+0200
TZNAME:CEST
DTSTART:20180325T010000
END:DAYLIGHT
BEGIN:STANDARD
TZOFFSETFROM:+0200
TZOFFSETTO:+0100
TZNAME:CET
DTSTART:20181028T010000
END:STANDARD
BEGIN:DAYLIGHT
TZOFFSETFROM:+0100
TZOFFSETTO:+0200
TZNAME:CEST
DTSTART:20190331T010000
END:DAYLIGHT
BEGIN:STANDARD
TZOFFSETFROM:+0200
TZOFFSETTO:+0100
TZNAME:CET
DTSTART:20191027T010000
END:STANDARD
END:VTIMEZONE
BEGIN:VTIMEZONE
TZID:Europe/London
BEGIN:DAYLIGHT
TZOFFSETFROM:+0000
TZOFFSETTO:+0100
TZNAME:BST
DTSTART:20170326T010000
END:DAYLIGHT
BEGIN:STANDARD
TZOFFSETFROM:+0100
TZOFFSETTO:+0000
TZNAME:GMT
DTSTART:20171029T010000
END:STANDARD
BEGIN:DAYLIGHT
TZOFFSETFROM:+0000
TZOFFSETTO:+0100
TZNAME:BST
DTSTART:20180325T010000
END:DAYLIGHT
BEGIN:STANDARD
TZOFFSETFROM:+0100
TZOFFSETTO:+0000
TZNAME:GMT
DTSTART:20181028T010000
END:STANDARD
BEGIN:DAYLIGHT
TZOFFSETFROM:+0000
TZOFFSETTO:+0100
TZNAME:BST
DTSTART:20190331T010000
END:DAYLIGHT
BEGIN:STANDARD
TZOFFSETFROM:+0100
TZOFFSETTO:+0000
TZNAME:GMT
DTSTART:20191027T010000
END:STANDARD
END:VTIMEZONE
BEGIN:VEVENT
DTSTART;TZID=Europe/Prague:20181004T210000
DTEND;TZID=Europe/Prague:20181007T140000
DTSTAMP:20260420T173602
CREATED:20180917T134216Z
LAST-MODIFIED:20180917T134216Z
UID:10000116-1538686800-1538920800@www.kwanumeurope.org
SUMMARY:Meditation retreat with Zen Master Bon Shim in Prague
DESCRIPTION:
URL:https://www.kwanumeurope.org/event/meditation-retreat-zen-master-bon-shim/
LOCATION:Prague\, Varšavská 13\, 15000\, Czech Republic
END:VEVENT
BEGIN:VEVENT
DTSTART;TZID=Europe/Prague:20181004T210000
DTEND;TZID=Europe/Prague:20181007T140000
DTSTAMP:20260420T173602
CREATED:20180917T134216Z
LAST-MODIFIED:20180917T134216Z
UID:10000376-1538686800-1538920800@www.kwanumeurope.org
SUMMARY:Meditation retreat with Zen Master Bon Shim in Prague
DESCRIPTION:
URL:https://www.kwanumeurope.org/event/meditation-retreat-zen-master-bon-shim-2/
LOCATION:Prague\, Varšavská 13\, 15000\, Czech Republic
END:VEVENT
BEGIN:VEVENT
DTSTART;TZID=Europe/Prague:20181004T210000
DTEND;TZID=Europe/Prague:20181007T140000
DTSTAMP:20260420T173602
CREATED:20180917T134216Z
LAST-MODIFIED:20180917T134216Z
UID:10000655-1538686800-1538920800@www.kwanumeurope.org
SUMMARY:Meditation retreat with Zen Master Bon Shim in Prague
DESCRIPTION:
URL:https://www.kwanumeurope.org/event/meditation-retreat-zen-master-bon-shim-3/
LOCATION:Prague\, Varšavská 13\, 15000\, Czech Republic
END:VEVENT
BEGIN:VEVENT
DTSTART;TZID=Europe/London:20180412T213000
DTEND;TZID=Europe/London:20180415T140000
DTSTAMP:20260420T173602
CREATED:20180228T160104Z
LAST-MODIFIED:20180228T160104Z
UID:10000088-1523568600-1523800800@www.kwanumeurope.org
SUMMARY:Zen retreat with Zen Master Gu Ja
DESCRIPTION:A three days retreat (Yong Meng Jong Jin)\, with Gu Ja SSN which starts on 12th April and ends 15th April is held in Prague in Joga center\, Velehradska 21. There will be a second entry on 13th April Friday at 6 and 9\,30pm.\nYou are warmly invited.\nFor mor information visit our web www.kwanumzen.cz
URL:https://www.kwanumeurope.org/event/zen-retreat-zen-master-gu-ja-5/
LOCATION:Prague\, Varšavská 13\, 15000\, Czech Republic
END:VEVENT
BEGIN:VEVENT
DTSTART;TZID=Europe/London:20180412T213000
DTEND;TZID=Europe/London:20180415T140000
DTSTAMP:20260420T173602
CREATED:20180228T160104Z
LAST-MODIFIED:20180228T160104Z
UID:10000348-1523568600-1523800800@www.kwanumeurope.org
SUMMARY:Zen retreat with Zen Master Gu Ja
DESCRIPTION:A three days retreat (Yong Meng Jong Jin)\, with Gu Ja SSN which starts on 12th April and ends 15th April is held in Prague in Joga center\, Velehradska 21. There will be a second entry on 13th April Friday at 6 and 9\,30pm.\nYou are warmly invited.\nFor mor information visit our web www.kwanumzen.cz
URL:https://www.kwanumeurope.org/event/zen-retreat-zen-master-gu-ja-5-2/
LOCATION:Prague\, Varšavská 13\, 15000\, Czech Republic
END:VEVENT
BEGIN:VEVENT
DTSTART;TZID=Europe/London:20180412T213000
DTEND;TZID=Europe/London:20180415T140000
DTSTAMP:20260420T173602
CREATED:20180228T160104Z
LAST-MODIFIED:20180228T160104Z
UID:10000628-1523568600-1523800800@www.kwanumeurope.org
SUMMARY:Zen retreat with Zen Master Gu Ja
DESCRIPTION:A three days retreat (Yong Meng Jong Jin)\, with Gu Ja SSN which starts on 12th April and ends 15th April is held in Prague in Joga center\, Velehradska 21. There will be a second entry on 13th April Friday at 6 and 9\,30pm.\nYou are warmly invited.\nFor mor information visit our web www.kwanumzen.cz
URL:https://www.kwanumeurope.org/event/zen-retreat-zen-master-gu-ja-5-3/
LOCATION:Prague\, Varšavská 13\, 15000\, Czech Republic
END:VEVENT
END:VCALENDAR