﻿BEGIN:VCALENDAR
VERSION:2.0
PRODID:-//Kwan Um School Of Zen Europe - ECPv6.15.17.1//NONSGML v1.0//EN
CALSCALE:GREGORIAN
METHOD:PUBLISH
X-WR-CALNAME:Kwan Um School Of Zen Europe
X-ORIGINAL-URL:https://www.kwanumeurope.org
X-WR-CALDESC:Events for Kwan Um School Of Zen Europe
REFRESH-INTERVAL;VALUE=DURATION:PT1H
X-Robots-Tag:noindex
X-PUBLISHED-TTL:PT1H
BEGIN:VTIMEZONE
TZID:Europe/London
BEGIN:DAYLIGHT
TZOFFSETFROM:+0000
TZOFFSETTO:+0100
TZNAME:BST
DTSTART:20180325T010000
END:DAYLIGHT
BEGIN:STANDARD
TZOFFSETFROM:+0100
TZOFFSETTO:+0000
TZNAME:GMT
DTSTART:20181028T010000
END:STANDARD
BEGIN:DAYLIGHT
TZOFFSETFROM:+0000
TZOFFSETTO:+0100
TZNAME:BST
DTSTART:20190331T010000
END:DAYLIGHT
BEGIN:STANDARD
TZOFFSETFROM:+0100
TZOFFSETTO:+0000
TZNAME:GMT
DTSTART:20191027T010000
END:STANDARD
BEGIN:DAYLIGHT
TZOFFSETFROM:+0000
TZOFFSETTO:+0100
TZNAME:BST
DTSTART:20200329T010000
END:DAYLIGHT
BEGIN:STANDARD
TZOFFSETFROM:+0100
TZOFFSETTO:+0000
TZNAME:GMT
DTSTART:20201025T010000
END:STANDARD
BEGIN:DAYLIGHT
TZOFFSETFROM:+0000
TZOFFSETTO:+0100
TZNAME:BST
DTSTART:20210328T010000
END:DAYLIGHT
BEGIN:STANDARD
TZOFFSETFROM:+0100
TZOFFSETTO:+0000
TZNAME:GMT
DTSTART:20211031T010000
END:STANDARD
END:VTIMEZONE
BEGIN:VEVENT
DTSTART;TZID=Europe/London:20200216T090000
DTEND;TZID=Europe/London:20200216T153000
DTSTAMP:20260420T030724
CREATED:20200112T164935Z
LAST-MODIFIED:20200112T164935Z
UID:10000180-1581843600-1581867000@www.kwanumeurope.org
SUMMARY:Zen Day with Dharma Master Lizzie Coombs
DESCRIPTION:The day consists of sitting\, walking and chanting meditation plus interviews with the Master and an informal meal. Registration necessary. \nFind out more:\nFor directions and to register please contact us at: email kuszyork@gmail.com\nphone +44 7502 607665\nPlease register at least 24 hours in advance. \nhttps://www.yorkzen.com/
URL:https://www.kwanumeurope.org/event/zen-day-with-dharma-master-lizzie-coombs-4/
LOCATION:York Zen Group\, United Kingdom
CATEGORIES:One Day Retreat
ATTACH;FMTTYPE=image/jpeg:https://www.kwanumeurope.org/wp-content/uploads/2020/01/Image2-1.jpg
ORGANIZER;CN="York Zen Group":MAILTO:kuszyork@gmail.com
END:VEVENT
BEGIN:VEVENT
DTSTART;TZID=Europe/London:20200216T090000
DTEND;TZID=Europe/London:20200216T153000
DTSTAMP:20260420T030724
CREATED:20200112T164935Z
LAST-MODIFIED:20200112T164935Z
UID:10000440-1581843600-1581867000@www.kwanumeurope.org
SUMMARY:Zen Day with Dharma Master Lizzie Coombs
DESCRIPTION:The day consists of sitting\, walking and chanting meditation plus interviews with the Master and an informal meal. Registration necessary. \nFind out more:\nFor directions and to register please contact us at: email kuszyork@gmail.com\nphone +44 7502 607665\nPlease register at least 24 hours in advance. \nhttps://www.yorkzen.com/
URL:https://www.kwanumeurope.org/event/zen-day-with-dharma-master-lizzie-coombs-4-2/
LOCATION:York Zen Group\, United Kingdom
CATEGORIES:One Day Retreat
ATTACH;FMTTYPE=image/jpeg:https://www.kwanumeurope.org/wp-content/uploads/2020/01/Image2-1.jpg
ORGANIZER;CN="York Zen Group":MAILTO:kuszyork@gmail.com
END:VEVENT
BEGIN:VEVENT
DTSTART;TZID=Europe/London:20200216T090000
DTEND;TZID=Europe/London:20200216T153000
DTSTAMP:20260420T030724
CREATED:20200112T164935Z
LAST-MODIFIED:20200112T164935Z
UID:10000722-1581843600-1581867000@www.kwanumeurope.org
SUMMARY:Zen Day with Dharma Master Lizzie Coombs
DESCRIPTION:The day consists of sitting\, walking and chanting meditation plus interviews with the Master and an informal meal. Registration necessary. \nFind out more:\nFor directions and to register please contact us at: email kuszyork@gmail.com\nphone +44 7502 607665\nPlease register at least 24 hours in advance. \nhttps://www.yorkzen.com/
URL:https://www.kwanumeurope.org/event/zen-day-with-dharma-master-lizzie-coombs-4-3/
LOCATION:York Zen Group\, United Kingdom
CATEGORIES:One Day Retreat
ATTACH;FMTTYPE=image/jpeg:https://www.kwanumeurope.org/wp-content/uploads/2020/01/Image2-1.jpg
ORGANIZER;CN="York Zen Group":MAILTO:kuszyork@gmail.com
END:VEVENT
BEGIN:VEVENT
DTSTART;TZID=Europe/London:20191215T090000
DTEND;TZID=Europe/London:20191215T153000
DTSTAMP:20260420T030724
CREATED:20191104T190141Z
LAST-MODIFIED:20191104T190141Z
UID:10000168-1576400400-1576423800@www.kwanumeurope.org
SUMMARY:Zen Day with Dharma Master Lizzie Coombs
DESCRIPTION:The day consists of sitting\, walking and chanting meditation plus interviews with the Master and an informal meal. Registration necessary. \nFind out more:\nFor directions and to register please contact us at: email kuszyork@gmail.com\nphone +44 7502 607665\nPlease register at least 24 hours in advance. \nhttps://www.yorkzen.com/
URL:https://www.kwanumeurope.org/event/zen-day-with-dharma-master-lizzie-coombs-3/
LOCATION:York Zen Group\, United Kingdom
ATTACH;FMTTYPE=image/jpeg:https://www.kwanumeurope.org/wp-content/uploads/2018/04/TdHV5giQ-1.jpeg
ORGANIZER;CN="York Zen Group":MAILTO:kuszyork@gmail.com
END:VEVENT
BEGIN:VEVENT
DTSTART;TZID=Europe/London:20191215T090000
DTEND;TZID=Europe/London:20191215T153000
DTSTAMP:20260420T030724
CREATED:20191104T190141Z
LAST-MODIFIED:20191104T190141Z
UID:10000428-1576400400-1576423800@www.kwanumeurope.org
SUMMARY:Zen Day with Dharma Master Lizzie Coombs
DESCRIPTION:The day consists of sitting\, walking and chanting meditation plus interviews with the Master and an informal meal. Registration necessary. \nFind out more:\nFor directions and to register please contact us at: email kuszyork@gmail.com\nphone +44 7502 607665\nPlease register at least 24 hours in advance. \nhttps://www.yorkzen.com/
URL:https://www.kwanumeurope.org/event/zen-day-with-dharma-master-lizzie-coombs-3-2/
LOCATION:York Zen Group\, United Kingdom
ATTACH;FMTTYPE=image/jpeg:https://www.kwanumeurope.org/wp-content/uploads/2018/04/TdHV5giQ-1.jpeg
ORGANIZER;CN="York Zen Group":MAILTO:kuszyork@gmail.com
END:VEVENT
BEGIN:VEVENT
DTSTART;TZID=Europe/London:20191215T090000
DTEND;TZID=Europe/London:20191215T153000
DTSTAMP:20260420T030724
CREATED:20191104T190141Z
LAST-MODIFIED:20191104T190141Z
UID:10000710-1576400400-1576423800@www.kwanumeurope.org
SUMMARY:Zen Day with Dharma Master Lizzie Coombs
DESCRIPTION:The day consists of sitting\, walking and chanting meditation plus interviews with the Master and an informal meal. Registration necessary. \nFind out more:\nFor directions and to register please contact us at: email kuszyork@gmail.com\nphone +44 7502 607665\nPlease register at least 24 hours in advance. \nhttps://www.yorkzen.com/
URL:https://www.kwanumeurope.org/event/zen-day-with-dharma-master-lizzie-coombs-3-3/
LOCATION:York Zen Group\, United Kingdom
ATTACH;FMTTYPE=image/jpeg:https://www.kwanumeurope.org/wp-content/uploads/2018/04/TdHV5giQ-1.jpeg
ORGANIZER;CN="York Zen Group":MAILTO:kuszyork@gmail.com
END:VEVENT
BEGIN:VEVENT
DTSTART;TZID=Europe/London:20191013T090000
DTEND;TZID=Europe/London:20191013T153000
DTSTAMP:20260420T030724
CREATED:20190804T045820Z
LAST-MODIFIED:20190804T045820Z
UID:10000162-1570957200-1570980600@www.kwanumeurope.org
SUMMARY:Zen Day with Dharma Master Lizzie Coombs
DESCRIPTION:The day consists of sitting\, walking and chanting meditation plus interviews with the Master and an informal meal. Registration necessary. \nFind out more:\nFor directions and to register please contact us at: email kuszyork@gmail.com\nphone +44 7502 607665\nPlease register at least 24 hours in advance. \nhttps://www.yorkzen.com/
URL:https://www.kwanumeurope.org/event/zen-day-with-dharma-master-lizzie-coombs-2/
LOCATION:York Zen Group\, United Kingdom
CATEGORIES:One Day Retreat,Yong Maeng Jong Jin
ATTACH;FMTTYPE=image/jpeg:https://www.kwanumeurope.org/wp-content/uploads/2018/04/TdHV5giQ-1.jpeg
ORGANIZER;CN="York Zen Group":MAILTO:kuszyork@gmail.com
END:VEVENT
BEGIN:VEVENT
DTSTART;TZID=Europe/London:20191013T090000
DTEND;TZID=Europe/London:20191013T153000
DTSTAMP:20260420T030724
CREATED:20190804T045820Z
LAST-MODIFIED:20190804T045820Z
UID:10000422-1570957200-1570980600@www.kwanumeurope.org
SUMMARY:Zen Day with Dharma Master Lizzie Coombs
DESCRIPTION:The day consists of sitting\, walking and chanting meditation plus interviews with the Master and an informal meal. Registration necessary. \nFind out more:\nFor directions and to register please contact us at: email kuszyork@gmail.com\nphone +44 7502 607665\nPlease register at least 24 hours in advance. \nhttps://www.yorkzen.com/
URL:https://www.kwanumeurope.org/event/zen-day-with-dharma-master-lizzie-coombs-2-2/
LOCATION:York Zen Group\, United Kingdom
CATEGORIES:One Day Retreat,Yong Maeng Jong Jin
ATTACH;FMTTYPE=image/jpeg:https://www.kwanumeurope.org/wp-content/uploads/2018/04/TdHV5giQ-1.jpeg
ORGANIZER;CN="York Zen Group":MAILTO:kuszyork@gmail.com
END:VEVENT
BEGIN:VEVENT
DTSTART;TZID=Europe/London:20191013T090000
DTEND;TZID=Europe/London:20191013T153000
DTSTAMP:20260420T030724
CREATED:20190804T045820Z
LAST-MODIFIED:20190804T045820Z
UID:10000703-1570957200-1570980600@www.kwanumeurope.org
SUMMARY:Zen Day with Dharma Master Lizzie Coombs
DESCRIPTION:The day consists of sitting\, walking and chanting meditation plus interviews with the Master and an informal meal. Registration necessary. \nFind out more:\nFor directions and to register please contact us at: email kuszyork@gmail.com\nphone +44 7502 607665\nPlease register at least 24 hours in advance. \nhttps://www.yorkzen.com/
URL:https://www.kwanumeurope.org/event/zen-day-with-dharma-master-lizzie-coombs-2-3/
LOCATION:York Zen Group\, United Kingdom
CATEGORIES:One Day Retreat,Yong Maeng Jong Jin
ATTACH;FMTTYPE=image/jpeg:https://www.kwanumeurope.org/wp-content/uploads/2018/04/TdHV5giQ-1.jpeg
ORGANIZER;CN="York Zen Group":MAILTO:kuszyork@gmail.com
END:VEVENT
BEGIN:VEVENT
DTSTART;TZID=Europe/London:20190811T090000
DTEND;TZID=Europe/London:20190811T153000
DTSTAMP:20260420T030724
CREATED:20190804T045554Z
LAST-MODIFIED:20190804T045554Z
UID:10000161-1565514000-1565537400@www.kwanumeurope.org
SUMMARY:Zen Day with Dharma Master Lizzie Coombs
DESCRIPTION:The day consists of sitting\, walking and chanting meditation plus interviews with the Master and an informal meal. Registration necessary. \nFind out more:\nFor directions and to register please contact us at: email kuszyork@gmail.com\nphone +44 7502 607665\nPlease register at least 24 hours in advance. \nhttps://www.yorkzen.com/
URL:https://www.kwanumeurope.org/event/zen-day-with-dharma-master-lizzie-coombs/
LOCATION:York Zen Group\, United Kingdom
CATEGORIES:One Day Retreat,Yong Maeng Jong Jin
ATTACH;FMTTYPE=image/jpeg:https://www.kwanumeurope.org/wp-content/uploads/2018/04/TdHV5giQ-1.jpeg
ORGANIZER;CN="York Zen Group":MAILTO:kuszyork@gmail.com
END:VEVENT
BEGIN:VEVENT
DTSTART;TZID=Europe/London:20190811T090000
DTEND;TZID=Europe/London:20190811T153000
DTSTAMP:20260420T030724
CREATED:20190804T045554Z
LAST-MODIFIED:20190804T045554Z
UID:10000421-1565514000-1565537400@www.kwanumeurope.org
SUMMARY:Zen Day with Dharma Master Lizzie Coombs
DESCRIPTION:The day consists of sitting\, walking and chanting meditation plus interviews with the Master and an informal meal. Registration necessary. \nFind out more:\nFor directions and to register please contact us at: email kuszyork@gmail.com\nphone +44 7502 607665\nPlease register at least 24 hours in advance. \nhttps://www.yorkzen.com/
URL:https://www.kwanumeurope.org/event/zen-day-with-dharma-master-lizzie-coombs-6/
LOCATION:York Zen Group\, United Kingdom
CATEGORIES:One Day Retreat,Yong Maeng Jong Jin
ATTACH;FMTTYPE=image/jpeg:https://www.kwanumeurope.org/wp-content/uploads/2018/04/TdHV5giQ-1.jpeg
ORGANIZER;CN="York Zen Group":MAILTO:kuszyork@gmail.com
END:VEVENT
BEGIN:VEVENT
DTSTART;TZID=Europe/London:20190811T090000
DTEND;TZID=Europe/London:20190811T153000
DTSTAMP:20260420T030724
CREATED:20190804T045554Z
LAST-MODIFIED:20190804T045554Z
UID:10000702-1565514000-1565537400@www.kwanumeurope.org
SUMMARY:Zen Day with Dharma Master Lizzie Coombs
DESCRIPTION:The day consists of sitting\, walking and chanting meditation plus interviews with the Master and an informal meal. Registration necessary. \nFind out more:\nFor directions and to register please contact us at: email kuszyork@gmail.com\nphone +44 7502 607665\nPlease register at least 24 hours in advance. \nhttps://www.yorkzen.com/
URL:https://www.kwanumeurope.org/event/zen-day-with-dharma-master-lizzie-coombs-7/
LOCATION:York Zen Group\, United Kingdom
CATEGORIES:One Day Retreat,Yong Maeng Jong Jin
ATTACH;FMTTYPE=image/jpeg:https://www.kwanumeurope.org/wp-content/uploads/2018/04/TdHV5giQ-1.jpeg
ORGANIZER;CN="York Zen Group":MAILTO:kuszyork@gmail.com
END:VEVENT
END:VCALENDAR