﻿BEGIN:VCALENDAR
VERSION:2.0
PRODID:-//Kwan Um School Of Zen Europe - ECPv6.15.17.1//NONSGML v1.0//EN
CALSCALE:GREGORIAN
METHOD:PUBLISH
X-WR-CALNAME:Kwan Um School Of Zen Europe
X-ORIGINAL-URL:https://www.kwanumeurope.org
X-WR-CALDESC:Events for Kwan Um School Of Zen Europe
REFRESH-INTERVAL;VALUE=DURATION:PT1H
X-Robots-Tag:noindex
X-PUBLISHED-TTL:PT1H
BEGIN:VTIMEZONE
TZID:Europe/London
BEGIN:DAYLIGHT
TZOFFSETFROM:+0000
TZOFFSETTO:+0100
TZNAME:BST
DTSTART:20160327T010000
END:DAYLIGHT
BEGIN:STANDARD
TZOFFSETFROM:+0100
TZOFFSETTO:+0000
TZNAME:GMT
DTSTART:20161030T010000
END:STANDARD
BEGIN:DAYLIGHT
TZOFFSETFROM:+0000
TZOFFSETTO:+0100
TZNAME:BST
DTSTART:20170326T010000
END:DAYLIGHT
BEGIN:STANDARD
TZOFFSETFROM:+0100
TZOFFSETTO:+0000
TZNAME:GMT
DTSTART:20171029T010000
END:STANDARD
BEGIN:DAYLIGHT
TZOFFSETFROM:+0000
TZOFFSETTO:+0100
TZNAME:BST
DTSTART:20180325T010000
END:DAYLIGHT
BEGIN:STANDARD
TZOFFSETFROM:+0100
TZOFFSETTO:+0000
TZNAME:GMT
DTSTART:20181028T010000
END:STANDARD
BEGIN:DAYLIGHT
TZOFFSETFROM:+0000
TZOFFSETTO:+0100
TZNAME:BST
DTSTART:20190331T010000
END:DAYLIGHT
BEGIN:STANDARD
TZOFFSETFROM:+0100
TZOFFSETTO:+0000
TZNAME:GMT
DTSTART:20191027T010000
END:STANDARD
BEGIN:DAYLIGHT
TZOFFSETFROM:+0000
TZOFFSETTO:+0100
TZNAME:BST
DTSTART:20200329T010000
END:DAYLIGHT
BEGIN:STANDARD
TZOFFSETFROM:+0100
TZOFFSETTO:+0000
TZNAME:GMT
DTSTART:20201025T010000
END:STANDARD
END:VTIMEZONE
BEGIN:VTIMEZONE
TZID:Europe/Berlin
BEGIN:DAYLIGHT
TZOFFSETFROM:+0100
TZOFFSETTO:+0200
TZNAME:CEST
DTSTART:20180325T010000
END:DAYLIGHT
BEGIN:STANDARD
TZOFFSETFROM:+0200
TZOFFSETTO:+0100
TZNAME:CET
DTSTART:20181028T010000
END:STANDARD
BEGIN:DAYLIGHT
TZOFFSETFROM:+0100
TZOFFSETTO:+0200
TZNAME:CEST
DTSTART:20190331T010000
END:DAYLIGHT
BEGIN:STANDARD
TZOFFSETFROM:+0200
TZOFFSETTO:+0100
TZNAME:CET
DTSTART:20191027T010000
END:STANDARD
BEGIN:DAYLIGHT
TZOFFSETFROM:+0100
TZOFFSETTO:+0200
TZNAME:CEST
DTSTART:20200329T010000
END:DAYLIGHT
BEGIN:STANDARD
TZOFFSETFROM:+0200
TZOFFSETTO:+0100
TZNAME:CET
DTSTART:20201025T010000
END:STANDARD
END:VTIMEZONE
BEGIN:VTIMEZONE
TZID:Europe/Paris
BEGIN:DAYLIGHT
TZOFFSETFROM:+0100
TZOFFSETTO:+0200
TZNAME:CEST
DTSTART:20150329T010000
END:DAYLIGHT
BEGIN:STANDARD
TZOFFSETFROM:+0200
TZOFFSETTO:+0100
TZNAME:CET
DTSTART:20151025T010000
END:STANDARD
BEGIN:DAYLIGHT
TZOFFSETFROM:+0100
TZOFFSETTO:+0200
TZNAME:CEST
DTSTART:20160327T010000
END:DAYLIGHT
BEGIN:STANDARD
TZOFFSETFROM:+0200
TZOFFSETTO:+0100
TZNAME:CET
DTSTART:20161030T010000
END:STANDARD
BEGIN:DAYLIGHT
TZOFFSETFROM:+0100
TZOFFSETTO:+0200
TZNAME:CEST
DTSTART:20170326T010000
END:DAYLIGHT
BEGIN:STANDARD
TZOFFSETFROM:+0200
TZOFFSETTO:+0100
TZNAME:CET
DTSTART:20171029T010000
END:STANDARD
END:VTIMEZONE
BEGIN:VEVENT
DTSTART;TZID=Europe/London:20191214T080000
DTEND;TZID=Europe/London:20191214T170000
DTSTAMP:20260419T184208
CREATED:20190714T104837Z
LAST-MODIFIED:20190714T104837Z
UID:10000700-1576310400-1576342800@www.kwanumeurope.org
SUMMARY:Zen Day with Dharma Master Arne Schaefer
DESCRIPTION:This Zen Day with Dharma Master Arne Schaefer is meant as an intense period of practicing Zen\, it is filled with different kinds of meditation as well as bowing\, chanting and interviews with the Master. Please contact the Zen Group Dresden for details.
URL:https://www.kwanumeurope.org/event/zen-day-with-dharma-master-arne-schaefer-3/
LOCATION:Zen Zentrum Dresden\, Riesaer Str. 32\, 01127 Dresden\, 01127\, Germany
ORGANIZER;CN="Zen Zentrum Dresden":MAILTO:dresden@kwanumzen.de 
GEO:51.0676471;13.74953
X-APPLE-STRUCTURED-LOCATION;VALUE=URI;X-ADDRESS=Zen Zentrum Dresden Riesaer Str. 32 01127 Dresden 01127 Germany;X-APPLE-RADIUS=500;X-TITLE=Riesaer Str. 32:geo:13.74953,51.0676471
END:VEVENT
BEGIN:VEVENT
DTSTART;TZID=Europe/London:20191214T080000
DTEND;TZID=Europe/London:20191214T170000
DTSTAMP:20260419T184208
CREATED:20190714T104837Z
LAST-MODIFIED:20190714T104837Z
UID:10000419-1576310400-1576342800@www.kwanumeurope.org
SUMMARY:Zen Day with Dharma Master Arne Schaefer
DESCRIPTION:This Zen Day with Dharma Master Arne Schaefer is meant as an intense period of practicing Zen\, it is filled with different kinds of meditation as well as bowing\, chanting and interviews with the Master. Please contact the Zen Group Dresden for details.
URL:https://www.kwanumeurope.org/event/zen-day-with-dharma-master-arne-schaefer-2/
LOCATION:Zen Zentrum Dresden\, Riesaer Str. 32\, 01127 Dresden\, 01127\, Germany
ORGANIZER;CN="Zen Zentrum Dresden":MAILTO:dresden@kwanumzen.de 
GEO:51.0676471;13.74953
X-APPLE-STRUCTURED-LOCATION;VALUE=URI;X-ADDRESS=Zen Zentrum Dresden Riesaer Str. 32 01127 Dresden 01127 Germany;X-APPLE-RADIUS=500;X-TITLE=Riesaer Str. 32:geo:13.74953,51.0676471
END:VEVENT
BEGIN:VEVENT
DTSTART;TZID=Europe/Berlin:20190309T060000
DTEND;TZID=Europe/Berlin:20190309T180000
DTSTAMP:20260419T184208
CREATED:20190301T140833Z
LAST-MODIFIED:20190301T140833Z
UID:10000128-1552111200-1552154400@www.kwanumeurope.org
SUMMARY:Zen-Day with Zen Master Gu Ja in Dresden\, Germany
DESCRIPTION:We have a Zen Day with Zen Master Gu Ja in Dresden Zen Center on Saturday\, 9 March 2019\, starting at 6am till 6pm. \nFor registration and more information please contact dresden@kwanumzen.de \nwww.kwanumzen.de/dresden
URL:https://www.kwanumeurope.org/event/zen-day-with-zen-master-gu-ja-in-dresden-germany/
LOCATION:Zen Zentrum Dresden\, Riesaer Str. 32\, 01127 Dresden\, 01127\, Germany
CATEGORIES:One Day Retreat
ATTACH;FMTTYPE=image/jpeg:https://www.kwanumeurope.org/wp-content/uploads/2016/02/Gu-Ja1.jpg
ORGANIZER;CN="Zen Zentrum Dresden":MAILTO:dresden@kwanumzen.de 
GEO:51.0676471;13.74953
X-APPLE-STRUCTURED-LOCATION;VALUE=URI;X-ADDRESS=Zen Zentrum Dresden Riesaer Str. 32 01127 Dresden 01127 Germany;X-APPLE-RADIUS=500;X-TITLE=Riesaer Str. 32:geo:13.74953,51.0676471
END:VEVENT
BEGIN:VEVENT
DTSTART;TZID=Europe/Berlin:20190309T060000
DTEND;TZID=Europe/Berlin:20190309T180000
DTSTAMP:20260419T184208
CREATED:20190301T140833Z
LAST-MODIFIED:20190301T140833Z
UID:10000669-1552111200-1552154400@www.kwanumeurope.org
SUMMARY:Zen-Day with Zen Master Gu Ja in Dresden\, Germany
DESCRIPTION:We have a Zen Day with Zen Master Gu Ja in Dresden Zen Center on Saturday\, 9 March 2019\, starting at 6am till 6pm. \nFor registration and more information please contact dresden@kwanumzen.de \nwww.kwanumzen.de/dresden
URL:https://www.kwanumeurope.org/event/zen-day-with-zen-master-gu-ja-in-dresden-germany-3/
LOCATION:Zen Zentrum Dresden\, Riesaer Str. 32\, 01127 Dresden\, 01127\, Germany
CATEGORIES:One Day Retreat
ATTACH;FMTTYPE=image/jpeg:https://www.kwanumeurope.org/wp-content/uploads/2016/02/Gu-Ja1.jpg
ORGANIZER;CN="Zen Zentrum Dresden":MAILTO:dresden@kwanumzen.de 
GEO:51.0676471;13.74953
X-APPLE-STRUCTURED-LOCATION;VALUE=URI;X-ADDRESS=Zen Zentrum Dresden Riesaer Str. 32 01127 Dresden 01127 Germany;X-APPLE-RADIUS=500;X-TITLE=Riesaer Str. 32:geo:13.74953,51.0676471
END:VEVENT
BEGIN:VEVENT
DTSTART;TZID=Europe/Berlin:20190309T060000
DTEND;TZID=Europe/Berlin:20190309T180000
DTSTAMP:20260419T184208
CREATED:20190301T140833Z
LAST-MODIFIED:20190301T140833Z
UID:10000388-1552111200-1552154400@www.kwanumeurope.org
SUMMARY:Zen-Day with Zen Master Gu Ja in Dresden\, Germany
DESCRIPTION:We have a Zen Day with Zen Master Gu Ja in Dresden Zen Center on Saturday\, 9 March 2019\, starting at 6am till 6pm. \nFor registration and more information please contact dresden@kwanumzen.de \nwww.kwanumzen.de/dresden
URL:https://www.kwanumeurope.org/event/zen-day-with-zen-master-gu-ja-in-dresden-germany-2/
LOCATION:Zen Zentrum Dresden\, Riesaer Str. 32\, 01127 Dresden\, 01127\, Germany
CATEGORIES:One Day Retreat
ATTACH;FMTTYPE=image/jpeg:https://www.kwanumeurope.org/wp-content/uploads/2016/02/Gu-Ja1.jpg
ORGANIZER;CN="Zen Zentrum Dresden":MAILTO:dresden@kwanumzen.de 
GEO:51.0676471;13.74953
X-APPLE-STRUCTURED-LOCATION;VALUE=URI;X-ADDRESS=Zen Zentrum Dresden Riesaer Str. 32 01127 Dresden 01127 Germany;X-APPLE-RADIUS=500;X-TITLE=Riesaer Str. 32:geo:13.74953,51.0676471
END:VEVENT
BEGIN:VEVENT
DTSTART;TZID=Europe/London:20181215T060000
DTEND;TZID=Europe/London:20181215T210000
DTSTAMP:20260419T184208
CREATED:20180614T144720Z
LAST-MODIFIED:20180614T144720Z
UID:10000372-1544853600-1544907600@www.kwanumeurope.org
SUMMARY:Zen Day and Christmas Party with Arne Schaefer JDPSN in Dresden\, Germany
DESCRIPTION:We have Zen Day and afterwards in the Evening a Christmas Party with Arne Schaefer JDPSN in Dresden\, Germany on 15 December 2018. \nFor registration and more information please contact hamburg@kwanumzen.de \nwww.kwanumzen.de/hamburg
URL:https://www.kwanumeurope.org/event/zen-day-christmas-party-arne-schaefer-jdpsn-dresden-germany-2/
LOCATION:Zen Zentrum Dresden\, Riesaer Str. 32\, 01127 Dresden\, 01127\, Germany
CATEGORIES:One Day Retreat
ATTACH;FMTTYPE=image/jpeg:https://www.kwanumeurope.org/wp-content/uploads/2017/08/Arne-1.jpg
ORGANIZER;CN="Zen Zentrum Dresden":MAILTO:dresden@kwanumzen.de 
GEO:51.0676471;13.74953
X-APPLE-STRUCTURED-LOCATION;VALUE=URI;X-ADDRESS=Zen Zentrum Dresden Riesaer Str. 32 01127 Dresden 01127 Germany;X-APPLE-RADIUS=500;X-TITLE=Riesaer Str. 32:geo:13.74953,51.0676471
END:VEVENT
BEGIN:VEVENT
DTSTART;TZID=Europe/London:20181215T060000
DTEND;TZID=Europe/London:20181215T210000
DTSTAMP:20260419T184208
CREATED:20180614T144720Z
LAST-MODIFIED:20180614T144720Z
UID:10000651-1544853600-1544907600@www.kwanumeurope.org
SUMMARY:Zen Day and Christmas Party with Arne Schaefer JDPSN in Dresden\, Germany
DESCRIPTION:We have Zen Day and afterwards in the Evening a Christmas Party with Arne Schaefer JDPSN in Dresden\, Germany on 15 December 2018. \nFor registration and more information please contact hamburg@kwanumzen.de \nwww.kwanumzen.de/hamburg
URL:https://www.kwanumeurope.org/event/zen-day-christmas-party-arne-schaefer-jdpsn-dresden-germany-3/
LOCATION:Zen Zentrum Dresden\, Riesaer Str. 32\, 01127 Dresden\, 01127\, Germany
CATEGORIES:One Day Retreat
ATTACH;FMTTYPE=image/jpeg:https://www.kwanumeurope.org/wp-content/uploads/2017/08/Arne-1.jpg
ORGANIZER;CN="Zen Zentrum Dresden":MAILTO:dresden@kwanumzen.de 
GEO:51.0676471;13.74953
X-APPLE-STRUCTURED-LOCATION;VALUE=URI;X-ADDRESS=Zen Zentrum Dresden Riesaer Str. 32 01127 Dresden 01127 Germany;X-APPLE-RADIUS=500;X-TITLE=Riesaer Str. 32:geo:13.74953,51.0676471
END:VEVENT
BEGIN:VEVENT
DTSTART;TZID=Europe/London:20181215T060000
DTEND;TZID=Europe/London:20181215T210000
DTSTAMP:20260419T184208
CREATED:20180614T144720Z
LAST-MODIFIED:20180614T144720Z
UID:10000112-1544853600-1544907600@www.kwanumeurope.org
SUMMARY:Zen Day and Christmas Party with Arne Schaefer JDPSN in Dresden\, Germany
DESCRIPTION:We have Zen Day and afterwards in the Evening a Christmas Party with Arne Schaefer JDPSN in Dresden\, Germany on 15 December 2018. \nFor registration and more information please contact hamburg@kwanumzen.de \nwww.kwanumzen.de/hamburg
URL:https://www.kwanumeurope.org/event/zen-day-christmas-party-arne-schaefer-jdpsn-dresden-germany/
LOCATION:Zen Zentrum Dresden\, Riesaer Str. 32\, 01127 Dresden\, 01127\, Germany
CATEGORIES:One Day Retreat
ATTACH;FMTTYPE=image/jpeg:https://www.kwanumeurope.org/wp-content/uploads/2017/08/Arne-1.jpg
ORGANIZER;CN="Zen Zentrum Dresden":MAILTO:dresden@kwanumzen.de 
GEO:51.0676471;13.74953
X-APPLE-STRUCTURED-LOCATION;VALUE=URI;X-ADDRESS=Zen Zentrum Dresden Riesaer Str. 32 01127 Dresden 01127 Germany;X-APPLE-RADIUS=500;X-TITLE=Riesaer Str. 32:geo:13.74953,51.0676471
END:VEVENT
BEGIN:VEVENT
DTSTART;TZID=Europe/London:20181006T060000
DTEND;TZID=Europe/London:20181006T170000
DTSTAMP:20260419T184208
CREATED:20180614T143631Z
LAST-MODIFIED:20180614T143631Z
UID:10000369-1538805600-1538845200@www.kwanumeurope.org
SUMMARY:Zen Day with Arne Schaefer JDPSN in Dresden\, Germany
DESCRIPTION:We have a Zen Day with Arne Schaefer JDPSN in Dresden Zen Center\, Germany\, on 6 October 2018. \nFor registration and more information please contact dresden@kwanumzen.de \nwww.kwanumzen.de/dresden
URL:https://www.kwanumeurope.org/event/zen-day-arne-schaefer-jdpsn-dresden-germany-2/
LOCATION:Zen Zentrum Dresden\, Riesaer Str. 32\, 01127 Dresden\, 01127\, Germany
CATEGORIES:One Day Retreat
ATTACH;FMTTYPE=image/jpeg:https://www.kwanumeurope.org/wp-content/uploads/2016/06/ArneSchaefer230a.jpg
ORGANIZER;CN="Zen Zentrum Dresden":MAILTO:dresden@kwanumzen.de 
GEO:51.0676471;13.74953
X-APPLE-STRUCTURED-LOCATION;VALUE=URI;X-ADDRESS=Zen Zentrum Dresden Riesaer Str. 32 01127 Dresden 01127 Germany;X-APPLE-RADIUS=500;X-TITLE=Riesaer Str. 32:geo:13.74953,51.0676471
END:VEVENT
BEGIN:VEVENT
DTSTART;TZID=Europe/London:20181006T060000
DTEND;TZID=Europe/London:20181006T170000
DTSTAMP:20260419T184208
CREATED:20180614T143631Z
LAST-MODIFIED:20180614T143631Z
UID:10000648-1538805600-1538845200@www.kwanumeurope.org
SUMMARY:Zen Day with Arne Schaefer JDPSN in Dresden\, Germany
DESCRIPTION:We have a Zen Day with Arne Schaefer JDPSN in Dresden Zen Center\, Germany\, on 6 October 2018. \nFor registration and more information please contact dresden@kwanumzen.de \nwww.kwanumzen.de/dresden
URL:https://www.kwanumeurope.org/event/zen-day-arne-schaefer-jdpsn-dresden-germany-3/
LOCATION:Zen Zentrum Dresden\, Riesaer Str. 32\, 01127 Dresden\, 01127\, Germany
CATEGORIES:One Day Retreat
ATTACH;FMTTYPE=image/jpeg:https://www.kwanumeurope.org/wp-content/uploads/2016/06/ArneSchaefer230a.jpg
ORGANIZER;CN="Zen Zentrum Dresden":MAILTO:dresden@kwanumzen.de 
GEO:51.0676471;13.74953
X-APPLE-STRUCTURED-LOCATION;VALUE=URI;X-ADDRESS=Zen Zentrum Dresden Riesaer Str. 32 01127 Dresden 01127 Germany;X-APPLE-RADIUS=500;X-TITLE=Riesaer Str. 32:geo:13.74953,51.0676471
END:VEVENT
BEGIN:VEVENT
DTSTART;TZID=Europe/London:20181006T060000
DTEND;TZID=Europe/London:20181006T170000
DTSTAMP:20260419T184208
CREATED:20180614T143631Z
LAST-MODIFIED:20180614T143631Z
UID:10000109-1538805600-1538845200@www.kwanumeurope.org
SUMMARY:Zen Day with Arne Schaefer JDPSN in Dresden\, Germany
DESCRIPTION:We have a Zen Day with Arne Schaefer JDPSN in Dresden Zen Center\, Germany\, on 6 October 2018. \nFor registration and more information please contact dresden@kwanumzen.de \nwww.kwanumzen.de/dresden
URL:https://www.kwanumeurope.org/event/zen-day-arne-schaefer-jdpsn-dresden-germany/
LOCATION:Zen Zentrum Dresden\, Riesaer Str. 32\, 01127 Dresden\, 01127\, Germany
CATEGORIES:One Day Retreat
ATTACH;FMTTYPE=image/jpeg:https://www.kwanumeurope.org/wp-content/uploads/2016/06/ArneSchaefer230a.jpg
ORGANIZER;CN="Zen Zentrum Dresden":MAILTO:dresden@kwanumzen.de 
GEO:51.0676471;13.74953
X-APPLE-STRUCTURED-LOCATION;VALUE=URI;X-ADDRESS=Zen Zentrum Dresden Riesaer Str. 32 01127 Dresden 01127 Germany;X-APPLE-RADIUS=500;X-TITLE=Riesaer Str. 32:geo:13.74953,51.0676471
END:VEVENT
BEGIN:VEVENT
DTSTART;TZID=Europe/London:20180317T060000
DTEND;TZID=Europe/London:20180318T130000
DTSTAMP:20260419T184208
CREATED:20171122T135442Z
LAST-MODIFIED:20171122T135442Z
UID:10000333-1521266400-1521378000@www.kwanumeurope.org
SUMMARY:Zen-Retreat with Dharma Master Jiri Hazlbauer
DESCRIPTION:This workshop with Dharma Master Jiri Hazlbauer is meant as an intense period of practicing Zen\, it is filled with different kinds of meditation as well as bowing\, chanting and interviews with the Master. Please contact the Zen Center Dresden for details.
URL:https://www.kwanumeurope.org/event/zen-retreat-dharma-master-jiri-hazlbauer-3/
LOCATION:Zen Zentrum Dresden\, Riesaer Str. 32\, 01127 Dresden\, 01127\, Germany
CATEGORIES:Major Events
ATTACH;FMTTYPE=image/jpeg:https://www.kwanumeurope.org/wp-content/uploads/2016/09/George-Hazlbauer-JDPSN.jpg
ORGANIZER;CN="Zen Zentrum Dresden":MAILTO:dresden@kwanumzen.de 
GEO:51.0676471;13.74953
X-APPLE-STRUCTURED-LOCATION;VALUE=URI;X-ADDRESS=Zen Zentrum Dresden Riesaer Str. 32 01127 Dresden 01127 Germany;X-APPLE-RADIUS=500;X-TITLE=Riesaer Str. 32:geo:13.74953,51.0676471
END:VEVENT
BEGIN:VEVENT
DTSTART;TZID=Europe/London:20180317T060000
DTEND;TZID=Europe/London:20180318T130000
DTSTAMP:20260419T184208
CREATED:20171122T135442Z
LAST-MODIFIED:20171122T135442Z
UID:10000612-1521266400-1521378000@www.kwanumeurope.org
SUMMARY:Zen-Retreat with Dharma Master Jiri Hazlbauer
DESCRIPTION:This workshop with Dharma Master Jiri Hazlbauer is meant as an intense period of practicing Zen\, it is filled with different kinds of meditation as well as bowing\, chanting and interviews with the Master. Please contact the Zen Center Dresden for details.
URL:https://www.kwanumeurope.org/event/zen-retreat-dharma-master-jiri-hazlbauer-4/
LOCATION:Zen Zentrum Dresden\, Riesaer Str. 32\, 01127 Dresden\, 01127\, Germany
CATEGORIES:Major Events
ATTACH;FMTTYPE=image/jpeg:https://www.kwanumeurope.org/wp-content/uploads/2016/09/George-Hazlbauer-JDPSN.jpg
ORGANIZER;CN="Zen Zentrum Dresden":MAILTO:dresden@kwanumzen.de 
GEO:51.0676471;13.74953
X-APPLE-STRUCTURED-LOCATION;VALUE=URI;X-ADDRESS=Zen Zentrum Dresden Riesaer Str. 32 01127 Dresden 01127 Germany;X-APPLE-RADIUS=500;X-TITLE=Riesaer Str. 32:geo:13.74953,51.0676471
END:VEVENT
BEGIN:VEVENT
DTSTART;TZID=Europe/London:20180317T060000
DTEND;TZID=Europe/London:20180318T130000
DTSTAMP:20260419T184208
CREATED:20171122T135442Z
LAST-MODIFIED:20171122T135442Z
UID:10000073-1521266400-1521378000@www.kwanumeurope.org
SUMMARY:Zen-Retreat with Dharma Master Jiri Hazlbauer
DESCRIPTION:This workshop with Dharma Master Jiri Hazlbauer is meant as an intense period of practicing Zen\, it is filled with different kinds of meditation as well as bowing\, chanting and interviews with the Master. Please contact the Zen Center Dresden for details.
URL:https://www.kwanumeurope.org/event/zen-retreat-dharma-master-jiri-hazlbauer/
LOCATION:Zen Zentrum Dresden\, Riesaer Str. 32\, 01127 Dresden\, 01127\, Germany
CATEGORIES:Major Events
ATTACH;FMTTYPE=image/jpeg:https://www.kwanumeurope.org/wp-content/uploads/2016/09/George-Hazlbauer-JDPSN.jpg
ORGANIZER;CN="Zen Zentrum Dresden":MAILTO:dresden@kwanumzen.de 
GEO:51.0676471;13.74953
X-APPLE-STRUCTURED-LOCATION;VALUE=URI;X-ADDRESS=Zen Zentrum Dresden Riesaer Str. 32 01127 Dresden 01127 Germany;X-APPLE-RADIUS=500;X-TITLE=Riesaer Str. 32:geo:13.74953,51.0676471
END:VEVENT
BEGIN:VEVENT
DTSTART;TZID=Europe/London:20171209T060000
DTEND;TZID=Europe/London:20171209T200000
DTSTAMP:20260419T184208
CREATED:20170925T113715Z
LAST-MODIFIED:20170925T113715Z
UID:10000326-1512799200-1512849600@www.kwanumeurope.org
SUMMARY:Zen day and Christmas party with Dharma Master Arne Schaefer
DESCRIPTION:This workshop with Dharma Master Arne Schaefer  takes place at  Dresden Zen Center\, Riesaer Str. 32\, 01127 Dresden on Dec 9th\, 6 a.m. – 5 p.m. Afterwards\, there will be a Christmas party. \nThe retraet is meant as an intense period of practicing Zen\, it is filled with different kinds of meditation as well as bowing\, chanting and interviews with the Master. \nPlease contact the Kwan Um Zen Group Dresden for details.
URL:https://www.kwanumeurope.org/event/zen-day-christmas-party-dharma-master-arne-schaefer-2/
LOCATION:Zen Zentrum Dresden\, Riesaer Str. 32\, 01127 Dresden\, 01127\, Germany
CATEGORIES:One Day Retreat
ATTACH;FMTTYPE=image/jpeg:https://www.kwanumeurope.org/wp-content/uploads/2017/08/IMG_0017-1-scaled.jpg
ORGANIZER;CN="Zen Zentrum Dresden":MAILTO:dresden@kwanumzen.de 
GEO:51.0676471;13.74953
X-APPLE-STRUCTURED-LOCATION;VALUE=URI;X-ADDRESS=Zen Zentrum Dresden Riesaer Str. 32 01127 Dresden 01127 Germany;X-APPLE-RADIUS=500;X-TITLE=Riesaer Str. 32:geo:13.74953,51.0676471
END:VEVENT
BEGIN:VEVENT
DTSTART;TZID=Europe/London:20171209T060000
DTEND;TZID=Europe/London:20171209T200000
DTSTAMP:20260419T184208
CREATED:20170925T113715Z
LAST-MODIFIED:20170925T113715Z
UID:10000605-1512799200-1512849600@www.kwanumeurope.org
SUMMARY:Zen day and Christmas party with Dharma Master Arne Schaefer
DESCRIPTION:This workshop with Dharma Master Arne Schaefer  takes place at  Dresden Zen Center\, Riesaer Str. 32\, 01127 Dresden on Dec 9th\, 6 a.m. – 5 p.m. Afterwards\, there will be a Christmas party. \nThe retraet is meant as an intense period of practicing Zen\, it is filled with different kinds of meditation as well as bowing\, chanting and interviews with the Master. \nPlease contact the Kwan Um Zen Group Dresden for details.
URL:https://www.kwanumeurope.org/event/zen-day-christmas-party-dharma-master-arne-schaefer-3/
LOCATION:Zen Zentrum Dresden\, Riesaer Str. 32\, 01127 Dresden\, 01127\, Germany
CATEGORIES:One Day Retreat
ATTACH;FMTTYPE=image/jpeg:https://www.kwanumeurope.org/wp-content/uploads/2017/08/IMG_0017-1-scaled.jpg
ORGANIZER;CN="Zen Zentrum Dresden":MAILTO:dresden@kwanumzen.de 
GEO:51.0676471;13.74953
X-APPLE-STRUCTURED-LOCATION;VALUE=URI;X-ADDRESS=Zen Zentrum Dresden Riesaer Str. 32 01127 Dresden 01127 Germany;X-APPLE-RADIUS=500;X-TITLE=Riesaer Str. 32:geo:13.74953,51.0676471
END:VEVENT
BEGIN:VEVENT
DTSTART;TZID=Europe/London:20171209T060000
DTEND;TZID=Europe/London:20171209T200000
DTSTAMP:20260419T184208
CREATED:20170925T113715Z
LAST-MODIFIED:20170925T113715Z
UID:10000066-1512799200-1512849600@www.kwanumeurope.org
SUMMARY:Zen day and Christmas party with Dharma Master Arne Schaefer
DESCRIPTION:This workshop with Dharma Master Arne Schaefer  takes place at  Dresden Zen Center\, Riesaer Str. 32\, 01127 Dresden on Dec 9th\, 6 a.m. – 5 p.m. Afterwards\, there will be a Christmas party. \nThe retraet is meant as an intense period of practicing Zen\, it is filled with different kinds of meditation as well as bowing\, chanting and interviews with the Master. \nPlease contact the Kwan Um Zen Group Dresden for details.
URL:https://www.kwanumeurope.org/event/zen-day-christmas-party-dharma-master-arne-schaefer/
LOCATION:Zen Zentrum Dresden\, Riesaer Str. 32\, 01127 Dresden\, 01127\, Germany
CATEGORIES:One Day Retreat
ATTACH;FMTTYPE=image/jpeg:https://www.kwanumeurope.org/wp-content/uploads/2017/08/IMG_0017-1-scaled.jpg
ORGANIZER;CN="Zen Zentrum Dresden":MAILTO:dresden@kwanumzen.de 
GEO:51.0676471;13.74953
X-APPLE-STRUCTURED-LOCATION;VALUE=URI;X-ADDRESS=Zen Zentrum Dresden Riesaer Str. 32 01127 Dresden 01127 Germany;X-APPLE-RADIUS=500;X-TITLE=Riesaer Str. 32:geo:13.74953,51.0676471
END:VEVENT
BEGIN:VEVENT
DTSTART;TZID=Europe/London:20171118T060000
DTEND;TZID=Europe/London:20171119T150000
DTSTAMP:20260419T184208
CREATED:20170818T124733Z
LAST-MODIFIED:20170818T124733Z
UID:10000322-1510984800-1511103600@www.kwanumeurope.org
SUMMARY:Zen Retreat with Zen Master Gu Ja
DESCRIPTION:This workshop with Zen Master Gu Ja takes place at Dresden Zen Center\, Riesaer Str. 32\, 01127 Dresden from Nov. 18th 6:00 a.m. – Nov. 19th 3:00 p.m. \nThe retraet is meant as an intense period of practicing Zen\, it is filled with different kinds of meditation as well as bowing\, chanting and interviews with the Master. \nPlease contact the Dresden Zen Center for details. \n 
URL:https://www.kwanumeurope.org/event/zen-retreat-zen-master-gu-ja-2-2/
LOCATION:Zen Zentrum Dresden\, Riesaer Str. 32\, 01127 Dresden\, 01127\, Germany
ATTACH;FMTTYPE=image/jpeg:https://www.kwanumeurope.org/wp-content/uploads/2017/07/DSC_4583-1-scaled.jpg
ORGANIZER;CN="Zen Zentrum Dresden":MAILTO:dresden@kwanumzen.de 
GEO:51.0676471;13.74953
X-APPLE-STRUCTURED-LOCATION;VALUE=URI;X-ADDRESS=Zen Zentrum Dresden Riesaer Str. 32 01127 Dresden 01127 Germany;X-APPLE-RADIUS=500;X-TITLE=Riesaer Str. 32:geo:13.74953,51.0676471
END:VEVENT
BEGIN:VEVENT
DTSTART;TZID=Europe/London:20171118T060000
DTEND;TZID=Europe/London:20171119T150000
DTSTAMP:20260419T184208
CREATED:20170818T124733Z
LAST-MODIFIED:20170818T124733Z
UID:10000601-1510984800-1511103600@www.kwanumeurope.org
SUMMARY:Zen Retreat with Zen Master Gu Ja
DESCRIPTION:This workshop with Zen Master Gu Ja takes place at Dresden Zen Center\, Riesaer Str. 32\, 01127 Dresden from Nov. 18th 6:00 a.m. – Nov. 19th 3:00 p.m. \nThe retraet is meant as an intense period of practicing Zen\, it is filled with different kinds of meditation as well as bowing\, chanting and interviews with the Master. \nPlease contact the Dresden Zen Center for details. \n 
URL:https://www.kwanumeurope.org/event/zen-retreat-zen-master-gu-ja-2-3/
LOCATION:Zen Zentrum Dresden\, Riesaer Str. 32\, 01127 Dresden\, 01127\, Germany
ATTACH;FMTTYPE=image/jpeg:https://www.kwanumeurope.org/wp-content/uploads/2017/07/DSC_4583-1-scaled.jpg
ORGANIZER;CN="Zen Zentrum Dresden":MAILTO:dresden@kwanumzen.de 
GEO:51.0676471;13.74953
X-APPLE-STRUCTURED-LOCATION;VALUE=URI;X-ADDRESS=Zen Zentrum Dresden Riesaer Str. 32 01127 Dresden 01127 Germany;X-APPLE-RADIUS=500;X-TITLE=Riesaer Str. 32:geo:13.74953,51.0676471
END:VEVENT
BEGIN:VEVENT
DTSTART;TZID=Europe/London:20171118T060000
DTEND;TZID=Europe/London:20171119T150000
DTSTAMP:20260419T184208
CREATED:20170818T124733Z
LAST-MODIFIED:20170818T124733Z
UID:10000062-1510984800-1511103600@www.kwanumeurope.org
SUMMARY:Zen Retreat with Zen Master Gu Ja
DESCRIPTION:This workshop with Zen Master Gu Ja takes place at Dresden Zen Center\, Riesaer Str. 32\, 01127 Dresden from Nov. 18th 6:00 a.m. – Nov. 19th 3:00 p.m. \nThe retraet is meant as an intense period of practicing Zen\, it is filled with different kinds of meditation as well as bowing\, chanting and interviews with the Master. \nPlease contact the Dresden Zen Center for details. \n 
URL:https://www.kwanumeurope.org/event/zen-retreat-zen-master-gu-ja-2/
LOCATION:Zen Zentrum Dresden\, Riesaer Str. 32\, 01127 Dresden\, 01127\, Germany
ATTACH;FMTTYPE=image/jpeg:https://www.kwanumeurope.org/wp-content/uploads/2017/07/DSC_4583-1-scaled.jpg
ORGANIZER;CN="Zen Zentrum Dresden":MAILTO:dresden@kwanumzen.de 
GEO:51.0676471;13.74953
X-APPLE-STRUCTURED-LOCATION;VALUE=URI;X-ADDRESS=Zen Zentrum Dresden Riesaer Str. 32 01127 Dresden 01127 Germany;X-APPLE-RADIUS=500;X-TITLE=Riesaer Str. 32:geo:13.74953,51.0676471
END:VEVENT
BEGIN:VEVENT
DTSTART;TZID=Europe/Paris:20160604T060000
DTEND;TZID=Europe/Paris:20160605T130000
DTSTAMP:20260419T184208
CREATED:20160424T150250Z
LAST-MODIFIED:20160424T150250Z
UID:10000010-1465020000-1465131600@www.kwanumeurope.org
SUMMARY:YMJJ with Muchak JDPSN\, Dresden
DESCRIPTION:A YMJJ with Muchak JDPSN is to be held in Dresden\, starting at 6:00 on Saturday 4 June 2016 and ending at 13:00 on Sunday 5 June 2016.  Retreat location: Zen Zentrum Dresden\, Louisenstrasse 15\, 01099 Dresden\, Germany.  For further inquiries please contact the organiser.
URL:https://www.kwanumeurope.org/event/ymjj-with-muchak-jdpsn/
LOCATION:Zen Zentrum Dresden\, Riesaer Str. 32\, 01127 Dresden\, 01127\, Germany
CATEGORIES:Yong Maeng Jong Jin
ATTACH;FMTTYPE=image/jpeg:https://www.kwanumeurope.org/wp-content/uploads/2016/04/Muchak230.jpg
ORGANIZER;CN="Zen Zentrum Dresden":MAILTO:dresden@kwanumzen.de 
GEO:51.0676471;13.74953
X-APPLE-STRUCTURED-LOCATION;VALUE=URI;X-ADDRESS=Zen Zentrum Dresden Riesaer Str. 32 01127 Dresden 01127 Germany;X-APPLE-RADIUS=500;X-TITLE=Riesaer Str. 32:geo:13.74953,51.0676471
END:VEVENT
BEGIN:VEVENT
DTSTART;TZID=Europe/Paris:20160604T060000
DTEND;TZID=Europe/Paris:20160605T130000
DTSTAMP:20260419T184208
CREATED:20160424T150250Z
LAST-MODIFIED:20160424T150250Z
UID:10000545-1465020000-1465131600@www.kwanumeurope.org
SUMMARY:YMJJ with Muchak JDPSN\, Dresden
DESCRIPTION:A YMJJ with Muchak JDPSN is to be held in Dresden\, starting at 6:00 on Saturday 4 June 2016 and ending at 13:00 on Sunday 5 June 2016.  Retreat location: Zen Zentrum Dresden\, Louisenstrasse 15\, 01099 Dresden\, Germany.  For further inquiries please contact the organiser.
URL:https://www.kwanumeurope.org/event/ymjj-with-muchak-jdpsn-3/
LOCATION:Zen Zentrum Dresden\, Riesaer Str. 32\, 01127 Dresden\, 01127\, Germany
CATEGORIES:Yong Maeng Jong Jin
ATTACH;FMTTYPE=image/jpeg:https://www.kwanumeurope.org/wp-content/uploads/2016/04/Muchak230.jpg
ORGANIZER;CN="Zen Zentrum Dresden":MAILTO:dresden@kwanumzen.de 
GEO:51.0676471;13.74953
X-APPLE-STRUCTURED-LOCATION;VALUE=URI;X-ADDRESS=Zen Zentrum Dresden Riesaer Str. 32 01127 Dresden 01127 Germany;X-APPLE-RADIUS=500;X-TITLE=Riesaer Str. 32:geo:13.74953,51.0676471
END:VEVENT
BEGIN:VEVENT
DTSTART;TZID=Europe/Paris:20160604T060000
DTEND;TZID=Europe/Paris:20160605T130000
DTSTAMP:20260419T184208
CREATED:20160424T150250Z
LAST-MODIFIED:20160424T150250Z
UID:10000269-1465020000-1465131600@www.kwanumeurope.org
SUMMARY:YMJJ with Muchak JDPSN\, Dresden
DESCRIPTION:A YMJJ with Muchak JDPSN is to be held in Dresden\, starting at 6:00 on Saturday 4 June 2016 and ending at 13:00 on Sunday 5 June 2016.  Retreat location: Zen Zentrum Dresden\, Louisenstrasse 15\, 01099 Dresden\, Germany.  For further inquiries please contact the organiser.
URL:https://www.kwanumeurope.org/event/ymjj-with-muchak-jdpsn-2/
LOCATION:Zen Zentrum Dresden\, Riesaer Str. 32\, 01127 Dresden\, 01127\, Germany
CATEGORIES:Yong Maeng Jong Jin
ATTACH;FMTTYPE=image/jpeg:https://www.kwanumeurope.org/wp-content/uploads/2016/04/Muchak230.jpg
ORGANIZER;CN="Zen Zentrum Dresden":MAILTO:dresden@kwanumzen.de 
GEO:51.0676471;13.74953
X-APPLE-STRUCTURED-LOCATION;VALUE=URI;X-ADDRESS=Zen Zentrum Dresden Riesaer Str. 32 01127 Dresden 01127 Germany;X-APPLE-RADIUS=500;X-TITLE=Riesaer Str. 32:geo:13.74953,51.0676471
END:VEVENT
END:VCALENDAR