﻿BEGIN:VCALENDAR
VERSION:2.0
PRODID:-//Kwan Um School Of Zen Europe - ECPv6.15.17.1//NONSGML v1.0//EN
CALSCALE:GREGORIAN
METHOD:PUBLISH
X-ORIGINAL-URL:https://www.kwanumeurope.org
X-WR-CALDESC:Events for Kwan Um School Of Zen Europe
REFRESH-INTERVAL;VALUE=DURATION:PT1H
X-Robots-Tag:noindex
X-PUBLISHED-TTL:PT1H
BEGIN:VTIMEZONE
TZID:Europe/London
BEGIN:DAYLIGHT
TZOFFSETFROM:+0000
TZOFFSETTO:+0100
TZNAME:BST
DTSTART:20220327T010000
END:DAYLIGHT
BEGIN:STANDARD
TZOFFSETFROM:+0100
TZOFFSETTO:+0000
TZNAME:GMT
DTSTART:20221030T010000
END:STANDARD
BEGIN:DAYLIGHT
TZOFFSETFROM:+0000
TZOFFSETTO:+0100
TZNAME:BST
DTSTART:20230326T010000
END:DAYLIGHT
BEGIN:STANDARD
TZOFFSETFROM:+0100
TZOFFSETTO:+0000
TZNAME:GMT
DTSTART:20231029T010000
END:STANDARD
BEGIN:DAYLIGHT
TZOFFSETFROM:+0000
TZOFFSETTO:+0100
TZNAME:BST
DTSTART:20240331T010000
END:DAYLIGHT
BEGIN:STANDARD
TZOFFSETFROM:+0100
TZOFFSETTO:+0000
TZNAME:GMT
DTSTART:20241027T010000
END:STANDARD
END:VTIMEZONE
BEGIN:VTIMEZONE
TZID:Europe/Vienna
BEGIN:DAYLIGHT
TZOFFSETFROM:+0100
TZOFFSETTO:+0200
TZNAME:CEST
DTSTART:20200329T010000
END:DAYLIGHT
BEGIN:STANDARD
TZOFFSETFROM:+0200
TZOFFSETTO:+0100
TZNAME:CET
DTSTART:20201025T010000
END:STANDARD
BEGIN:DAYLIGHT
TZOFFSETFROM:+0100
TZOFFSETTO:+0200
TZNAME:CEST
DTSTART:20210328T010000
END:DAYLIGHT
BEGIN:STANDARD
TZOFFSETFROM:+0200
TZOFFSETTO:+0100
TZNAME:CET
DTSTART:20211031T010000
END:STANDARD
BEGIN:DAYLIGHT
TZOFFSETFROM:+0100
TZOFFSETTO:+0200
TZNAME:CEST
DTSTART:20220327T010000
END:DAYLIGHT
BEGIN:STANDARD
TZOFFSETFROM:+0200
TZOFFSETTO:+0100
TZNAME:CET
DTSTART:20221030T010000
END:STANDARD
END:VTIMEZONE
BEGIN:VEVENT
DTSTART;TZID=Europe/London:20230909T065000
DTEND;TZID=Europe/London:20230909T160000
DTSTAMP:20260421T121921
CREATED:20230824T134407Z
LAST-MODIFIED:20230824T134407Z
UID:10000851-1694242200-1694275200@www.kwanumeurope.org
SUMMARY:Vienna and Bratislava Zen Centers: Zen Day (hybrid) – Saturday\, September 9\, 2023
DESCRIPTION:Teachers: Jan Sendzimir JDPSN\, Alma SSN (ZM Hyon Ja) \nBeginning: 6:50 a.m. \nEnd: 4:00 p.m. \nZen Days are short retreats that give us an opportunity to deepen our practice and come back to our breath. We look through our habitual thought patterns and find the source of our deepest wisdom and compassion. \nThis joint (hybrid) Zen Day of the Vienna Zen Center and the Bratislava Zen Center will take place at the Vienna Zen Center\, the Bratislava Zen Center\, and via Zoom. \n➾ More information and registration \n  \n  \n 
URL:https://www.kwanumeurope.org/event/vienna-and-bratislava-zen-centers-zen-day-hybrid-saturday-september-9-2023/
LOCATION:Vienna Zen Center/Zoom\, Zen Zentrum Wien c/o Amida-Zentrum; Neubaugasse 12-14/Stiege 2(durch Innenhof)/Mez/Studio 4+5\, Vienna\, 1070\, Austria
CATEGORIES:One Day Retreat
ATTACH;FMTTYPE=image/png:https://www.kwanumeurope.org/wp-content/uploads/2023/08/ZD-2023-09-09-VCZ-BZC-Flyer-schmal.png
ORGANIZER;CN="Zen Zentrum Wien/Vienna Zen Center":MAILTO:vienna.zen.center@gmail.com
END:VEVENT
BEGIN:VEVENT
DTSTART;TZID=Europe/Vienna:20210417T070000
DTEND;TZID=Europe/Vienna:20210417T163000
DTSTAMP:20260421T121922
CREATED:20210411T191315Z
LAST-MODIFIED:20210411T191315Z
UID:10000205-1618642800-1618677000@www.kwanumeurope.org
SUMMARY:Zen Day/Zoom: Saturday\, April 17\, 2021 (ZM Hyong Ja\, Knud Rosenmayr JDPSN)
DESCRIPTION:  \nThis Zen Day with ZM Hyong Ja and Knud Rosenmayr JDPSN is meant as an intense period of practicing Zen. We start with the 108 prostrations at 7 a.m.\, followed by periods of sitting and walking meditation\, chanting\, and Kong-an interviews. The second entry is at 10 a.m. \nThe one-day retreat will offer a final dharma talk and a Q&A for all participants. \nPlease register at least one day prior to this event. \n➾ Find out more… \n  \n 
URL:https://www.kwanumeurope.org/event/zen-day-zoom-saturday-april-17-2021-zm-hyong-ja-knud-rosenmayr-jdpsn/
LOCATION:Vienna Zen Center/Zoom\, Zen Zentrum Wien c/o Amida-Zentrum; Neubaugasse 12-14/Stiege 2(durch Innenhof)/Mez/Studio 4+5\, Vienna\, 1070\, Austria
CATEGORIES:One Day Retreat
ATTACH;FMTTYPE=image/jpeg:https://www.kwanumeurope.org/wp-content/uploads/2021/04/DSCF7365-Zen-Master-Hyon-Ja-1.jpg
ORGANIZER;CN="Zen Zentrum Wien/Vienna Zen Center":MAILTO:vienna.zen.center@gmail.com
END:VEVENT
BEGIN:VEVENT
DTSTART;TZID=Europe/Vienna:20210417T070000
DTEND;TZID=Europe/Vienna:20210417T163000
DTSTAMP:20260421T121922
CREATED:20210411T191315Z
LAST-MODIFIED:20210411T191315Z
UID:10000465-1618642800-1618677000@www.kwanumeurope.org
SUMMARY:Zen Day/Zoom: Saturday\, April 17\, 2021 (ZM Hyong Ja\, Knud Rosenmayr JDPSN)
DESCRIPTION:  \nThis Zen Day with ZM Hyong Ja and Knud Rosenmayr JDPSN is meant as an intense period of practicing Zen. We start with the 108 prostrations at 7 a.m.\, followed by periods of sitting and walking meditation\, chanting\, and Kong-an interviews. The second entry is at 10 a.m. \nThe one-day retreat will offer a final dharma talk and a Q&A for all participants. \nPlease register at least one day prior to this event. \n➾ Find out more… \n  \n 
URL:https://www.kwanumeurope.org/event/zen-day-zoom-saturday-april-17-2021-zm-hyong-ja-knud-rosenmayr-jdpsn-2/
LOCATION:Vienna Zen Center/Zoom\, Zen Zentrum Wien c/o Amida-Zentrum; Neubaugasse 12-14/Stiege 2(durch Innenhof)/Mez/Studio 4+5\, Vienna\, 1070\, Austria
CATEGORIES:One Day Retreat
ATTACH;FMTTYPE=image/jpeg:https://www.kwanumeurope.org/wp-content/uploads/2021/04/DSCF7365-Zen-Master-Hyon-Ja-1.jpg
ORGANIZER;CN="Zen Zentrum Wien/Vienna Zen Center":MAILTO:vienna.zen.center@gmail.com
END:VEVENT
BEGIN:VEVENT
DTSTART;TZID=Europe/Vienna:20210417T070000
DTEND;TZID=Europe/Vienna:20210417T163000
DTSTAMP:20260421T121922
CREATED:20210411T191315Z
LAST-MODIFIED:20210411T191315Z
UID:10000748-1618642800-1618677000@www.kwanumeurope.org
SUMMARY:Zen Day/Zoom: Saturday\, April 17\, 2021 (ZM Hyong Ja\, Knud Rosenmayr JDPSN)
DESCRIPTION:  \nThis Zen Day with ZM Hyong Ja and Knud Rosenmayr JDPSN is meant as an intense period of practicing Zen. We start with the 108 prostrations at 7 a.m.\, followed by periods of sitting and walking meditation\, chanting\, and Kong-an interviews. The second entry is at 10 a.m. \nThe one-day retreat will offer a final dharma talk and a Q&A for all participants. \nPlease register at least one day prior to this event. \n➾ Find out more… \n  \n 
URL:https://www.kwanumeurope.org/event/zen-day-zoom-saturday-april-17-2021-zm-hyong-ja-knud-rosenmayr-jdpsn-3/
LOCATION:Vienna Zen Center/Zoom\, Zen Zentrum Wien c/o Amida-Zentrum; Neubaugasse 12-14/Stiege 2(durch Innenhof)/Mez/Studio 4+5\, Vienna\, 1070\, Austria
CATEGORIES:One Day Retreat
ATTACH;FMTTYPE=image/jpeg:https://www.kwanumeurope.org/wp-content/uploads/2021/04/DSCF7365-Zen-Master-Hyon-Ja-1.jpg
ORGANIZER;CN="Zen Zentrum Wien/Vienna Zen Center":MAILTO:vienna.zen.center@gmail.com
END:VEVENT
END:VCALENDAR